Workbook

Sheet Input-Output
G1: Length (L) | V1: Perimeter Length | AM1: 2.5 | AN1: ROOF | AV1: 2.5 | AX1: 2 | AY1: 10 | AZ1: 10 | BA1: 10 | BB1: 10 | BC1: 10 | BD1: 10 | BE1: 10 | BF1: 10 | BG1: 10 | BH1: 10 | BI1: 10 | BJ1: 3 | BK1: 6 | BL1: 6 | BM1: 6.5 | BN1: 7 | BO1: 6.5 | BP1: 5 | BQ1: 1 | BS1: 6 | BT1: 6 | BU1: 6.5 | BV1: 7 | BW1: 6.5 | BY1: 6.5 | BZ1: 5.5 | CA1: 5.5 | CB1: 5.5 | CC1: 7 | CD1: 7 | CE1: 8 | CF1: 8 | CG1: 7 | CH1: 2 | CI1: 5 | CJ1: 5 | CK1: 5 | CL1: 5 | CM1: 5 | CN1: 5 | CO1: 5 | CP1: 5 | CQ1: 5 | CR1: 2 | CS1: 2 | CT1: 5.5 | CU1: 5.5 | CV1: 6 | CW1: 7 | CX1: 6 | CZ1: 6.5 | DA1: 5.5 | DB1: 5.5 | DC1: 5.5 | DD1: 7 | DE1: 7 | DF1: 8 | DG1: 8 | DH1: 7 | DI1: 5 | DJ1: 5 | DK1: 5 | DL1: 5 | DM1: 5 | DN1: 5 | DO1: 5 | DP1: 5 | DQ1: 5 | DR1: 5
C2: Width (W) | F2: Perimeter Zone (PZ) | AR2: MECHANICAL | AY2: Building Pressurization - | BB2: P = 2 * pi * SQRT( W*L / pi) | BE2: 3.1415927 | BF2: USER INPUT | BH2: CALCULATED | BK2: Calc | BL2: Sctn | BM2: Bldg | BN2: Flr-H + Sea-Lvl | BP2: Floor | BS2: Calc | BT2: Sctn | BU2: Bldg | BV2: Flr-H + Sea-Lvl | BY2: Outdr-Air from Sheet 'SMMR-Calcs' | CE2: SUMMER | CG2: Coolg | CI2: Bldg | CJ2: Summer - Infiltr-Exfiltr - Q cfm - Design-Day | CQ2: Bldg | CT2: Calc | CU2: Sctn | CV2: Bldg | CW2: Flr-H + Sea-Lvl | CZ2: Outdr-Air from Sheet 'WNTR-Calcs' | DF2: WINTER | DH2: Coolg | DJ2: Bldg | DK2: Winter - Infiltr-Exfiltr - Q cfm - Design-Day | DR2: Bldg
AE3: b | AP3: S-8 | AS3: Restaurant | AY3: Stack Effect & Wind Press Infltration | BK3: ID # | BL3: Flr # | BM3: Flr-# | BN3: ft | BO3: m | BP3: Data | BS3: ID # | BT3: Flr # | BU3: Flr-# | BV3: ft | BW3: m | CG3: Load / | CI3: Flr-# | CJ3: Infiltration | CN3: Exfiltration | CQ3: Flr-# | CT3: ID # | CU3: Flr # | CV3: Flr-# | CW3: ft | CX3: m | DH3: Load / | DJ3: Flr-# | DK3: Infiltration | DO3: Exfiltration | DR3: Flr-#
F4: Interior Zone (IZ) | AZ4: PROJECT Data | BA4: Description | BG4: DESIGN Data | BH4: SMMR | BI4: WNTR | CG4: Year | DH4: Year
H5: Core | AZ5: Project Name | BA5: Tall Mixed-Use Building (Description) | BG5: Wnd (mph) Grnd | BH5: 5 | BI5: 10 | BK5: Section >> | BM5: =BI14 -> 8-din | BN5: # flrs >> | BO5: =BI42 -> 3 | BP5: =SUM(BP6:BP8) -> 2 | BS5: =BK5 -> Section >> | BU5: =BM5 -> 8-din | BV5: =BN5 -> # flrs >> | BW5: =BO5 -> 3 | BY5: in.Hg | BZ5: Wnd-V | CA5: Tdb | CB5: Twb | CC5: Enth | CD5: Dens | CE5: Q cfm | CF5: Q/ EnA | CG5: Tons | CI5: =$BM$74 -> 1 | CQ5: =$BM$74 -> 1 | CT5: =BK5 -> Section >> | CV5: =BM5 -> 8-din | CW5: =BN5 -> # flrs >> | CX5: =BO5 -> 3 | CZ5: in.Hg | DA5: Wnd-V | DB5: Tdb | DC5: Twb | DD5: Enth | DE5: Dens | DF5: Q cfm | DG5: Q/ EnA | DH5: Tons | DJ5: =$BM$74 -> 1 | DR5: =$BM$74 -> 1
H6: Zone | AZ6: Project Analyst | BA6: VCT (Description) | BG6: Wnd (mph) Roof | BH6: 15 | BI6: 25 | BK6: =BK7+1 -> 61 | BL6: 0 | BM6: =IF(BL6<=0, "XX", BB$42 + BC$42 + BD$42 + BE$42 + BF$42 + BG$42 + +BL6) -> XX | BN6: =IF(BM6="XX", "XX", $BB$9 + BB$44 + BC$44 + BD$44 +BE$44 + BF$44 +BG$44 + BL6*BH$20) -> XX | BO6: =IF(BM6="XX", "XX", BN6*0.3048) -> XX | BP6: =IF( (BL6>0),1, 0) -> 0 | BS6: =BK6 -> 61 | BT6: =BL6 -> 0 | BU6: =BM6 -> XX | BV6: =BN6 -> XX | BW6: =IF(BU6="XX", "XX", BV6*0.3048) -> XX | BY6: ='SMMR-Calcs'!H11 -> XX | BZ6: ='SMMR-Calcs'!K11 -> XX | CA6: ='SMMR-Calcs'!L11 -> XX | CB6: ='SMMR-Calcs'!M11 -> XX | CC6: ='SMMR-Calcs'!S11 -> XX | CD6: ='SMMR-Calcs'!R11 -> XX | CE6: ='SMMR-Calcs'!AS11 -> 0 | CF6: ='SMMR-Calcs'!AT11 -> XX | CG6: ='SMMR-Calcs'!AV11 -> 0 | CI6: =$BM$73 -> 2 | CQ6: =$BM$73 -> 2 | CT6: =BK6 -> 61 | CU6: =BL6 -> 0 | CV6: =BM6 -> XX | CW6: =BN6 -> XX | CX6: =BO6 -> XX | CZ6: ='WNTR-Calcs'!H11 -> XX | DA6: ='WNTR-Calcs'!K11 -> XX | DB6: ='WNTR-Calcs'!L11 -> XX | DC6: ='WNTR-Calcs'!M11 -> XX | DD6: ='WNTR-Calcs'!S11 -> XX | DE6: ='WNTR-Calcs'!R11 -> XX | DF6: ='WNTR-Calcs'!AS11 -> 0 | DG6: ='WNTR-Calcs'!AT11 -> XX | DH6: ='WNTR-Calcs'!AV11 -> 0 | DJ6: =$BM$73 -> 2 | DR6: =$BM$73 -> 2
AZ7: Building Type | BA7: Mixed Use High Rise (Description) | BG7: Wnd Dir (0-360) | BH7: 180 | BI7: 315 | BK7: =BK8+1 -> 60 | BL7: 2 | BM7: =IF(BL7<=0, "XX", BB$42 + BC$42 + BD$42 + BE$42 + BF$42 + BG$42 + BH$42+BL7) -> 101 | BN7: =IF(BM7="XX", "XX", $BB$9 + BB$44 + BC$44 + BD$44 +BE$44 + BF$44 +BG$44 + BH$44+ BL7*BI$20) -> 1789 | BO7: =IF(BM7="XX", "XX", BN7*0.3048) -> 545.2872 | BP7: =IF( (BL7>0),1, 0) -> 1 | BS7: =BK7 -> 60 | BT7: =BL7 -> 2 | BU7: =BM7 -> 101 | BV7: =BN7 -> 1789 | BW7: =IF(BU7="XX", "XX", BV7*0.3048) -> 545.2872 | BY7: ='SMMR-Calcs'!H12 -> 28.113401 | BZ7: ='SMMR-Calcs'!K12 -> 14.847212 | CA7: ='SMMR-Calcs'!L12 -> 90.41116 | CB7: ='SMMR-Calcs'!M12 -> 71.98374 | CC7: ='SMMR-Calcs'!S12 -> 36.865715 | CD7: ='SMMR-Calcs'!R12 -> 0.066283591 | CE7: ='SMMR-Calcs'!AS12 -> 850.58919 | CF7: ='SMMR-Calcs'!AT12 -> 0.11923051 | CG7: ='SMMR-Calcs'!AV12 -> 2461.9453 | CI7: =$BM$72 -> 1-Grd | CQ7: =$BM$72 -> 1-Grd | CT7: =BK7 -> 60 | CU7: =BL7 -> 2 | CV7: =BM7 -> 101 | CW7: =BN7 -> 1789 | CX7: =BO7 -> 545.2872 | CZ7: ='WNTR-Calcs'!H12 -> 28.113401 | DA7: ='WNTR-Calcs'!K12 -> 24.770817 | DB7: ='WNTR-Calcs'!L12 -> -24.58884 | DC7: ='WNTR-Calcs'!M12 -> -23.01626 | DD7: ='WNTR-Calcs'!S12 -> -5.208755 | DE7: ='WNTR-Calcs'!R12 -> 0.085567487 | DF7: ='WNTR-Calcs'!AS12 -> -4035.9389 | DG7: ='WNTR-Calcs'!AT12 -> -0.56573382 | DH7: ='WNTR-Calcs'!AV12 -> -34787.695 | DJ7: =$BM$72 -> 1-Grd | DR7: =$BM$72 -> 1-Grd
AP8: S-7 | AS8: Apartments | AZ8: Location | BA8: Minneapolis, MN, USA (Description) | BG8: Outdoor DB (F) | BH8: 95 | BI8: -20 | BK8: =BK10+1 -> 59 | BL8: 1 | BM8: =IF(BL8<=0, "XX", BB$42 + BC$42 + BD$42 + BE$42 + BF$42 + BG$42 + BH$42+BL8) -> 100 | BN8: =IF(BM8="XX", "XX", $BB$9 + BB$44 + BC$44 + BD$44 +BE$44 + BF$44 +BG$44 + BH$44+ BL8*BI$20) -> 1774 | BO8: =IF(BM8="XX", "XX", BN8*0.3048) -> 540.7152 | BP8: =IF( (BL8>0),1, 0) -> 1 | BS8: =BK8 -> 59 | BT8: =BL8 -> 1 | BU8: =BM8 -> 100 | BV8: =BN8 -> 1774 | BW8: =IF(BU8="XX", "XX", BV8*0.3048) -> 540.7152 | BY8: ='SMMR-Calcs'!H13 -> 28.128832 | BZ8: ='SMMR-Calcs'!K13 -> 14.73262 | CA8: ='SMMR-Calcs'!L13 -> 90.46456 | CB8: ='SMMR-Calcs'!M13 -> 72.01884 | CC8: ='SMMR-Calcs'!S13 -> 36.887082 | CD8: ='SMMR-Calcs'!R13 -> 0.066312757 | CE8: ='SMMR-Calcs'!AS13 -> 824.03553 | CF8: ='SMMR-Calcs'!AT13 -> 0.11550838 | CG8: ='SMMR-Calcs'!AV13 -> 2385.0884 | CI8: =$BM$71 -> 3 | CQ8: =$BM$71 -> 3 | CT8: =BK8 -> 59 | CU8: =BL8 -> 1 | CV8: =BM8 -> 100 | CW8: =BN8 -> 1774 | CX8: =BO8 -> 540.7152 | CZ8: ='WNTR-Calcs'!H13 -> 28.128832 | DA8: ='WNTR-Calcs'!K13 -> 24.59893 | DB8: ='WNTR-Calcs'!L13 -> -24.53544 | DC8: ='WNTR-Calcs'!M13 -> -22.98116 | DD8: ='WNTR-Calcs'!S13 -> -5.1996623 | DE8: ='WNTR-Calcs'!R13 -> 0.085604438 | DF8: ='WNTR-Calcs'!AS13 -> -3990.6408 | DG8: ='WNTR-Calcs'!AT13 -> -0.5593842 | DH8: ='WNTR-Calcs'!AV13 -> -34397.249 | DJ8: =$BM$71 -> 3 | DR8: =$BM$71 -> 3
BA9: Site Altit (ft) ref Sea Level | BB9: 500 | BD9: Mechan Flr-Flr-H | BE9: 20 | BG9: Outdoor WB (F) | BH9: 75 | BI9: -20 | BK9: Section >> | BM9: =BH14 -> 7-Apt | BN9: # flrs >> | BO9: =BH42+COUNT(BL6:BL8) -> 19 | BP9: =SUM(BP10:BP21) -> 11 | BS9: =BK9 -> Section >> | BU9: =BM9 -> 7-Apt | BV9: =BN9 -> # flrs >> | BW9: =BO9 -> 19 | BY9: in.Hg | BZ9: Wnd-V | CA9: Tdb | CB9: Twb | CC9: Enth | CD9: Dens | CE9: Q cfm | CF9: Q/ EnA | CG9: Tons | CI9: =$BM$70 -> 4 | CQ9: =$BM$70 -> 4 | CT9: =BK9 -> Section >> | CV9: =BM9 -> 7-Apt | CW9: =BN9 -> # flrs >> | CX9: =BO9 -> 19 | CZ9: in.Hg | DA9: Wnd-V | DB9: Tdb | DC9: Twb | DD9: Enth | DE9: Dens | DF9: Q cfm | DG9: Q/ EnA | DH9: Tons | DJ9: =$BM$70 -> 4 | DR9: =$BM$70 -> 4
AB10: a | BA10: Leakage Air Flow Coeff. Cd | BB10: 0.65 | BD10: Core Area (%) | BE10: 10 | BG10: Degree-Days | BH10: 2680 | BI10: 7981 | BK10: =BK11+1 -> 58 | BL10: 0 | BM10: =IF(BL10<=0, "XX", BB$42 + BC$42 + BD$42 + BE$42 + BF$42 + BG$42 + +BL10) -> XX | BN10: =IF(BM10="XX", "XX", $BB$9 + BB$44 + BC$44 + BD$44 +BE$44 + BF$44 +BG$44 + BL10*BH$20) -> XX | BO10: =IF(BM10="XX", "XX", BN10*0.3048) -> XX | BP10: =IF( (BL10>0),1, 0) -> 0 | BS10: =BK10 -> 58 | BT10: =BL10 -> 0 | BU10: =BM10 -> XX | BV10: =BN10 -> XX | BW10: =IF(BU10="XX", "XX", BV10*0.3048) -> XX | BY10: ='SMMR-Calcs'!H15 -> XX | BZ10: ='SMMR-Calcs'!K15 -> XX | CA10: ='SMMR-Calcs'!L15 -> XX | CB10: ='SMMR-Calcs'!M15 -> XX | CC10: ='SMMR-Calcs'!S15 -> XX | CD10: ='SMMR-Calcs'!R15 -> XX | CE10: ='SMMR-Calcs'!AS15 -> 0 | CF10: ='SMMR-Calcs'!AT15 -> XX | CG10: ='SMMR-Calcs'!AV15 -> 0 | CI10: =$BM$69 -> 5 | CQ10: =$BM$69 -> 5 | CT10: =BK10 -> 58 | CU10: =BL10 -> 0 | CV10: =BM10 -> XX | CW10: =BN10 -> XX | CX10: =BO10 -> XX | CZ10: ='WNTR-Calcs'!H15 -> XX | DA10: ='WNTR-Calcs'!K15 -> XX | DB10: ='WNTR-Calcs'!L15 -> XX | DC10: ='WNTR-Calcs'!M15 -> XX | DD10: ='WNTR-Calcs'!S15 -> XX | DE10: ='WNTR-Calcs'!R15 -> XX | DF10: ='WNTR-Calcs'!AS15 -> 0 | DG10: ='WNTR-Calcs'!AT15 -> XX | DH10: ='WNTR-Calcs'!AV15 -> 0 | DJ10: =$BM$69 -> 5 | DR10: =$BM$69 -> 5
C11: Rectangle | L11: Circle | BA11: Avg Envelope Leakage (%) | BB11: 0.6 | BD11: Perim-Zone-D | BE11: 15 | BG11: Indoor DB (F) | BH11: 75 | BI11: 72 | BK11: =BK12+1 -> 57 | BL11: 19 | BM11: =IF(BL11<=0, "XX", BB$42 + BC$42 + BD$42 + BE$42 + BF$42 + BG$42 + +BL11) -> 102 | BN11: =IF(BM11="XX", "XX", $BB$9 + BB$44 + BC$44 + BD$44 +BE$44 + BF$44 +BG$44 + BL11*BH$20) -> 1779 | BO11: =IF(BM11="XX", "XX", BN11*0.3048) -> 542.2392 | BP11: =IF( (BL11>0),1, 0) -> 1 | BS11: =BK11 -> 57 | BT11: =BL11 -> 19 | BU11: =BM11 -> 102 | BV11: =BN11 -> 1779 | BW11: =IF(BU11="XX", "XX", BV11*0.3048) -> 542.2392 | BY11: ='SMMR-Calcs'!H16 -> 28.123688 | BZ11: ='SMMR-Calcs'!K16 -> 14.770817 | CA11: ='SMMR-Calcs'!L16 -> 90.44676 | CB11: ='SMMR-Calcs'!M16 -> 72.00714 | CC11: ='SMMR-Calcs'!S16 -> 36.879959 | CD11: ='SMMR-Calcs'!R16 -> 0.066303034 | CE11: ='SMMR-Calcs'!AS16 -> 1061.637 | CF11: ='SMMR-Calcs'!AT16 -> 0.22322091 | CG11: ='SMMR-Calcs'!AV16 -> 3439.704 | CI11: =$BM$68 -> 2-Rtl | CQ11: =$BM$68 -> 2-Rtl | CT11: =BK11 -> 57 | CU11: =BL11 -> 19 | CV11: =BM11 -> 102 | CW11: =BN11 -> 1779 | CX11: =BO11 -> 542.2392 | CZ11: ='WNTR-Calcs'!H16 -> 28.123688 | DA11: ='WNTR-Calcs'!K16 -> 24.656226 | DB11: ='WNTR-Calcs'!L16 -> -24.55324 | DC11: ='WNTR-Calcs'!M16 -> -22.99286 | DD11: ='WNTR-Calcs'!S16 -> -5.2026932 | DE11: ='WNTR-Calcs'!R16 -> 0.08559212 | DF11: ='WNTR-Calcs'!AS16 -> -3856.3273 | DG11: ='WNTR-Calcs'!AT16 -> -0.8108354 | DH11: ='WNTR-Calcs'!AV16 -> -12494.5 | DJ11: =$BM$68 -> 2-Rtl | DR11: =$BM$68 -> 2-Rtl
C12: Area : A = L * W | L12: Area : A = PI *R^2 | T12: Oval | BA12: Avg Envl Leakg Area (ft2/ft2) | BB12: 0.01 | BD12: Column Dist (ft) | BE12: 31 | BG12: Indoor WB (F) | BH12: 62 | BI12: 55 | BK12: =BK13+1 -> 56 | BL12: 17 | BM12: =IF(BL12<=0, "XX", BB$42 + BC$42 + BD$42 + BE$42 + BF$42 + BG$42 + +BL12) -> 100 | BN12: =IF(BM12="XX", "XX", $BB$9 + BB$44 + BC$44 + BD$44 +BE$44 + BF$44 +BG$44 + BL12*BH$20) -> 1759 | BO12: =IF(BM12="XX", "XX", BN12*0.3048) -> 536.1432 | BP12: =IF( (BL12>0),1, 0) -> 1 | BS12: =BK12 -> 56 | BT12: =BL12 -> 17 | BU12: =BM12 -> 100 | BV12: =BN12 -> 1759 | BW12: =IF(BU12="XX", "XX", BV12*0.3048) -> 536.1432 | BY12: ='SMMR-Calcs'!H17 -> 28.144271 | BZ12: ='SMMR-Calcs'!K17 -> 14.618029 | CA12: ='SMMR-Calcs'!L17 -> 90.51796 | CB12: ='SMMR-Calcs'!M17 -> 72.05394 | CC12: ='SMMR-Calcs'!S17 -> 36.908456 | CD12: ='SMMR-Calcs'!R17 -> 0.066341932 | CE12: ='SMMR-Calcs'!AS17 -> 1034.4563 | CF12: ='SMMR-Calcs'!AT17 -> 0.21750587 | CG12: ='SMMR-Calcs'!AV17 -> 3351.6385 | CI12: =$BM$67 -> 7 | CQ12: =$BM$67 -> 7 | CT12: =BK12 -> 56 | CU12: =BL12 -> 17 | CV12: =BM12 -> 100 | CW12: =BN12 -> 1759 | CX12: =BO12 -> 536.1432 | CZ12: ='WNTR-Calcs'!H17 -> 28.144271 | DA12: ='WNTR-Calcs'!K17 -> 24.427044 | DB12: ='WNTR-Calcs'!L17 -> -24.48204 | DC12: ='WNTR-Calcs'!M17 -> -22.94606 | DD12: ='WNTR-Calcs'!S17 -> -5.1905695 | DE12: ='WNTR-Calcs'!R17 -> 0.085641401 | DF12: ='WNTR-Calcs'!AS17 -> -3796.2681 | DG12: ='WNTR-Calcs'!AT17 -> -0.79820729 | DH12: ='WNTR-Calcs'!AV17 -> -12299.909 | DJ12: =$BM$67 -> 7 | DR12: =$BM$67 -> 7
C13: Perimeter : P = 2 * (L+W) | L13: Perimeter: P = 2 * PI * R | T13: Area (approx) : A = PI * a * b | BK13: =BK14+1 -> 55 | BL13: 15 | BM13: =IF(BL13<=0, "XX", BB$42 + BC$42 + BD$42 + BE$42 + BF$42 + BG$42 + +BL13) -> 98 | BN13: =IF(BM13="XX", "XX", $BB$9 + BB$44 + BC$44 + BD$44 +BE$44 + BF$44 +BG$44 + BL13*BH$20) -> 1739 | BO13: =IF(BM13="XX", "XX", BN13*0.3048) -> 530.0472 | BP13: =IF( (BL13>0),1, 0) -> 1 | BS13: =BK13 -> 55 | BT13: =BL13 -> 15 | BU13: =BM13 -> 98 | BV13: =BN13 -> 1739 | BW13: =IF(BU13="XX", "XX", BV13*0.3048) -> 530.0472 | BY13: ='SMMR-Calcs'!H18 -> 28.164865 | BZ13: ='SMMR-Calcs'!K18 -> 14.465241 | CA13: ='SMMR-Calcs'!L18 -> 90.58916 | CB13: ='SMMR-Calcs'!M18 -> 72.10074 | CC13: ='SMMR-Calcs'!S18 -> 36.936965 | CD13: ='SMMR-Calcs'!R18 -> 0.066380847 | CE13: ='SMMR-Calcs'!AS18 -> 1006.2158 | CF13: ='SMMR-Calcs'!AT18 -> 0.21156799 | CG13: ='SMMR-Calcs'!AV18 -> 3260.1393 | CI13: =$BM$66 -> 8 | CQ13: =$BM$66 -> 8 | CT13: =BK13 -> 55 | CU13: =BL13 -> 15 | CV13: =BM13 -> 98 | CW13: =BN13 -> 1739 | CX13: =BO13 -> 530.0472 | CZ13: ='WNTR-Calcs'!H18 -> 28.164865 | DA13: ='WNTR-Calcs'!K18 -> 24.197861 | DB13: ='WNTR-Calcs'!L18 -> -24.41084 | DC13: ='WNTR-Calcs'!M18 -> -22.89926 | DD13: ='WNTR-Calcs'!S18 -> -5.1784453 | DE13: ='WNTR-Calcs'!R18 -> 0.085690705 | DF13: ='WNTR-Calcs'!AS18 -> -3735.3345 | DG13: ='WNTR-Calcs'!AT18 -> -0.78539531 | DH13: ='WNTR-Calcs'!AV18 -> -12102.484 | DJ13: =$BM$66 -> 8 | DR13: =$BM$66 -> 8
T14: Perimeter : P = 2*PI * { (a2+b2) / 2 }0.5 | BA14: SCTN (max=5 chars) >> | BB14: 1-Grd | BC14: 2-Rtl | BD14: 3-Fin | BE14: 4-Ofc | BF14: 5-Srv | BG14: 6-Htl | BH14: 7-Apt | BI14: 8-din | BK14: =BK15+1 -> 54 | BL14: =BL15+2 -> 13 | BM14: =IF(BL14<=0, "XX", BB$42 + BC$42 + BD$42 + BE$42 + BF$42 + BG$42 + +BL14) -> 96 | BN14: =IF(BM14="XX", "XX", $BB$9 + BB$44 + BC$44 + BD$44 +BE$44 + BF$44 +BG$44 + BL14*BH$20) -> 1719 | BO14: =IF(BM14="XX", "XX", BN14*0.3048) -> 523.9512 | BP14: =IF( (BL14>0),1, 0) -> 1 | BS14: =BK14 -> 54 | BT14: =BL14 -> 13 | BU14: =BM14 -> 96 | BV14: =BN14 -> 1719 | BW14: =IF(BU14="XX", "XX", BV14*0.3048) -> 523.9512 | BY14: ='SMMR-Calcs'!H19 -> 28.185472 | BZ14: ='SMMR-Calcs'!K19 -> 14.312452 | CA14: ='SMMR-Calcs'!L19 -> 90.66036 | CB14: ='SMMR-Calcs'!M19 -> 72.14754 | CC14: ='SMMR-Calcs'!S19 -> 36.965485 | CD14: ='SMMR-Calcs'!R19 -> 0.066419778 | CE14: ='SMMR-Calcs'!AS19 -> 976.82361 | CF14: ='SMMR-Calcs'!AT19 -> 0.20538795 | CG14: ='SMMR-Calcs'!AV19 -> 3164.9085 | CI14: =$BM$65 -> 9 | CQ14: =$BM$65 -> 9 | CT14: =BK14 -> 54 | CU14: =BL14 -> 13 | CV14: =BM14 -> 96 | CW14: =BN14 -> 1719 | CX14: =BO14 -> 523.9512 | CZ14: ='WNTR-Calcs'!H19 -> 28.185472 | DA14: ='WNTR-Calcs'!K19 -> 23.968678 | DB14: ='WNTR-Calcs'!L19 -> -24.33964 | DC14: ='WNTR-Calcs'!M19 -> -22.85246 | DD14: ='WNTR-Calcs'!S19 -> -5.1663208 | DE14: ='WNTR-Calcs'!R19 -> 0.08574003 | DF14: ='WNTR-Calcs'!AS19 -> -3673.4828 | DG14: ='WNTR-Calcs'!AT19 -> -0.77239033 | DH14: ='WNTR-Calcs'!AV19 -> -11902.084 | DJ14: =$BM$65 -> 9 | DR14: =$BM$65 -> 9
BA15: Floor Type | BB15: Lobby | BC15: Retail | BD15: Tradg | BE15: Office | BF15: Htl-Srvc | BG15: Hotel | BH15: Condos | BI15: Dining | BK15: =BK16+1 -> 53 | BL15: =BL16+2 -> 11 | BM15: =IF(BL15<=0, "XX", BB$42 + BC$42 + BD$42 + BE$42 + BF$42 + BG$42 + +BL15) -> 94 | BN15: =IF(BM15="XX", "XX", $BB$9 + BB$44 + BC$44 + BD$44 +BE$44 + BF$44 +BG$44 + BL15*BH$20) -> 1699 | BO15: =IF(BM15="XX", "XX", BN15*0.3048) -> 517.8552 | BP15: =IF( (BL15>0),1, 0) -> 1 | BS15: =BK15 -> 53 | BT15: =BL15 -> 11 | BU15: =BM15 -> 94 | BV15: =BN15 -> 1699 | BW15: =IF(BU15="XX", "XX", BV15*0.3048) -> 517.8552 | BY15: ='SMMR-Calcs'!H20 -> 28.206091 | BZ15: ='SMMR-Calcs'!K20 -> 14.159664 | CA15: ='SMMR-Calcs'!L20 -> 90.73156 | CB15: ='SMMR-Calcs'!M20 -> 72.19434 | CC15: ='SMMR-Calcs'!S20 -> 36.994016 | CD15: ='SMMR-Calcs'!R20 -> 0.066458725 | CE15: ='SMMR-Calcs'!AS20 -> 946.17235 | CF15: ='SMMR-Calcs'!AT20 -> 0.19894318 | CG15: ='SMMR-Calcs'!AV20 -> 3065.5984 | CI15: =$BM$64 -> 10 | CQ15: =$BM$64 -> 10 | CT15: =BK15 -> 53 | CU15: =BL15 -> 11 | CV15: =BM15 -> 94 | CW15: =BN15 -> 1699 | CX15: =BO15 -> 517.8552 | CZ15: ='WNTR-Calcs'!H20 -> 28.206091 | DA15: ='WNTR-Calcs'!K20 -> 23.739496 | DB15: ='WNTR-Calcs'!L20 -> -24.26844 | DC15: ='WNTR-Calcs'!M20 -> -22.80566 | DD15: ='WNTR-Calcs'!S20 -> -5.1541959 | DE15: ='WNTR-Calcs'!R20 -> 0.085789377 | DF15: ='WNTR-Calcs'!AS20 -> -3610.6661 | DG15: ='WNTR-Calcs'!AT20 -> -0.75918241 | DH15: ='WNTR-Calcs'!AV20 -> -11698.558 | DJ15: =$BM$64 -> 10 | DR15: =$BM$64 -> 10
D16: Column Width | K16: Floor Depth | AC16: Panel Width | BA16: Typical Floor Length (ft) | BB16: 320 | BC16: 280 | BD16: 240 | BE16: 220 | BF16: 200 | BG16: 180 | BH16: 180 | BI16: 180 | BK16: =BK17+1 -> 52 | BL16: =BL17+2 -> 9 | BM16: =IF(BL16<=0, "XX", BB$42 + BC$42 + BD$42 + BE$42 + BF$42 + BG$42 + +BL16) -> 92 | BN16: =IF(BM16="XX", "XX", $BB$9 + BB$44 + BC$44 + BD$44 +BE$44 + BF$44 +BG$44 + BL16*BH$20) -> 1679 | BO16: =IF(BM16="XX", "XX", BN16*0.3048) -> 511.7592 | BP16: =IF( (BL16>0),1, 0) -> 1 | BS16: =BK16 -> 52 | BT16: =BL16 -> 9 | BU16: =BM16 -> 92 | BV16: =BN16 -> 1679 | BW16: =IF(BU16="XX", "XX", BV16*0.3048) -> 511.7592 | BY16: ='SMMR-Calcs'!H21 -> 28.226723 | BZ16: ='SMMR-Calcs'!K21 -> 14.006875 | CA16: ='SMMR-Calcs'!L21 -> 90.80276 | CB16: ='SMMR-Calcs'!M21 -> 72.24114 | CC16: ='SMMR-Calcs'!S21 -> 37.022559 | CD16: ='SMMR-Calcs'!R21 -> 0.066497688 | CE16: ='SMMR-Calcs'!AS21 -> 914.1354 | CF16: ='SMMR-Calcs'!AT21 -> 0.19220706 | CG16: ='SMMR-Calcs'!AV21 -> 2961.7987 | CI16: =$BM$63 -> 11 | CQ16: =$BM$63 -> 11 | CT16: =BK16 -> 52 | CU16: =BL16 -> 9 | CV16: =BM16 -> 92 | CW16: =BN16 -> 1679 | CX16: =BO16 -> 511.7592 | CZ16: ='WNTR-Calcs'!H21 -> 28.226723 | DA16: ='WNTR-Calcs'!K21 -> 23.510313 | DB16: ='WNTR-Calcs'!L21 -> -24.19724 | DC16: ='WNTR-Calcs'!M21 -> -22.75886 | DD16: ='WNTR-Calcs'!S21 -> -5.1420707 | DE16: ='WNTR-Calcs'!R21 -> 0.085838746 | DF16: ='WNTR-Calcs'!AS21 -> -3546.8329 | DG16: ='WNTR-Calcs'!AT21 -> -0.74576078 | DH16: ='WNTR-Calcs'!AV21 -> -11491.739 | DJ16: =$BM$63 -> 11 | DR16: =$BM$63 -> 11
BA17: Typical Floor Width (ft) | BB17: 240 | BC17: 200 | BD17: 160 | BE17: 140 | BF17: 120 | BG17: 100 | BH17: 100 | BI17: 100 | BK17: =BK18+1 -> 51 | BL17: =BL18+2 -> 7 | BM17: =IF(BL17<=0, "XX", BB$42 + BC$42 + BD$42 + BE$42 + BF$42 + BG$42 + +BL17) -> 90 | BN17: =IF(BM17="XX", "XX", $BB$9 + BB$44 + BC$44 + BD$44 +BE$44 + BF$44 +BG$44 + BL17*BH$20) -> 1659 | BO17: =IF(BM17="XX", "XX", BN17*0.3048) -> 505.6632 | BP17: =IF( (BL17>0),1, 0) -> 1 | BS17: =BK17 -> 51 | BT17: =BL17 -> 7 | BU17: =BM17 -> 90 | BV17: =BN17 -> 1659 | BW17: =IF(BU17="XX", "XX", BV17*0.3048) -> 505.6632 | BY17: ='SMMR-Calcs'!H22 -> 28.247366 | BZ17: ='SMMR-Calcs'!K22 -> 13.854087 | CA17: ='SMMR-Calcs'!L22 -> 90.87396 | CB17: ='SMMR-Calcs'!M22 -> 72.28794 | CC17: ='SMMR-Calcs'!S22 -> 37.051113 | CD17: ='SMMR-Calcs'!R22 -> 0.066536667 | CE17: ='SMMR-Calcs'!AS22 -> 880.56153 | CF17: ='SMMR-Calcs'!AT22 -> 0.18514779 | CG17: ='SMMR-Calcs'!AV22 -> 2853.0194 | CI17: =$BM$62 -> 12 | CQ17: =$BM$62 -> 12 | CT17: =BK17 -> 51 | CU17: =BL17 -> 7 | CV17: =BM17 -> 90 | CW17: =BN17 -> 1659 | CX17: =BO17 -> 505.6632 | CZ17: ='WNTR-Calcs'!H22 -> 28.247366 | DA17: ='WNTR-Calcs'!K22 -> 23.281131 | DB17: ='WNTR-Calcs'!L22 -> -24.12604 | DC17: ='WNTR-Calcs'!M22 -> -22.71206 | DD17: ='WNTR-Calcs'!S22 -> -5.129945 | DE17: ='WNTR-Calcs'!R22 -> 0.085888137 | DF17: ='WNTR-Calcs'!AS22 -> -3481.9274 | DG17: ='WNTR-Calcs'!AT22 -> -0.73211368 | DH17: ='WNTR-Calcs'!AV22 -> -11281.445 | DJ17: =$BM$62 -> 12 | DR17: =$BM$62 -> 12
AS18: Hotel | BA18: OR Non-Rectg Floor-A (ft2) | BB18: =BB16*BB17 -> 76800 | BC18: =BC16*BC17 -> 56000 | BG18: =BG16*BG17 -> 18000 | BH18: =BH16*BH17 -> 18000 | BI18: =BI16*BI17 -> 18000 | BK18: =BK19+1 -> 50 | BL18: =BL19+2 -> 5 | BM18: =IF(BL18<=0, "XX", BB$42 + BC$42 + BD$42 + BE$42 + BF$42 + BG$42 + +BL18) -> 88 | BN18: =IF(BM18="XX", "XX", $BB$9 + BB$44 + BC$44 + BD$44 +BE$44 + BF$44 +BG$44 + BL18*BH$20) -> 1639 | BO18: =IF(BM18="XX", "XX", BN18*0.3048) -> 499.5672 | BP18: =IF( (BL18>0),1, 0) -> 1 | BS18: =BK18 -> 50 | BT18: =BL18 -> 5 | BU18: =BM18 -> 88 | BV18: =BN18 -> 1639 | BW18: =IF(BU18="XX", "XX", BV18*0.3048) -> 499.5672 | BY18: ='SMMR-Calcs'!H23 -> 28.268022 | BZ18: ='SMMR-Calcs'!K23 -> 13.701299 | CA18: ='SMMR-Calcs'!L23 -> 90.94516 | CB18: ='SMMR-Calcs'!M23 -> 72.33474 | CC18: ='SMMR-Calcs'!S23 -> 37.079678 | CD18: ='SMMR-Calcs'!R23 -> 0.066575663 | CE18: ='SMMR-Calcs'!AS23 -> 845.26764 | CF18: ='SMMR-Calcs'!AT23 -> 0.17772685 | CG18: ='SMMR-Calcs'!AV23 -> 2738.6671 | CI18: =$BM$62 -> 12 | CQ18: =$BM$62 -> 12 | CT18: =BK18 -> 50 | CU18: =BL18 -> 5 | CV18: =BM18 -> 88 | CW18: =BN18 -> 1639 | CX18: =BO18 -> 499.5672 | CZ18: ='WNTR-Calcs'!H23 -> 28.268022 | DA18: ='WNTR-Calcs'!K23 -> 23.051948 | DB18: ='WNTR-Calcs'!L23 -> -24.05484 | DC18: ='WNTR-Calcs'!M23 -> -22.66526 | DD18: ='WNTR-Calcs'!S23 -> -5.117819 | DE18: ='WNTR-Calcs'!R23 -> 0.08593755 | DF18: ='WNTR-Calcs'!AS23 -> -3415.8884 | DG18: ='WNTR-Calcs'!AT23 -> -0.71822826 | DH18: ='WNTR-Calcs'!AV23 -> -11067.479 | DJ18: =$BM$62 -> 12 | DR18: =$BM$62 -> 12
AG19: Prefabricated (manuf.) | BA19: OR Non-Rectg Flr Perm (ft) | BB19: =2*$BE$2*SQRT(BB16*BB17/$BE$2) -> 982.39365 | BC19: =2*$BE$2*SQRT(BC16*BC17/$BE$2) -> 838.87828 | BG19: =2*$BE$2*SQRT(BG16*BG17/$BE$2) -> 475.59928 | BH19: =2*$BE$2*SQRT(BH16*BH17/$BE$2) -> 475.59928 | BI19: =2*$BE$2*SQRT(BI16*BI17/$BE$2) -> 475.59928 | BK19: =BK20+1 -> 49 | BL19: =BL21+2 -> 3 | BM19: =IF(BL19<=0, "XX", BB$42 + BC$42 + BD$42 + BE$42 + BF$42 + BG$42 + +BL19) -> 86 | BN19: =IF(BM19="XX", "XX", $BB$9 + BB$44 + BC$44 + BD$44 +BE$44 + BF$44 +BG$44 + BL19*BH$20) -> 1619 | BO19: =IF(BM19="XX", "XX", BN19*0.3048) -> 493.4712 | BP19: =IF( (BL19>0),1, 0) -> 1 | BS19: =BK19 -> 49 | BT19: =BL19 -> 3 | BU19: =BM19 -> 86 | BV19: =BN19 -> 1619 | BW19: =IF(BU19="XX", "XX", BV19*0.3048) -> 493.4712 | BY19: ='SMMR-Calcs'!H24 -> 28.28869 | BZ19: ='SMMR-Calcs'!K24 -> 13.54851 | CA19: ='SMMR-Calcs'!L24 -> 91.01636 | CB19: ='SMMR-Calcs'!M24 -> 72.38154 | CC19: ='SMMR-Calcs'!S24 -> 37.108255 | CD19: ='SMMR-Calcs'!R24 -> 0.066614675 | CE19: ='SMMR-Calcs'!AS24 -> 808.02835 | CF19: ='SMMR-Calcs'!AT24 -> 0.16989688 | CG19: ='SMMR-Calcs'!AV24 -> 2618.0119 | CI19: =$BM$61 -> 3-Fin | CQ19: =$BM$61 -> 3-Fin | CT19: =BK19 -> 49 | CU19: =BL19 -> 3 | CV19: =BM19 -> 86 | CW19: =BN19 -> 1619 | CX19: =BO19 -> 493.4712 | CZ19: ='WNTR-Calcs'!H24 -> 28.28869 | DA19: ='WNTR-Calcs'!K24 -> 22.822765 | DB19: ='WNTR-Calcs'!L24 -> -23.98364 | DC19: ='WNTR-Calcs'!M24 -> -22.61846 | DD19: ='WNTR-Calcs'!S24 -> -5.1056926 | DE19: ='WNTR-Calcs'!R24 -> 0.085986984 | DF19: ='WNTR-Calcs'!AS24 -> -3348.649 | DG19: ='WNTR-Calcs'!AT24 -> -0.70409042 | DH19: ='WNTR-Calcs'!AV24 -> -10849.623 | DJ19: =$BM$61 -> 3-Fin | DR19: =$BM$61 -> 3-Fin
S20: Flr-Flr-H | W20: Flr-Celg-H | AG20: Curtain Wall Panel | BA20: Floor-Floor Height (ft) | BB20: 20 | BC20: 18 | BD20: 15 | BE20: 13.5 | BF20: 15 | BG20: 10 | BH20: 10 | BI20: 15 | BK20: =BK21+1 -> 48 | BL20: 2 | BM20: =IF(BL20<=0, "XX", BB$42 + BC$42 + BD$42 + BE$42 + BF$42 + BG$42 + +BL20) -> 85 | BN20: =IF(BM20="XX", "XX", $BB$9 + BB$44 + BC$44 + BD$44 +BE$44 + BF$44 +BG$44 + BL20*BH$20) -> 1609 | BO20: =IF(BM20="XX", "XX", BN20*0.3048) -> 490.4232 | BP20: =IF( (BL20>0),1, 0) -> 1 | BS20: =BK20 -> 48 | BT20: =BL20 -> 2 | BU20: =BM20 -> 85 | BV20: =BN20 -> 1609 | BW20: =IF(BU20="XX", "XX", BV20*0.3048) -> 490.4232 | BY20: ='SMMR-Calcs'!H25 -> 28.299029 | BZ20: ='SMMR-Calcs'!K25 -> 13.472116 | CA20: ='SMMR-Calcs'!L25 -> 91.05196 | CB20: ='SMMR-Calcs'!M25 -> 72.40494 | CC20: ='SMMR-Calcs'!S25 -> 37.122548 | CD20: ='SMMR-Calcs'!R25 -> 0.066634186 | CE20: ='SMMR-Calcs'!AS25 -> 788.59363 | CF20: ='SMMR-Calcs'!AT25 -> 0.16581052 | CG20: ='SMMR-Calcs'!AV25 -> 2555.0434 | CI20: =$BM$60 -> 13 | CQ20: =$BM$60 -> 13 | CT20: =BK20 -> 48 | CU20: =BL20 -> 2 | CV20: =BM20 -> 85 | CW20: =BN20 -> 1609 | CX20: =BO20 -> 490.4232 | CZ20: ='WNTR-Calcs'!H25 -> 28.299029 | DA20: ='WNTR-Calcs'!K25 -> 22.708174 | DB20: ='WNTR-Calcs'!L25 -> -23.94804 | DC20: ='WNTR-Calcs'!M25 -> -22.59506 | DD20: ='WNTR-Calcs'!S25 -> -5.0996292 | DE20: ='WNTR-Calcs'!R25 -> 0.08601171 | DF20: ='WNTR-Calcs'!AS25 -> -3314.5563 | DG20: ='WNTR-Calcs'!AT25 -> -0.69692206 | DH20: ='WNTR-Calcs'!AV25 -> -10739.162 | DJ20: =$BM$60 -> 13 | DR20: =$BM$60 -> 13
AN21: S-6 | AQ21: MECHANICAL Flr | BA21: Floor-Ceiling Height (ft) | BB21: 15 | BC21: 14 | BD21: 13 | BE21: 10 | BF21: 11 | BG21: 9.5 | BH21: 9.5 | BI21: 11 | BK21: =BK23+1 -> 47 | BL21: 1 | BM21: =IF(BL21<=0, "XX", BB$42 + BC$42 + BD$42 + BE$42 + BF$42 + BG$42 + +BL21) -> 84 | BN21: =IF(BM21="XX", "XX", $BB$9 + BB$44 + BC$44 + BD$44 +BE$44 + BF$44 +BG$44 + BL21*BH$20) -> 1599 | BO21: =IF(BM21="XX", "XX", BN21*0.3048) -> 487.3752 | BP21: =IF( (BL21>0),1, 0) -> 1 | BS21: =BK21 -> 47 | BT21: =BL21 -> 1 | BU21: =BM21 -> 84 | BV21: =BN21 -> 1599 | BW21: =IF(BU21="XX", "XX", BV21*0.3048) -> 487.3752 | BY21: ='SMMR-Calcs'!H26 -> 28.309371 | BZ21: ='SMMR-Calcs'!K26 -> 13.395722 | CA21: ='SMMR-Calcs'!L26 -> 91.08756 | CB21: ='SMMR-Calcs'!M26 -> 72.42834 | CC21: ='SMMR-Calcs'!S26 -> 37.136843 | CD21: ='SMMR-Calcs'!R26 -> 0.066653702 | CE21: ='SMMR-Calcs'!AS26 -> 768.56094 | CF21: ='SMMR-Calcs'!AT26 -> 0.16159842 | CG21: ='SMMR-Calcs'!AV26 -> 2490.1375 | CI21: =$BM$59 -> 15 | CQ21: =$BM$59 -> 15 | CT21: =BK21 -> 47 | CU21: =BL21 -> 1 | CV21: =BM21 -> 84 | CW21: =BN21 -> 1599 | CX21: =BO21 -> 487.3752 | CZ21: ='WNTR-Calcs'!H26 -> 28.309371 | DA21: ='WNTR-Calcs'!K26 -> 22.593583 | DB21: ='WNTR-Calcs'!L26 -> -23.91244 | DC21: ='WNTR-Calcs'!M26 -> -22.57166 | DD21: ='WNTR-Calcs'!S26 -> -5.0935658 | DE21: ='WNTR-Calcs'!R26 -> 0.086036441 | DF21: ='WNTR-Calcs'!AS26 -> -3280.1352 | DG21: ='WNTR-Calcs'!AT26 -> -0.68968464 | DH21: ='WNTR-Calcs'!AV26 -> -10627.638 | DJ21: =$BM$59 -> 15 | DR21: =$BM$59 -> 15
BA22: Number of Section Floors | BB22: 2 | BC22: 3 | BD22: 6 | BE22: 40 | BF22: 5 | BG22: 25 | BH22: 15 | BI22: 2 | BK22: Section >> | BM22: =BG14 -> 6-Htl | BN22: # flrs >> | BO22: =BG42 -> 25 | BP22: =SUM(BP23:BP35) -> 13 | BS22: =BK22 -> Section >> | BU22: =BM22 -> 6-Htl | BV22: =BN22 -> # flrs >> | BW22: =BO22 -> 25 | BY22: in.Hg | BZ22: Wnd-V | CA22: Tdb | CB22: Twb | CC22: Enth | CD22: Dens | CE22: Q cfm | CF22: Q/ EnA | CG22: Tons | CI22: =$BM$58 -> 17 | CQ22: =$BM$58 -> 17 | CT22: =BK22 -> Section >> | CV22: =BM22 -> 6-Htl | CW22: =BN22 -> # flrs >> | CX22: =BO22 -> 25 | CZ22: in.Hg | DA22: Wnd-V | DB22: Tdb | DC22: Twb | DD22: Enth | DE22: Dens | DF22: Q cfm | DG22: Q/ EnA | DH22: Tons | DJ22: =$BM$58 -> 17 | DR22: =$BM$58 -> 17
F23: Distance between Columns (Bay) | Q23: Elevation View of Envelope | BA23: Mech Floor in Section (Y/N) | BB23: N | BC23: Y | BD23: N | BE23: Y | BF23: N | BG23: N | BH23: Y | BI23: Y | BK23: =BK25+1 -> 46 | BL23: 25 | BM23: =IF(BL23<=0, "XX", BB$42 + BC$42 + BD$42 + BE$42 + BF$42 +BL23) -> 83 | BN23: =IF(BM23="XX", "XX", $BB$9 + BB$44 + BC$44 + BD$44 +BE$44 + BF$44 + BL23*BG$20) -> 1589 | BO23: =IF(BM23="XX", "XX", BN23*0.3048) -> 484.3272 | BP23: =IF( (BL23>0),1, 0) -> 1 | BS23: =BK23 -> 46 | BT23: =BL23 -> 25 | BU23: =BM23 -> 83 | BV23: =BN23 -> 1589 | BW23: =IF(BU23="XX", "XX", BV23*0.3048) -> 484.3272 | BY23: ='SMMR-Calcs'!H28 -> 28.319715 | BZ23: ='SMMR-Calcs'!K28 -> 13.319328 | CA23: ='SMMR-Calcs'!L28 -> 91.12316 | CB23: ='SMMR-Calcs'!M28 -> 72.45174 | CC23: ='SMMR-Calcs'!S28 -> 37.151141 | CD23: ='SMMR-Calcs'!R28 -> 0.066673222 | CE23: ='SMMR-Calcs'!AS28 -> 669.1578 | CF23: ='SMMR-Calcs'!AT28 -> 0.14069782 | CG23: ='SMMR-Calcs'!AV28 -> 2168.0713 | CI23: =$BM$57 -> 19 | CQ23: =$BM$57 -> 19 | CT23: =BK23 -> 46 | CU23: =BL23 -> 25 | CV23: =BM23 -> 83 | CW23: =BN23 -> 1589 | CX23: =BO23 -> 484.3272 | CZ23: ='WNTR-Calcs'!H28 -> 28.319715 | DA23: ='WNTR-Calcs'!K28 -> 22.478992 | DB23: ='WNTR-Calcs'!L28 -> -23.87684 | DC23: ='WNTR-Calcs'!M28 -> -22.54826 | DD23: ='WNTR-Calcs'!S28 -> -5.0875022 | DE23: ='WNTR-Calcs'!R28 -> 0.086061177 | DF23: ='WNTR-Calcs'!AS28 -> -2903.7568 | DG23: ='WNTR-Calcs'!AT28 -> -0.61054693 | DH23: ='WNTR-Calcs'!AV28 -> -9408.1721 | DJ23: =$BM$57 -> 19 | DR23: =$BM$57 -> 19
AA24: Q = Cd * A * ( 2 * ∆P/d ) ^ 0.5 | BA24: No. of Windows per Bay | BB24: 5 | BC24: 6 | BD24: 7 | BE24: 7 | BF24: 3 | BG24: 6 | BH24: 6 | BI24: 5 | BK24: =BK25+1 -> 46 | BL24: 24 | BM24: =IF(BL24<=0, "XX", BB$42 + BC$42 + BD$42 + BE$42 + BF$42 +BL24) -> 82 | BN24: =IF(BM24="XX", "XX", $BB$9 + BB$44 + BC$44 + BD$44 +BE$44 + BF$44 + BL24*BG$20) -> 1579 | BO24: =IF(BM24="XX", "XX", BN24*0.3048) -> 481.2792 | BP24: =IF( (BL24>0),1, 0) -> 1 | BS24: =BK24 -> 46 | BT24: =BL24 -> 24 | BU24: =BM24 -> 82 | BV24: =BN24 -> 1579 | BW24: =IF(BU24="XX", "XX", BV24*0.3048) -> 481.2792 | BY24: ='SMMR-Calcs'!H29 -> 28.330063 | BZ24: ='SMMR-Calcs'!K29 -> 13.242934 | CA24: ='SMMR-Calcs'!L29 -> 91.15876 | CB24: ='SMMR-Calcs'!M29 -> 72.47514 | CC24: ='SMMR-Calcs'!S29 -> 37.165443 | CD24: ='SMMR-Calcs'!R29 -> 0.066692747 | CE24: ='SMMR-Calcs'!AS29 -> 650.02845 | CF24: ='SMMR-Calcs'!AT29 -> 0.13667566 | CG24: ='SMMR-Calcs'!AV29 -> 2106.0922 | CI24: =$BM$56 -> 22 | CQ24: =$BM$56 -> 22 | CT24: =BK24 -> 46 | CU24: =BL24 -> 24 | CV24: =BM24 -> 82 | CW24: =BN24 -> 1579 | CX24: =BO24 -> 481.2792 | CZ24: ='WNTR-Calcs'!H29 -> 28.330063 | DA24: ='WNTR-Calcs'!K29 -> 22.3644 | DB24: ='WNTR-Calcs'!L29 -> -23.84124 | DC24: ='WNTR-Calcs'!M29 -> -22.52486 | DD24: ='WNTR-Calcs'!S29 -> -5.0814386 | DE24: ='WNTR-Calcs'!R29 -> 0.086085919 | DF24: ='WNTR-Calcs'!AS29 -> -2872.3428 | DG24: ='WNTR-Calcs'!AT29 -> -0.60394179 | DH24: ='WNTR-Calcs'!AV29 -> -9306.3907 | DJ24: =$BM$56 -> 22 | DR24: =$BM$56 -> 22
BA25: Window Unit Width (ft) | BB25: 5.5 | BC25: 4.5 | BD25: 4 | BE25: 4 | BF25: 9 | BG25: 5 | BH25: 5 | BI25: 5.5 | BK25: =BK26+1 -> 45 | BL25: 23 | BM25: =IF(BL25<=0, "XX", BB$42 + BC$42 + BD$42 + BE$42 + BF$42 +BL25) -> 81 | BN25: =IF(BM25="XX", "XX", $BB$9 + BB$44 + BC$44 + BD$44 +BE$44 + BF$44 + BL25*BG$20) -> 1569 | BO25: =IF(BM25="XX", "XX", BN25*0.3048) -> 478.2312 | BP25: =IF( (BL25>0),1, 0) -> 1 | BS25: =BK25 -> 45 | BT25: =BL25 -> 23 | BU25: =BM25 -> 81 | BV25: =BN25 -> 1569 | BW25: =IF(BU25="XX", "XX", BV25*0.3048) -> 478.2312 | BY25: ='SMMR-Calcs'!H30 -> 28.340414 | BZ25: ='SMMR-Calcs'!K30 -> 13.166539 | CA25: ='SMMR-Calcs'!L30 -> 91.19436 | CB25: ='SMMR-Calcs'!M30 -> 72.49854 | CC25: ='SMMR-Calcs'!S30 -> 37.179747 | CD25: ='SMMR-Calcs'!R30 -> 0.066712275 | CE25: ='SMMR-Calcs'!AS30 -> 630.2146 | CF25: ='SMMR-Calcs'!AT30 -> 0.13250958 | CG25: ='SMMR-Calcs'!AV30 -> 2041.8953 | CI25: =$BM$55 -> 25 | CQ25: =$BM$55 -> 25 | CT25: =BK25 -> 45 | CU25: =BL25 -> 23 | CV25: =BM25 -> 81 | CW25: =BN25 -> 1569 | CX25: =BO25 -> 478.2312 | CZ25: ='WNTR-Calcs'!H30 -> 28.340414 | DA25: ='WNTR-Calcs'!K30 -> 22.249809 | DB25: ='WNTR-Calcs'!L30 -> -23.80564 | DC25: ='WNTR-Calcs'!M30 -> -22.50146 | DD25: ='WNTR-Calcs'!S30 -> -5.0753749 | DE25: ='WNTR-Calcs'!R30 -> 0.086110667 | DF25: ='WNTR-Calcs'!AS30 -> -2840.6054 | DG25: ='WNTR-Calcs'!AT30 -> -0.59726865 | DH25: ='WNTR-Calcs'!AV30 -> -9203.5614 | DJ25: =$BM$55 -> 25 | DR25: =$BM$55 -> 25
B26: Appendix C: Commercial & Institutional Building Airtightness Data | AA26: A = Q / ( Cd * ( 2 * ∆P/d ) ^ 0.5 ) | BA26: Window Unit Height (ft) | BB26: 11 | BC26: 10 | BD26: 8 | BE26: 8 | BF26: 10 | BG26: 7 | BH26: 7 | BI26: 8 | BK26: =BK27+1 -> 44 | BL26: 21 | BM26: =IF(BL26<=0, "XX", BB$42 + BC$42 + BD$42 + BE$42 + BF$42 +BL26) -> 79 | BN26: =IF(BM26="XX", "XX", $BB$9 + BB$44 + BC$44 + BD$44 +BE$44 + BF$44 + BL26*BG$20) -> 1549 | BO26: =IF(BM26="XX", "XX", BN26*0.3048) -> 472.1352 | BP26: =IF( (BL26>0),1, 0) -> 1 | BS26: =BK26 -> 44 | BT26: =BL26 -> 21 | BU26: =BM26 -> 79 | BV26: =BN26 -> 1549 | BW26: =IF(BU26="XX", "XX", BV26*0.3048) -> 472.1352 | BY26: ='SMMR-Calcs'!H31 -> 28.361125 | BZ26: ='SMMR-Calcs'!K31 -> 13.013751 | CA26: ='SMMR-Calcs'!L31 -> 91.26556 | CB26: ='SMMR-Calcs'!M31 -> 72.54534 | CC26: ='SMMR-Calcs'!S31 -> 37.208363 | CD26: ='SMMR-Calcs'!R31 -> 0.066751343 | CE26: ='SMMR-Calcs'!AS31 -> 588.25445 | CF26: ='SMMR-Calcs'!AT31 -> 0.12368699 | CG26: ='SMMR-Calcs'!AV31 -> 1905.9444 | CI26: =$BM$54 -> 28 | CQ26: =$BM$54 -> 28 | CT26: =BK26 -> 44 | CU26: =BL26 -> 21 | CV26: =BM26 -> 79 | CW26: =BN26 -> 1549 | CX26: =BO26 -> 472.1352 | CZ26: ='WNTR-Calcs'!H31 -> 28.361125 | DA26: ='WNTR-Calcs'!K31 -> 22.020626 | DB26: ='WNTR-Calcs'!L31 -> -23.73444 | DC26: ='WNTR-Calcs'!M31 -> -22.45466 | DD26: ='WNTR-Calcs'!S31 -> -5.0632471 | DE26: ='WNTR-Calcs'!R31 -> 0.086160178 | DF26: ='WNTR-Calcs'!AS31 -> -2776.1158 | DG26: ='WNTR-Calcs'!AT31 -> -0.58370901 | DH26: ='WNTR-Calcs'!AV31 -> -8994.6153 | DJ26: =$BM$54 -> 28 | DR26: =$BM$54 -> 28
B27: National Institute of Standards & Technology - CONTAM Library - | BA27: OR Window Area (%) | BB27: 60 | BC27: 50 | BD27: 65 | BE27: 65 | BF27: 60 | BG27: 45 | BH27: 45 | BI27: 60 | BK27: =BK28+1 -> 43 | BL27: 20 | BM27: =IF(BL27<=0, "XX", BB$42 + BC$42 + BD$42 + BE$42 + BF$42 +BL27) -> 78 | BN27: =IF(BM27="XX", "XX", $BB$9 + BB$44 + BC$44 + BD$44 +BE$44 + BF$44 + BL27*BG$20) -> 1539 | BO27: =IF(BM27="XX", "XX", BN27*0.3048) -> 469.0872 | BP27: =IF( (BL27>0),1, 0) -> 1 | BS27: =BK27 -> 43 | BT27: =BL27 -> 20 | BU27: =BM27 -> 78 | BV27: =BN27 -> 1539 | BW27: =IF(BU27="XX", "XX", BV27*0.3048) -> 469.0872 | BY27: ='SMMR-Calcs'!H32 -> 28.371485 | BZ27: ='SMMR-Calcs'!K32 -> 12.937357 | CA27: ='SMMR-Calcs'!L32 -> 91.30116 | CB27: ='SMMR-Calcs'!M32 -> 72.56874 | CC27: ='SMMR-Calcs'!S32 -> 37.222676 | CD27: ='SMMR-Calcs'!R32 -> 0.066770883 | CE27: ='SMMR-Calcs'!AS32 -> 565.93524 | CF27: ='SMMR-Calcs'!AT32 -> 0.11899413 | CG27: ='SMMR-Calcs'!AV32 -> 1833.6302 | CI27: =$BM$53 -> 31 | CQ27: =$BM$53 -> 31 | CT27: =BK27 -> 43 | CU27: =BL27 -> 20 | CV27: =BM27 -> 78 | CW27: =BN27 -> 1539 | CX27: =BO27 -> 469.0872 | CZ27: ='WNTR-Calcs'!H32 -> 28.371485 | DA27: ='WNTR-Calcs'!K32 -> 21.906035 | DB27: ='WNTR-Calcs'!L32 -> -23.69884 | DC27: ='WNTR-Calcs'!M32 -> -22.43126 | DD27: ='WNTR-Calcs'!S32 -> -5.0571831 | DE27: ='WNTR-Calcs'!R32 -> 0.086184942 | DF27: ='WNTR-Calcs'!AS32 -> -2743.3399 | DG27: ='WNTR-Calcs'!AT32 -> -0.5768175 | DH27: ='WNTR-Calcs'!AV32 -> -8888.4212 | DJ27: =$BM$53 -> 31 | DR27: =$BM$53 -> 31
B28: 0.0001 | E28: 0.035 | H28: Pi-Po = PD | M28: 0.0741 | P28: OA Air Dens | U28: 0.65 | X28: Cd | BA28: OR Lkg-A % Envl (0.01-0.15) | BB28: 0.95 | BC28: 0.75 | BG28: 0.85 | BH28: 0.95 | BI28: 0.65 | BK28: =BK29+1 -> 42 | BL28: 18 | BM28: =IF(BL28<=0, "XX", BB$42 + BC$42 + BD$42 + BE$42 + BF$42 +BL28) -> 76 | BN28: =IF(BM28="XX", "XX", $BB$9 + BB$44 + BC$44 + BD$44 +BE$44 + BF$44 + BL28*BG$20) -> 1519 | BO28: =IF(BM28="XX", "XX", BN28*0.3048) -> 462.9912 | BP28: =IF( (BL28>0),1, 0) -> 1 | BS28: =BK28 -> 42 | BT28: =BL28 -> 18 | BU28: =BM28 -> 76 | BV28: =BN28 -> 1519 | BW28: =IF(BU28="XX", "XX", BV28*0.3048) -> 462.9912 | BY28: ='SMMR-Calcs'!H33 -> 28.392214 | BZ28: ='SMMR-Calcs'!K33 -> 12.784568 | CA28: ='SMMR-Calcs'!L33 -> 91.37236 | CB28: ='SMMR-Calcs'!M33 -> 72.61554 | CC28: ='SMMR-Calcs'!S33 -> 37.25131 | CD28: ='SMMR-Calcs'!R33 -> 0.066809976 | CE28: ='SMMR-Calcs'!AS33 -> 518.04191 | CF28: ='SMMR-Calcs'!AT33 -> 0.10892403 | CG28: ='SMMR-Calcs'!AV33 -> 1678.4558 | CI28: =$BM$52 -> 34 | CQ28: =$BM$52 -> 34 | CT28: =BK28 -> 42 | CU28: =BL28 -> 18 | CV28: =BM28 -> 76 | CW28: =BN28 -> 1519 | CX28: =BO28 -> 462.9912 | CZ28: ='WNTR-Calcs'!H33 -> 28.392214 | DA28: ='WNTR-Calcs'!K33 -> 21.676853 | DB28: ='WNTR-Calcs'!L33 -> -23.62764 | DC28: ='WNTR-Calcs'!M33 -> -22.38446 | DD28: ='WNTR-Calcs'!S33 -> -5.0450547 | DE28: ='WNTR-Calcs'!R33 -> 0.086234486 | DF28: ='WNTR-Calcs'!AS33 -> -2676.6605 | DG28: ='WNTR-Calcs'!AT33 -> -0.56279742 | DH28: ='WNTR-Calcs'!AV33 -> -8672.3799 | DJ28: =$BM$52 -> 34 | DR28: =$BM$52 -> 34
B29: Element ID | G29: Description | P29: Mean | R29: Max | T29: Mean | W29: Max | AA29: A = Infltr cfm / ft2 Envel Area | BA29: Wall Leakage Area (ft2 / ft2) | BB29: 0.00199 | BC29: 0.00199 | BD29: 0.00199 | BE29: 0.00199 | BF29: 0.00199 | BG29: 0.00199 | BH29: 0.00199 | BI29: 0.00199 | BK29: =BK30+1 -> 41 | BL29: 16 | BM29: =IF(BL29<=0, "XX", BB$42 + BC$42 + BD$42 + BE$42 + BF$42 +BL29) -> 74 | BN29: =IF(BM29="XX", "XX", $BB$9 + BB$44 + BC$44 + BD$44 +BE$44 + BF$44 + BL29*BG$20) -> 1499 | BO29: =IF(BM29="XX", "XX", BN29*0.3048) -> 456.8952 | BP29: =IF( (BL29>0),1, 0) -> 1 | BS29: =BK29 -> 41 | BT29: =BL29 -> 16 | BU29: =BM29 -> 74 | BV29: =BN29 -> 1499 | BW29: =IF(BU29="XX", "XX", BV29*0.3048) -> 456.8952 | BY29: ='SMMR-Calcs'!H34 -> 28.412956 | BZ29: ='SMMR-Calcs'!K34 -> 12.63178 | CA29: ='SMMR-Calcs'!L34 -> 91.44356 | CB29: ='SMMR-Calcs'!M34 -> 72.66234 | CC29: ='SMMR-Calcs'!S34 -> 37.279955 | CD29: ='SMMR-Calcs'!R34 -> 0.066849085 | CE29: ='SMMR-Calcs'!AS34 -> 464.67915 | CF29: ='SMMR-Calcs'!AT34 -> 0.097703923 | CG29: ='SMMR-Calcs'!AV34 -> 1505.5605 | CI29: =$BM$51 -> 37 | CQ29: =$BM$51 -> 37 | CT29: =BK29 -> 41 | CU29: =BL29 -> 16 | CV29: =BM29 -> 74 | CW29: =BN29 -> 1499 | CX29: =BO29 -> 456.8952 | CZ29: ='WNTR-Calcs'!H34 -> 28.412956 | DA29: ='WNTR-Calcs'!K34 -> 21.44767 | DB29: ='WNTR-Calcs'!L34 -> -23.55644 | DC29: ='WNTR-Calcs'!M34 -> -22.33766 | DD29: ='WNTR-Calcs'!S34 -> -5.032926 | DE29: ='WNTR-Calcs'!R34 -> 0.086284053 | DF29: ='WNTR-Calcs'!AS34 -> -2608.3815 | DG29: ='WNTR-Calcs'!AT34 -> -0.54844101 | DH29: ='WNTR-Calcs'!AV34 -> -8451.156 | DJ29: =$BM$51 -> 37 | DR29: =$BM$51 -> 37
B30: Exterior Wall (EW) | M30: Leakg ( cm2 / m2 ) | T30: Leakg ( ft2 / ft2 ) | AA30: B = ft2 / ft2 Leakage Area | BA30: Wndw Leakg Area (ft2 / ft2) | BB30: 0.00065 | BC30: 0.00025 | BD30: 0.00017 | BE30: 0.00017 | BF30: 0.00035 | BG30: 0.00035 | BH30: 0.00035 | BI30: 0.00025 | BK30: =BK31+1 -> 40 | BL30: 13 | BM30: =IF(BL30<=0, "XX", BB$42 + BC$42 + BD$42 + BE$42 + BF$42 +BL30) -> 71 | BN30: =IF(BM30="XX", "XX", $BB$9 + BB$44 + BC$44 + BD$44 +BE$44 + BF$44 + BL30*BG$20) -> 1469 | BO30: =IF(BM30="XX", "XX", BN30*0.3048) -> 447.7512 | BP30: =IF( (BL30>0),1, 0) -> 1 | BS30: =BK30 -> 40 | BT30: =BL30 -> 13 | BU30: =BM30 -> 71 | BV30: =BN30 -> 1469 | BW30: =IF(BU30="XX", "XX", BV30*0.3048) -> 447.7512 | BY30: ='SMMR-Calcs'!H35 -> 28.444091 | BZ30: ='SMMR-Calcs'!K35 -> 12.402597 | CA30: ='SMMR-Calcs'!L35 -> 91.55036 | CB30: ='SMMR-Calcs'!M35 -> 72.73254 | CC30: ='SMMR-Calcs'!S35 -> 37.322944 | CD30: ='SMMR-Calcs'!R35 -> 0.066907779 | CE30: ='SMMR-Calcs'!AS35 -> 369.16188 | CF30: ='SMMR-Calcs'!AT35 -> 0.077620363 | CG30: ='SMMR-Calcs'!AV35 -> 1196.0845 | CI30: =$BM$50 -> 36 | CQ30: =$BM$50 -> 36 | CT30: =BK30 -> 40 | CU30: =BL30 -> 13 | CV30: =BM30 -> 71 | CW30: =BN30 -> 1469 | CX30: =BO30 -> 447.7512 | CZ30: ='WNTR-Calcs'!H35 -> 28.444091 | DA30: ='WNTR-Calcs'!K35 -> 21.103896 | DB30: ='WNTR-Calcs'!L35 -> -23.44964 | DC30: ='WNTR-Calcs'!M35 -> -22.26746 | DD30: ='WNTR-Calcs'!S35 -> -5.0147322 | DE30: ='WNTR-Calcs'!R35 -> 0.086358443 | DF30: ='WNTR-Calcs'!AS35 -> -2502.6765 | DG30: ='WNTR-Calcs'!AT35 -> -0.52621536 | DH30: ='WNTR-Calcs'!AV35 -> -8108.6718 | DJ30: =$BM$50 -> 36 | DR30: =$BM$50 -> 36
B31: WLEXMA | G31: EW, masonry | P31: 4.2 | R31: 11.4 | T31: =P31*$B$28 -> 0.00042 | W31: =R31*$B$28 -> 0.00114 | AA31: A | AD31: B | BA31: Envel Leakage Flow Coeff | BB31: 0.65 | BC31: 0.65 | BD31: 0.65 | BE31: 0.65 | BF31: 0.65 | BG31: 0.65 | BH31: 0.65 | BI31: 0.65 | BK31: =BK32+1 -> 39 | BL31: 10 | BM31: =IF(BL31<=0, "XX", BB$42 + BC$42 + BD$42 + BE$42 + BF$42 +BL31) -> 68 | BN31: =IF(BM31="XX", "XX", $BB$9 + BB$44 + BC$44 + BD$44 +BE$44 + BF$44 + BL31*BG$20) -> 1439 | BO31: =IF(BM31="XX", "XX", BN31*0.3048) -> 438.6072 | BP31: =IF( (BL31>0),1, 0) -> 1 | BS31: =BK31 -> 39 | BT31: =BL31 -> 10 | BU31: =BM31 -> 68 | BV31: =BN31 -> 1439 | BW31: =IF(BU31="XX", "XX", BV31*0.3048) -> 438.6072 | BY31: ='SMMR-Calcs'!H36 -> 28.475254 | BZ31: ='SMMR-Calcs'!K36 -> 12.173415 | CA31: ='SMMR-Calcs'!L36 -> 91.65716 | CB31: ='SMMR-Calcs'!M36 -> 72.80274 | CC31: ='SMMR-Calcs'!S36 -> 37.365958 | CD31: ='SMMR-Calcs'!R36 -> 0.066966509 | CE31: ='SMMR-Calcs'!AS36 -> 235.48265 | CF31: ='SMMR-Calcs'!AT36 -> 0.049512828 | CG31: ='SMMR-Calcs'!AV36 -> 762.96379 | CI31: =$BM$49 -> 38 | CQ31: =$BM$49 -> 38 | CT31: =BK31 -> 39 | CU31: =BL31 -> 10 | CV31: =BM31 -> 68 | CW31: =BN31 -> 1439 | CX31: =BO31 -> 438.6072 | CZ31: ='WNTR-Calcs'!H36 -> 28.475254 | DA31: ='WNTR-Calcs'!K36 -> 20.760122 | DB31: ='WNTR-Calcs'!L36 -> -23.34284 | DC31: ='WNTR-Calcs'!M36 -> -22.19726 | DD31: ='WNTR-Calcs'!S36 -> -4.9965375 | DE31: ='WNTR-Calcs'!R36 -> 0.086432883 | DF31: ='WNTR-Calcs'!AS36 -> -2392.5617 | DG31: ='WNTR-Calcs'!AT36 -> -0.50306251 | DH31: ='WNTR-Calcs'!AV36 -> -7751.8998 | DJ31: =$BM$49 -> 38 | DR31: =$BM$49 -> 38
B32: WLEXCP | G32: EW, concrete panel | P32: 4 | R32: 10 | T32: =P32*$B$28 -> 0.0004 | W32: =R32*$B$28 -> 0.001 | AA32: cfm/ft2 | AD32: ft2/ft2 | BA32: Indr-Outdr PD (in.wg) PI - PO | BB32: 0.005 | BC32: 0.015 | BD32: 0.025 | BE32: 0.025 | BF32: 0.02 | BG32: 0.01 | BH32: 0.01 | BI32: 0.015 | BK32: =BK33+1 -> 38 | BL32: 7 | BM32: =IF(BL32<=0, "XX", BB$42 + BC$42 + BD$42 + BE$42 + BF$42 +BL32) -> 65 | BN32: =IF(BM32="XX", "XX", $BB$9 + BB$44 + BC$44 + BD$44 +BE$44 + BF$44 + BL32*BG$20) -> 1409 | BO32: =IF(BM32="XX", "XX", BN32*0.3048) -> 429.4632 | BP32: =IF( (BL32>0),1, 0) -> 1 | BS32: =BK32 -> 38 | BT32: =BL32 -> 7 | BU32: =BM32 -> 65 | BV32: =BN32 -> 1409 | BW32: =IF(BU32="XX", "XX", BV32*0.3048) -> 429.4632 | BY32: ='SMMR-Calcs'!H37 -> 28.506445 | BZ32: ='SMMR-Calcs'!K37 -> 11.944232 | CA32: ='SMMR-Calcs'!L37 -> 91.76396 | CB32: ='SMMR-Calcs'!M37 -> 72.87294 | CC32: ='SMMR-Calcs'!S37 -> 37.408999 | CD32: ='SMMR-Calcs'!R37 -> 0.067025276 | CE32: ='SMMR-Calcs'!AS37 -> -162.9679 | CF32: ='SMMR-Calcs'!AT37 -> -0.0342658 | CG32: ='SMMR-Calcs'!AV37 -> -528.016 | CI32: =$BM$48 -> 40 | CQ32: =$BM$48 -> 40 | CT32: =BK32 -> 38 | CU32: =BL32 -> 7 | CV32: =BM32 -> 65 | CW32: =BN32 -> 1409 | CX32: =BO32 -> 429.4632 | CZ32: ='WNTR-Calcs'!H37 -> 28.506445 | DA32: ='WNTR-Calcs'!K37 -> 20.416348 | DB32: ='WNTR-Calcs'!L37 -> -23.23604 | DC32: ='WNTR-Calcs'!M37 -> -22.12706 | DD32: ='WNTR-Calcs'!S37 -> -4.978342 | DE32: ='WNTR-Calcs'!R37 -> 0.086507372 | DF32: ='WNTR-Calcs'!AS37 -> -2277.3975 | DG32: ='WNTR-Calcs'!AT37 -> -0.47884796 | DH32: ='WNTR-Calcs'!AV37 -> -7378.7678 | DJ32: =$BM$48 -> 40 | DR32: =$BM$48 -> 40
B33: WLEXFRMA | G33: EW, frame/masonry | P33: 9.1 | R33: 19.9 | T33: =P33*$B$28 -> 0.00091 | W33: =R33*$B$28 -> 0.00199 | AA33: 0 | AD33: =AA33/($U$28*(2*$E$28)^0.5) -> 0 | AQ33: Offices | BA33: Occup / Floor Area (P / ft2) | BB33: 50 | BC33: 30 | BD33: 100 | BE33: 150 | BF33: 150 | BG33: 250 | BH33: 250 | BI33: 75 | BK33: =BK34+1 -> 37 | BL33: 5 | BM33: =IF(BL33<=0, "XX", BB$42 + BC$42 + BD$42 + BE$42 + BF$42 +BL33) -> 63 | BN33: =IF(BM33="XX", "XX", $BB$9 + BB$44 + BC$44 + BD$44 +BE$44 + BF$44 + BL33*BG$20) -> 1389 | BO33: =IF(BM33="XX", "XX", BN33*0.3048) -> 423.3672 | BP33: =IF( (BL33>0),1, 0) -> 1 | BS33: =BK33 -> 37 | BT33: =BL33 -> 5 | BU33: =BM33 -> 63 | BV33: =BN33 -> 1389 | BW33: =IF(BU33="XX", "XX", BV33*0.3048) -> 423.3672 | BY33: ='SMMR-Calcs'!H38 -> 28.527254 | BZ33: ='SMMR-Calcs'!K38 -> 11.791444 | CA33: ='SMMR-Calcs'!L38 -> 91.83516 | CB33: ='SMMR-Calcs'!M38 -> 72.91974 | CC33: ='SMMR-Calcs'!S38 -> 37.437707 | CD33: ='SMMR-Calcs'!R38 -> 0.067064474 | CE33: ='SMMR-Calcs'!AS38 -> -286.16264 | CF33: ='SMMR-Calcs'!AT38 -> -0.060168855 | CG33: ='SMMR-Calcs'!AV38 -> -927.16696 | CI33: =$BM$47 -> 43 | CQ33: =$BM$47 -> 43 | CT33: =BK33 -> 37 | CU33: =BL33 -> 5 | CV33: =BM33 -> 63 | CW33: =BN33 -> 1389 | CX33: =BO33 -> 423.3672 | CZ33: ='WNTR-Calcs'!H38 -> 28.527254 | DA33: ='WNTR-Calcs'!K38 -> 20.187166 | DB33: ='WNTR-Calcs'!L38 -> -23.16484 | DC33: ='WNTR-Calcs'!M38 -> -22.08026 | DD33: ='WNTR-Calcs'!S38 -> -4.9662111 | DE33: ='WNTR-Calcs'!R38 -> 0.086557059 | DF33: ='WNTR-Calcs'!AS38 -> -2197.4255 | DG33: ='WNTR-Calcs'!AT38 -> -0.46203298 | DH33: ='WNTR-Calcs'!AV38 -> -7119.6587 | DJ33: =$BM$47 -> 43 | DR33: =$BM$47 -> 43
B34: WLEXFR | G34: EW, frame | P34: 8.6 | R34: 15.6 | T34: =P34*$B$28 -> 0.00086 | W34: =R34*$B$28 -> 0.00156 | AA34: =AA33 + 0.005 -> 0.005 | AD34: =AA34/($U$28*(2*$E$28)^0.5) -> 0.02907419 | BA34: Outdr Air / Person (cfm / P) | BB34: 15 | BC34: 10 | BD34: 20 | BE34: 20 | BF34: 15 | BG34: 30 | BH34: 30 | BI34: 25 | BK34: =BK35+1 -> 36 | BL34: 3 | BM34: =IF(BL34<=0, "XX", BB$42 + BC$42 + BD$42 + BE$42 + BF$42 +BL34) -> 61 | BN34: =IF(BM34="XX", "XX", $BB$9 + BB$44 + BC$44 + BD$44 +BE$44 + BF$44 + BL34*BG$20) -> 1369 | BO34: =IF(BM34="XX", "XX", BN34*0.3048) -> 417.2712 | BP34: =IF( (BL34>0),1, 0) -> 1 | BS34: =BK34 -> 36 | BT34: =BL34 -> 3 | BU34: =BM34 -> 61 | BV34: =BN34 -> 1369 | BW34: =IF(BU34="XX", "XX", BV34*0.3048) -> 417.2712 | BY34: ='SMMR-Calcs'!H39 -> 28.548075 | BZ34: ='SMMR-Calcs'!K39 -> 11.638655 | CA34: ='SMMR-Calcs'!L39 -> 91.90636 | CB34: ='SMMR-Calcs'!M39 -> 72.96654 | CC34: ='SMMR-Calcs'!S39 -> 37.466426 | CD34: ='SMMR-Calcs'!R39 -> 0.067103689 | CE34: ='SMMR-Calcs'!AS39 -> -371.14013 | CF34: ='SMMR-Calcs'!AT39 -> -0.078036311 | CG34: ='SMMR-Calcs'!AV39 -> -1202.494 | CI34: =$BM$46 -> 47 | CQ34: =$BM$46 -> 47 | CT34: =BK34 -> 36 | CU34: =BL34 -> 3 | CV34: =BM34 -> 61 | CW34: =BN34 -> 1369 | CX34: =BO34 -> 417.2712 | CZ34: ='WNTR-Calcs'!H39 -> 28.548075 | DA34: ='WNTR-Calcs'!K39 -> 19.957983 | DB34: ='WNTR-Calcs'!L39 -> -23.09364 | DC34: ='WNTR-Calcs'!M39 -> -22.03346 | DD34: ='WNTR-Calcs'!S39 -> -4.9540798 | DE34: ='WNTR-Calcs'!R39 -> 0.086606768 | DF34: ='WNTR-Calcs'!AS39 -> -2114.5599 | DG34: ='WNTR-Calcs'!AT39 -> -0.44460957 | DH34: ='WNTR-Calcs'!AV39 -> -6851.1742 | DJ34: =$BM$46 -> 47 | DR34: =$BM$46 -> 47
B35: WLEXMN | G35: EW, manufactured | P35: 4.3 | R35: 8.7 | T35: =P35*$B$28 -> 0.00043 | W35: =R35*$B$28 -> 0.00087 | AA35: =AA34 + 0.005 -> 0.01 | AD35: =AA35/($U$28*(2*$E$28)^0.5) -> 0.05814838 | BA35: Exhaust (cfm/ft2 Core-Zn) | BB35: 1.5 | BC35: 1.5 | BD35: 1.5 | BE35: 1.5 | BF35: 1.5 | BG35: 1.5 | BH35: 1.5 | BI35: 1.5 | BK35: =BK37+1 -> 35 | BL35: 1 | BM35: =IF(BL35<=0, "XX", BB$42 + BC$42 + BD$42 + BE$42 + BF$42 +BL35) -> 59 | BN35: =IF(BM35="XX", "XX", $BB$9 + BB$44 + BC$44 + BD$44 +BE$44 + BF$44 + BL35*BG$20) -> 1349 | BO35: =IF(BM35="XX", "XX", BN35*0.3048) -> 411.1752 | BP35: =IF( (BL35>0),1, 0) -> 1 | BS35: =BK35 -> 35 | BT35: =BL35 -> 1 | BU35: =BM35 -> 59 | BV35: =BN35 -> 1349 | BW35: =IF(BU35="XX", "XX", BV35*0.3048) -> 411.1752 | BY35: ='SMMR-Calcs'!H40 -> 28.568909 | BZ35: ='SMMR-Calcs'!K40 -> 11.485867 | CA35: ='SMMR-Calcs'!L40 -> 91.97756 | CB35: ='SMMR-Calcs'!M40 -> 73.01334 | CC35: ='SMMR-Calcs'!S40 -> 37.495157 | CD35: ='SMMR-Calcs'!R40 -> 0.067142919 | CE35: ='SMMR-Calcs'!AS40 -> -440.59773 | CF35: ='SMMR-Calcs'!AT40 -> -0.092640538 | CG35: ='SMMR-Calcs'!AV40 -> -1427.5366 | CI35: =$BM$45 -> 51 | CQ35: =$BM$45 -> 51 | CT35: =BK35 -> 35 | CU35: =BL35 -> 1 | CV35: =BM35 -> 59 | CW35: =BN35 -> 1349 | CX35: =BO35 -> 411.1752 | CZ35: ='WNTR-Calcs'!H40 -> 28.568909 | DA35: ='WNTR-Calcs'!K40 -> 19.728801 | DB35: ='WNTR-Calcs'!L40 -> -23.02244 | DC35: ='WNTR-Calcs'!M40 -> -21.98666 | DD35: ='WNTR-Calcs'!S40 -> -4.9419482 | DE35: ='WNTR-Calcs'!R40 -> 0.086656499 | DF35: ='WNTR-Calcs'!AS40 -> -2028.446 | DG35: ='WNTR-Calcs'!AT40 -> -0.42650318 | DH35: ='WNTR-Calcs'!AV40 -> -6572.1652 | DJ35: =$BM$45 -> 51 | DR35: =$BM$45 -> 51
B36: WLEXME | G36: EW, metal | P36: 4.6 | R36: 8 | T36: =P36*$B$28 -> 0.00046 | W36: =R36*$B$28 -> 0.0008 | AA36: =AA35 + 0.005 -> 0.015 | AD36: =AA36/($U$28*(2*$E$28)^0.5) -> 0.087222571 | AM36: S-5 | AP36: MECHANICAL Flr | BA36: OR Exhaust / floor (cfm) | BB36: =BB16*BB17 * $BE$10/100 *2 -> 15360 | BC36: =BC16*BC17 * $BE$10/100 *2 -> 11200 | BG36: =BG16*BG17 * $BE$10/100 *2 -> 3600 | BH36: =BH16*BH17 * $BE$10/100 *2 -> 3600 | BI36: =BI16*BI17 * $BE$10/100 *2 -> 3600 | BK36: Section >> | BM36: =BF14 -> 5-Srv | BN36: # flrs >> | BO36: =BF42 -> 5 | BP36: =SUM(BP37:BP42) -> 5 | BS36: =BK36 -> Section >> | BU36: =BM36 -> 5-Srv | BV36: =BN36 -> # flrs >> | BW36: =BO36 -> 5 | BY36: in.Hg | BZ36: Wnd-V | CA36: Tdb | CB36: Twb | CC36: Enth | CD36: Dens | CE36: Q cfm | CF36: Q/ EnA | CG36: Tons | CI36: =$BM$44 -> 53 | CQ36: =$BM$44 -> 53 | CT36: =BK36 -> Section >> | CV36: =BM36 -> 5-Srv | CW36: =BN36 -> # flrs >> | CX36: =BO36 -> 5 | CZ36: in.Hg | DA36: Wnd-V | DB36: Tdb | DC36: Twb | DD36: Enth | DE36: Dens | DF36: Q cfm | DG36: Q/ EnA | DH36: Tons | DJ36: =$BM$44 -> 53 | DR36: =$BM$44 -> 53
B37: WLEXCW | G37: EW, curtain wall | P37: 2.7 | R37: 6.9 | T37: =P37*$B$28 -> 0.00027 | W37: =R37*$B$28 -> 0.00069 | AA37: =AA36 + 0.005 -> 0.02 | AD37: =AA37/($U$28*(2*$E$28)^0.5) -> 0.11629676 | BA37: Perm-Zone Sup Air (cfm / ft2) | BB37: 2.1 | BC37: 2.1 | BD37: 2.1 | BE37: 2.1 | BF37: 2.1 | BG37: 2.1 | BH37: 2.1 | BI37: 2.1 | BK37: =BK38+1 -> 34 | BL37: 0 | BM37: =IF(BL37<=0, "XX", BB$42 + BC$42 + BD$42 + BE$42 + BF$42 +BL37) -> XX | BN37: =IF(BM37="XX", "XX", $BB$9 + BB$44 + BC$44 + BD$44 +BE$44 + BF$44 + BL37*BG$20) -> XX | BO37: =IF(BM37="XX", "XX", BN37*0.3048) -> XX | BP37: =IF( (BL37>0),1, 0) -> 0 | BS37: =BK37 -> 34 | BT37: =BL37 -> 0 | BU37: =BM37 -> XX | BV37: =BN37 -> XX | BW37: =IF(BU37="XX", "XX", BV37*0.3048) -> XX | BY37: ='SMMR-Calcs'!H42 -> XX | BZ37: ='SMMR-Calcs'!K42 -> XX | CA37: ='SMMR-Calcs'!L42 -> XX | CB37: ='SMMR-Calcs'!M42 -> XX | CC37: ='SMMR-Calcs'!S42 -> XX | CD37: ='SMMR-Calcs'!R42 -> XX | CE37: ='SMMR-Calcs'!AS42 -> 0 | CF37: ='SMMR-Calcs'!AT42 -> XX | CG37: ='SMMR-Calcs'!AV42 -> 0 | CI37: =$BM$43 -> 4-Ofc | CQ37: =$BM$43 -> 4-Ofc | CT37: =BK37 -> 34 | CU37: =BL37 -> 0 | CV37: =BM37 -> XX | CW37: =BN37 -> XX | CX37: =BO37 -> XX | CZ37: ='WNTR-Calcs'!H42 -> XX | DA37: ='WNTR-Calcs'!K42 -> XX | DB37: ='WNTR-Calcs'!L42 -> XX | DC37: ='WNTR-Calcs'!M42 -> XX | DD37: ='WNTR-Calcs'!S42 -> XX | DE37: ='WNTR-Calcs'!R42 -> XX | DF37: ='WNTR-Calcs'!AS42 -> 0 | DG37: ='WNTR-Calcs'!AT42 -> XX | DH37: ='WNTR-Calcs'!AV42 -> 0 | DJ37: =$BM$43 -> 4-Ofc | DR37: =$BM$43 -> 4-Ofc
B38: WLEXOF | G38: EW, office bldg | P38: 4.1 | R38: 19.9 | T38: =P38*$B$28 -> 0.00041 | W38: =R38*$B$28 -> 0.00199 | AA38: =AA37 + 0.005 -> 0.025 | AD38: =AA38/($U$28*(2*$E$28)^0.5) -> 0.14537095 | BA38: Core-Zone Sup Air (cfm / ft2) | BB38: 1.5 | BC38: 1.5 | BD38: 1.5 | BE38: 1.5 | BF38: 1.5 | BG38: 1.5 | BH38: 1.5 | BI38: 1.5 | BK38: =BK39+1 -> 33 | BL38: 5 | BM38: =IF(BL38<=0, "XX", BB$42 + BC$42 + BD$42 + BE$42+BL38) -> 58 | BN38: =IF(BM38="XX", "XX", $BB$9 + BB$44 + BC$44 + BD$44 +BE$44 + BL38*BF$20) -> 1339 | BO38: =IF(BM38="XX", "XX", BN38*0.3048) -> 408.1272 | BP38: =IF( (BL38>0),1, 0) -> 1 | BS38: =BK38 -> 33 | BT38: =BL38 -> 5 | BU38: =BM38 -> 58 | BV38: =BN38 -> 1339 | BW38: =IF(BU38="XX", "XX", BV38*0.3048) -> 408.1272 | BY38: ='SMMR-Calcs'!H43 -> 28.57933 | BZ38: ='SMMR-Calcs'!K43 -> 11.409473 | CA38: ='SMMR-Calcs'!L43 -> 92.01316 | CB38: ='SMMR-Calcs'!M43 -> 73.03674 | CC38: ='SMMR-Calcs'!S43 -> 37.509526 | CD38: ='SMMR-Calcs'!R43 -> 0.067162541 | CE38: ='SMMR-Calcs'!AS43 -> -234.40076 | CF38: ='SMMR-Calcs'!AT43 -> -0.024416745 | CG38: ='SMMR-Calcs'!AV43 -> -759.45845 | CI38: =$BM$42 -> 54 | CQ38: =$BM$42 -> 54 | CT38: =BK38 -> 33 | CU38: =BL38 -> 5 | CV38: =BM38 -> 58 | CW38: =BN38 -> 1339 | CX38: =BO38 -> 408.1272 | CZ38: ='WNTR-Calcs'!H43 -> 28.57933 | DA38: ='WNTR-Calcs'!K43 -> 19.614209 | DB38: ='WNTR-Calcs'!L43 -> -22.98684 | DC38: ='WNTR-Calcs'!M43 -> -21.96326 | DD38: ='WNTR-Calcs'!S43 -> -4.9358822 | DE38: ='WNTR-Calcs'!R43 -> 0.086681373 | DF38: ='WNTR-Calcs'!AS43 -> -507.33456 | DG38: ='WNTR-Calcs'!AT43 -> -0.05284735 | DH38: ='WNTR-Calcs'!AV43 -> -1643.764 | DJ38: =$BM$42 -> 54 | DR38: =$BM$42 -> 54
B39: WLEXSC | G39: EW, school | P39: 3.1 | R39: 8.6 | T39: =P39*$B$28 -> 0.00031 | W39: =R39*$B$28 -> 0.00086 | AA39: =AA38 + 0.005 -> 0.03 | AD39: =AA39/($U$28*(2*$E$28)^0.5) -> 0.17444514 | BA39: Inter-Zone Sup Air (cfm / ft2) | BB39: 1.1 | BC39: 1.1 | BD39: 1.1 | BE39: 1.1 | BF39: 1.1 | BG39: 1.1 | BH39: 1.1 | BI39: 1.1 | BK39: =BK40+1 -> 32 | BL39: 4 | BM39: =IF(BL39<=0, "XX", BB$42 + BC$42 + BD$42 + BE$42+BL39) -> 57 | BN39: =IF(BM39="XX", "XX", $BB$9 + BB$44 + BC$44 + BD$44 +BE$44 + BL39*BF$20) -> 1324 | BO39: =IF(BM39="XX", "XX", BN39*0.3048) -> 403.5552 | BP39: =IF( (BL39>0),1, 0) -> 1 | BS39: =BK39 -> 32 | BT39: =BL39 -> 4 | BU39: =BM39 -> 57 | BV39: =BN39 -> 1324 | BW39: =IF(BU39="XX", "XX", BV39*0.3048) -> 403.5552 | BY39: ='SMMR-Calcs'!H44 -> 28.594968 | BZ39: ='SMMR-Calcs'!K44 -> 11.294882 | CA39: ='SMMR-Calcs'!L44 -> 92.06656 | CB39: ='SMMR-Calcs'!M44 -> 73.07184 | CC39: ='SMMR-Calcs'!S44 -> 37.531086 | CD39: ='SMMR-Calcs'!R44 -> 0.06719198 | CE39: ='SMMR-Calcs'!AS44 -> -239.5192 | CF39: ='SMMR-Calcs'!AT44 -> -0.024949917 | CG39: ='SMMR-Calcs'!AV44 -> -776.04222 | CI39: =$BM$41 -> 55 | CQ39: =$BM$41 -> 55 | CT39: =BK39 -> 32 | CU39: =BL39 -> 4 | CV39: =BM39 -> 57 | CW39: =BN39 -> 1324 | CX39: =BO39 -> 403.5552 | CZ39: ='WNTR-Calcs'!H44 -> 28.594968 | DA39: ='WNTR-Calcs'!K44 -> 19.442322 | DB39: ='WNTR-Calcs'!L44 -> -22.93344 | DC39: ='WNTR-Calcs'!M44 -> -21.92816 | DD39: ='WNTR-Calcs'!S44 -> -4.926783 | DE39: ='WNTR-Calcs'!R44 -> 0.086718694 | DF39: ='WNTR-Calcs'!AS44 -> -492.07247 | DG39: ='WNTR-Calcs'!AT44 -> -0.051257549 | DH39: ='WNTR-Calcs'!AV44 -> -1594.3148 | DJ39: =$BM$41 -> 55 | DR39: =$BM$41 -> 55
B40: WLEXID | G40: EW, industrial bldg | P40: 3.8 | R40: 15.6 | T40: =P40*$B$28 -> 0.00038 | W40: =R40*$B$28 -> 0.00156 | AA40: =AA39 + 0.005 -> 0.035 | AD40: =AA40/($U$28*(2*$E$28)^0.5) -> 0.20351933 | BK40: =BK41+1 -> 31 | BL40: 3 | BM40: =IF(BL40<=0, "XX", BB$42 + BC$42 + BD$42 + BE$42+BL40) -> 56 | BN40: =IF(BM40="XX", "XX", $BB$9 + BB$44 + BC$44 + BD$44 +BE$44 + BL40*BF$20) -> 1309 | BO40: =IF(BM40="XX", "XX", BN40*0.3048) -> 398.9832 | BP40: =IF( (BL40>0),1, 0) -> 1 | BS40: =BK40 -> 31 | BT40: =BL40 -> 3 | BU40: =BM40 -> 56 | BV40: =BN40 -> 1309 | BW40: =IF(BU40="XX", "XX", BV40*0.3048) -> 398.9832 | BY40: ='SMMR-Calcs'!H45 -> 28.610613 | BZ40: ='SMMR-Calcs'!K45 -> 11.18029 | CA40: ='SMMR-Calcs'!L45 -> 92.11996 | CB40: ='SMMR-Calcs'!M45 -> 73.10694 | CC40: ='SMMR-Calcs'!S45 -> 37.552652 | CD40: ='SMMR-Calcs'!R45 -> 0.067221429 | CE40: ='SMMR-Calcs'!AS45 -> -244.56505 | CF40: ='SMMR-Calcs'!AT45 -> -0.025475526 | CG40: ='SMMR-Calcs'!AV45 -> -792.39075 | CI40: =$BM$40 -> 56 | CQ40: =$BM$40 -> 56 | CT40: =BK40 -> 31 | CU40: =BL40 -> 3 | CV40: =BM40 -> 56 | CW40: =BN40 -> 1309 | CX40: =BO40 -> 398.9832 | CZ40: ='WNTR-Calcs'!H45 -> 28.610613 | DA40: ='WNTR-Calcs'!K45 -> 19.270435 | DB40: ='WNTR-Calcs'!L45 -> -22.88004 | DC40: ='WNTR-Calcs'!M45 -> -21.89306 | DD40: ='WNTR-Calcs'!S45 -> -4.9176837 | DE40: ='WNTR-Calcs'!R45 -> 0.086756027 | DF40: ='WNTR-Calcs'!AS45 -> -476.33998 | DG40: ='WNTR-Calcs'!AT45 -> -0.049618748 | DH40: ='WNTR-Calcs'!AV45 -> -1543.3415 | DJ40: =$BM$40 -> 56 | DR40: =$BM$40 -> 56
B41: WLEXRE | G41: EW, retail | P41: 6.9 | R41: 12 | T41: =P41*$B$28 -> 0.00069 | W41: =R41*$B$28 -> 0.0012 | AA41: =AA40 + 0.005 -> 0.04 | AD41: =AA41/($U$28*(2*$E$28)^0.5) -> 0.23259352 | AY41: Bldg-Model | BA41: SECTION No. >> | BB41: =BB14 -> 1-Grd | BC41: =BC14 -> 2-Rtl | BD41: =BD14 -> 3-Fin | BE41: =BE14 -> 4-Ofc | BF41: =BF14 -> 5-Srv | BG41: =BG14 -> 6-Htl | BH41: =BH14 -> 7-Apt | BI41: =BI14 -> 8-din | BK41: =BK42+1 -> 30 | BL41: 2 | BM41: =IF(BL41<=0, "XX", BB$42 + BC$42 + BD$42 + BE$42+BL41) -> 55 | BN41: =IF(BM41="XX", "XX", $BB$9 + BB$44 + BC$44 + BD$44 +BE$44 + BL41*BF$20) -> 1294 | BO41: =IF(BM41="XX", "XX", BN41*0.3048) -> 394.4112 | BP41: =IF( (BL41>0),1, 0) -> 1 | BS41: =BK41 -> 30 | BT41: =BL41 -> 2 | BU41: =BM41 -> 55 | BV41: =BN41 -> 1294 | BW41: =IF(BU41="XX", "XX", BV41*0.3048) -> 394.4112 | BY41: ='SMMR-Calcs'!H46 -> 28.626265 | BZ41: ='SMMR-Calcs'!K46 -> 11.065699 | CA41: ='SMMR-Calcs'!L46 -> 92.17336 | CB41: ='SMMR-Calcs'!M46 -> 73.14204 | CC41: ='SMMR-Calcs'!S46 -> 37.574225 | CD41: ='SMMR-Calcs'!R46 -> 0.067250887 | CE41: ='SMMR-Calcs'!AS46 -> -249.54269 | CF41: ='SMMR-Calcs'!AT46 -> -0.02599403 | CG41: ='SMMR-Calcs'!AV46 -> -808.5183 | CI41: =$BM$39 -> 57 | CQ41: =$BM$39 -> 57 | CT41: =BK41 -> 30 | CU41: =BL41 -> 2 | CV41: =BM41 -> 55 | CW41: =BN41 -> 1294 | CX41: =BO41 -> 394.4112 | CZ41: ='WNTR-Calcs'!H46 -> 28.626265 | DA41: ='WNTR-Calcs'!K46 -> 19.098549 | DB41: ='WNTR-Calcs'!L46 -> -22.82664 | DC41: ='WNTR-Calcs'!M46 -> -21.85796 | DD41: ='WNTR-Calcs'!S46 -> -4.9085841 | DE41: ='WNTR-Calcs'!R46 -> 0.086793373 | DF41: ='WNTR-Calcs'!AS46 -> -460.08883 | DG41: ='WNTR-Calcs'!AT46 -> -0.04792592 | DH41: ='WNTR-Calcs'!AV46 -> -1490.6878 | DJ41: =$BM$39 -> 57 | DR41: =$BM$39 -> 57
B42: WLEXRS | G42: EW, restaurant | P42: 3.8 | R42: 5.5 | T42: =P42*$B$28 -> 0.00038 | W42: =R42*$B$28 -> 0.00055 | AA42: =AA41 + 0.005 -> 0.045 | AD42: =AA42/($U$28*(2*$E$28)^0.5) -> 0.26166771 | BA42: No. of Flrs (Incl Mech Flr) | BB42: =BB22+(IF(BB23="Y", 1,0)) -> 2 | BC42: =BC22+(IF(BC23="Y", 1,0)) -> 4 | BD42: =BD22+(IF(BD23="Y", 1,0)) -> 6 | BE42: =BE22+(IF(BE23="Y", 1,0)) -> 41 | BF42: =BF22+(IF(BF23="Y", 1,0)) -> 5 | BG42: =BG22+(IF(BG23="Y", 1,0)) -> 25 | BH42: =BH22+(IF(BH23="Y", 1,0)) -> 16 | BI42: =BI22+(IF(BI23="Y", 1,0)) -> 3 | BK42: =BK44+1 -> 29 | BL42: 1 | BM42: =IF(BL42<=0, "XX", BB$42 + BC$42 + BD$42 + BE$42+BL42) -> 54 | BN42: =IF(BM42="XX", "XX", $BB$9 + BB$44 + BC$44 + BD$44 +BE$44 + BL42*BF$20) -> 1279 | BO42: =IF(BM42="XX", "XX", BN42*0.3048) -> 389.8392 | BP42: =IF( (BL42>0),1, 0) -> 1 | BS42: =BK42 -> 29 | BT42: =BL42 -> 1 | BU42: =BM42 -> 54 | BV42: =BN42 -> 1279 | BW42: =IF(BU42="XX", "XX", BV42*0.3048) -> 389.8392 | BY42: ='SMMR-Calcs'!H47 -> 28.641924 | BZ42: ='SMMR-Calcs'!K47 -> 10.951108 | CA42: ='SMMR-Calcs'!L47 -> 92.22676 | CB42: ='SMMR-Calcs'!M47 -> 73.17714 | CC42: ='SMMR-Calcs'!S47 -> 37.595804 | CD42: ='SMMR-Calcs'!R47 -> 0.067280354 | CE42: ='SMMR-Calcs'!AS47 -> -254.45613 | CF42: ='SMMR-Calcs'!AT47 -> -0.026505847 | CG42: ='SMMR-Calcs'!AV47 -> -824.43785 | CI42: =$BM$38 -> 58 | CQ42: =$BM$38 -> 58 | CT42: =BK42 -> 29 | CU42: =BL42 -> 1 | CV42: =BM42 -> 54 | CW42: =BN42 -> 1279 | CX42: =BO42 -> 389.8392 | CZ42: ='WNTR-Calcs'!H47 -> 28.641924 | DA42: ='WNTR-Calcs'!K47 -> 18.926662 | DB42: ='WNTR-Calcs'!L47 -> -22.77324 | DC42: ='WNTR-Calcs'!M47 -> -21.82286 | DD42: ='WNTR-Calcs'!S47 -> -4.8994843 | DE42: ='WNTR-Calcs'!R47 -> 0.086830731 | DF42: ='WNTR-Calcs'!AS47 -> -443.262 | DG42: ='WNTR-Calcs'!AT47 -> -0.046173125 | DH42: ='WNTR-Calcs'!AV47 -> -1436.1689 | DJ42: =$BM$38 -> 58 | DR42: =$BM$38 -> 58
B43: WLEXAS | G43: EW, assembly | P43: 3.7 | R43: 6.3 | T43: =P43*$B$28 -> 0.00037 | W43: =R43*$B$28 -> 0.00063 | AA43: =AA42 + 0.005 -> 0.05 | AD43: =AA43/($U$28*(2*$E$28)^0.5) -> 0.2907419 | BA43: Area per Flr (ft2) | BB43: =IF((BB18>0), BB18, (BB16*BB17)) -> 76800 | BC43: =IF((BC18>0), BC18, (BC16*BC17)) -> 56000 | BD43: =IF((BD18>0), BD18, (BD16*BD17)) -> 38400 | BE43: =IF((BE18>0), BE18, (BE16*BE17)) -> 30800 | BF43: =IF((BF18>0), BF18, (BF16*BF17)) -> 24000 | BG43: =IF((BG18>0), BG18, (BG16*BG17)) -> 18000 | BH43: =IF((BH18>0), BH18, (BH16*BH17)) -> 18000 | BI43: =IF((BI18>0), BI18, (BI16*BI17)) -> 18000 | BK43: Section >> | BM43: =BE14 -> 4-Ofc | BN43: # flrs >> | BO43: =BE42 -> 41 | BP43: =SUM(BP44:BP58) -> 15 | BS43: =BK43 -> Section >> | BU43: =BM43 -> 4-Ofc | BV43: =BN43 -> # flrs >> | BW43: =BO43 -> 41 | BY43: in.Hg | BZ43: Wnd-V | CA43: Tdb | CB43: Twb | CC43: Enth | CD43: Dens | CE43: Q cfm | CF43: Q/ EnA | CG43: Tons | CI43: =$BM$37 -> XX | CQ43: =$BM$37 -> XX | CT43: =BK43 -> Section >> | CV43: =BM43 -> 4-Ofc | CW43: =BN43 -> # flrs >> | CX43: =BO43 -> 41 | CZ43: in.Hg | DA43: Wnd-V | DB43: Tdb | DC43: Twb | DD43: Enth | DE43: Dens | DF43: Q cfm | DG43: Q/ EnA | DH43: Tons | DJ43: =$BM$37 -> XX | DR43: =$BM$37 -> XX
B44: WLEXHC | G44: EW, healthcare | P44: 5.6 | R44: 7.6 | T44: =P44*$B$28 -> 0.00056 | W44: =R44*$B$28 -> 0.00076 | AA44: =AA43 + 0.005 -> 0.055 | AD44: =AA44/($U$28*(2*$E$28)^0.5) -> 0.31981609 | BA44: SECTION-Height (ft) | BB44: =BB20*BB22 + 20* (IF(BB23="Y",1,0)) -> 40 | BC44: =BC20*BC22 + 20* (IF(BC23="Y",1,0)) -> 74 | BD44: =BD20*BD22 + 20* (IF(BD23="Y",1,0)) -> 90 | BE44: =BE20*BE22 + 20* (IF(BE23="Y",1,0)) -> 560 | BF44: =BF20*BF22 + 20* (IF(BF23="Y",1,0)) -> 75 | BG44: =BG20*BG22 + 20* (IF(BG23="Y",1,0)) -> 250 | BH44: =BH20*BH22 + 20* (IF(BH23="Y",1,0)) -> 170 | BI44: =BI20*BI22 + 20* (IF(BI23="Y",1,0)) -> 50 | BK44: =BK45+1 -> 28 | BL44: 41 | BM44: =IF(BL44<=0, "XX", BB$42 + BC$42 + BD$42+BL44) -> 53 | BN44: =IF(BM44="XX", "XX", $BB$9 + BB$44 + BC$44 + BD$44 + BL44*BE$20) -> 1257.5 | BO44: =IF(BM44="XX", "XX", BN44*0.3048) -> 383.286 | BP44: =IF( (BL44>0),1, 0) -> 1 | BS44: =BK44 -> 28 | BT44: =BL44 -> 41 | BU44: =BM44 -> 53 | BV44: =BN44 -> 1257.5 | BW44: =IF(BU44="XX", "XX", BV44*0.3048) -> 383.286 | BY44: ='SMMR-Calcs'!H49 -> 28.66438 | BZ44: ='SMMR-Calcs'!K49 -> 10.78686 | CA44: ='SMMR-Calcs'!L49 -> 92.3033 | CB44: ='SMMR-Calcs'!M49 -> 73.22745 | CC44: ='SMMR-Calcs'!S49 -> 37.626746 | CD44: ='SMMR-Calcs'!R49 -> 0.067322606 | CE44: ='SMMR-Calcs'!AS49 -> -242.84915 | CF44: ='SMMR-Calcs'!AT49 -> -0.02498448 | CG44: ='SMMR-Calcs'!AV49 -> -786.83123 | CI44: =$BM$36 -> 5-Srv | CQ44: =$BM$36 -> 5-Srv | CT44: =BK44 -> 28 | CU44: =BL44 -> 41 | CV44: =BM44 -> 53 | CW44: =BN44 -> 1257.5 | CX44: =BO44 -> 383.286 | CZ44: ='WNTR-Calcs'!H49 -> 28.66438 | DA44: ='WNTR-Calcs'!K49 -> 18.68029 | DB44: ='WNTR-Calcs'!L49 -> -22.6967 | DC44: ='WNTR-Calcs'!M49 -> -21.77255 | DD44: ='WNTR-Calcs'!S49 -> -4.8864408 | DE44: ='WNTR-Calcs'!R49 -> 0.086884299 | DF44: ='WNTR-Calcs'!AS49 -> -355.01477 | DG44: ='WNTR-Calcs'!AT49 -> -0.036524153 | DH44: ='WNTR-Calcs'!AV49 -> -1150.2478 | DJ44: =$BM$36 -> 5-Srv | DR44: =$BM$36 -> 5-Srv
B45: WLEXSP | G45: EW, sports facility | P45: 7.4 | R45: 9.8 | T45: =P45*$B$28 -> 0.00074 | W45: =R45*$B$28 -> 0.00098 | AA45: =AA44 + 0.005 -> 0.06 | AD45: =AA45/($U$28*(2*$E$28)^0.5) -> 0.34889028 | BA45: Total Section Flr Area (ft2) | BB45: =BB43 * (BB22 + IF(BB23="Y", 1,0)) -> 153600 | BC45: =BC43 * (BC22 + IF(BC23="Y", 1,0)) -> 224000 | BD45: =BD43 * (BD22 + IF(BD23="Y", 1,0)) -> 230400 | BE45: =BE43 * (BE22 + IF(BE23="Y", 1,0)) -> 1262800 | BF45: =BF43 * (BF22 + IF(BF23="Y", 1,0)) -> 120000 | BG45: =BG43 * (BG22 + IF(BG23="Y", 1,0)) -> 450000 | BH45: =BH43 * (BH22 + IF(BH23="Y", 1,0)) -> 288000 | BI45: =BI43 * (BI22 + IF(BI23="Y", 1,0)) -> 54000 | BK45: =BK46+1 -> 27 | BL45: 39 | BM45: =IF(BL45<=0, "XX", BB$42 + BC$42 + BD$42+BL45) -> 51 | BN45: =IF(BM45="XX", "XX", $BB$9 + BB$44 + BC$44 + BD$44 + BL45*BE$20) -> 1230.5 | BO45: =IF(BM45="XX", "XX", BN45*0.3048) -> 375.0564 | BP45: =IF( (BL45>0),1, 0) -> 1 | BS45: =BK45 -> 27 | BT45: =BL45 -> 39 | BU45: =BM45 -> 51 | BV45: =BN45 -> 1230.5 | BW45: =IF(BU45="XX", "XX", BV45*0.3048) -> 375.0564 | BY45: ='SMMR-Calcs'!H50 -> 28.692601 | BZ45: ='SMMR-Calcs'!K50 -> 10.580596 | CA45: ='SMMR-Calcs'!L50 -> 92.39942 | CB45: ='SMMR-Calcs'!M50 -> 73.29063 | CC45: ='SMMR-Calcs'!S50 -> 37.665621 | CD45: ='SMMR-Calcs'!R50 -> 0.067375694 | CE45: ='SMMR-Calcs'!AS50 -> -248.92186 | CF45: ='SMMR-Calcs'!AT50 -> -0.025609245 | CG45: ='SMMR-Calcs'!AV50 -> -806.50682 | CI45: =$BM$35 -> 59 | CQ45: =$BM$35 -> 59 | CT45: =BK45 -> 27 | CU45: =BL45 -> 39 | CV45: =BM45 -> 51 | CW45: =BN45 -> 1230.5 | CX45: =BO45 -> 375.0564 | CZ45: ='WNTR-Calcs'!H50 -> 28.692601 | DA45: ='WNTR-Calcs'!K50 -> 18.370894 | DB45: ='WNTR-Calcs'!L50 -> -22.60058 | DC45: ='WNTR-Calcs'!M50 -> -21.70937 | DD45: ='WNTR-Calcs'!S50 -> -4.87006 | DE45: ='WNTR-Calcs'!R50 -> 0.086951606 | DF45: ='WNTR-Calcs'!AS50 -> -328.68864 | DG45: ='WNTR-Calcs'!AT50 -> -0.033815704 | DH45: ='WNTR-Calcs'!AV50 -> -1064.9512 | DJ45: =$BM$35 -> 59 | DR45: =$BM$35 -> 59
B46: WLEXPC6A | G46: EW: Precast concrete panel | P46: 2.19 | T46: =P46*$B$28 -> 0.000219 | W46: =R46*$B$28 -> 0 | AA46: =AA45 + 0.005 -> 0.065 | AD46: =AA46/($U$28*(2*$E$28)^0.5) -> 0.37796447 | AP46: Offices | BA46: Envelope Perim Length (ft) | BB46: =IF((BB19>0),BB19,(2*(BB16+BB17))) -> 982.39365 | BC46: =IF((BC19>0),BC19,(2*(BC16+BC17))) -> 838.87828 | BD46: =IF((BD19>0),BD19,(2*(BD16+BD17))) -> 800 | BE46: =IF((BE19>0),BE19,(2*(BE16+BE17))) -> 720 | BF46: =IF((BF19>0),BF19,(2*(BF16+BF17))) -> 640 | BG46: =IF((BG19>0),BG19,(2*(BG16+BG17))) -> 475.59928 | BH46: =IF((BH19>0),BH19,(2*(BH16+BH17))) -> 475.59928 | BI46: =IF((BI19>0),BI19,(2*(BI16+BI17))) -> 475.59928 | BK46: =BK47+1 -> 26 | BL46: 35 | BM46: =IF(BL46<=0, "XX", BB$42 + BC$42 + BD$42+BL46) -> 47 | BN46: =IF(BM46="XX", "XX", $BB$9 + BB$44 + BC$44 + BD$44 + BL46*BE$20) -> 1176.5 | BO46: =IF(BM46="XX", "XX", BN46*0.3048) -> 358.5972 | BP46: =IF( (BL46>0),1, 0) -> 1 | BS46: =BK46 -> 26 | BT46: =BL46 -> 35 | BU46: =BM46 -> 47 | BV46: =BN46 -> 1176.5 | BW46: =IF(BU46="XX", "XX", BV46*0.3048) -> 358.5972 | BY46: ='SMMR-Calcs'!H51 -> 28.749111 | BZ46: ='SMMR-Calcs'!K51 -> 10.168067 | CA46: ='SMMR-Calcs'!L51 -> 92.59166 | CB46: ='SMMR-Calcs'!M51 -> 73.41699 | CC46: ='SMMR-Calcs'!S51 -> 37.743434 | CD46: ='SMMR-Calcs'!R51 -> 0.067481957 | CE46: ='SMMR-Calcs'!AS51 -> -260.85075 | CF46: ='SMMR-Calcs'!AT51 -> -0.026836497 | CG46: ='SMMR-Calcs'!AV51 -> -845.15644 | CI46: =$BM$34 -> 61 | CQ46: =$BM$34 -> 61 | CT46: =BK46 -> 26 | CU46: =BL46 -> 35 | CV46: =BM46 -> 47 | CW46: =BN46 -> 1176.5 | CX46: =BO46 -> 358.5972 | CZ46: ='WNTR-Calcs'!H51 -> 28.749111 | DA46: ='WNTR-Calcs'!K51 -> 17.752101 | DB46: ='WNTR-Calcs'!L51 -> -22.40834 | DC46: ='WNTR-Calcs'!M51 -> -21.58301 | DD46: ='WNTR-Calcs'!S51 -> -4.8372961 | DE46: ='WNTR-Calcs'!R51 -> 0.087086342 | DF46: ='WNTR-Calcs'!AS51 -> -268.60741 | DG46: ='WNTR-Calcs'!AT51 -> -0.027634507 | DH46: ='WNTR-Calcs'!AV51 -> -870.28801 | DJ46: =$BM$34 -> 61 | DR46: =$BM$34 -> 61
B47: WLEXTV6AA | G47: EW: Tile veneer | P47: 1.34 | T47: =P47*$B$28 -> 0.000134 | W47: =R47*$B$28 -> 0 | AA47: =AA46 + 0.005 -> 0.07 | AD47: =AA47/($U$28*(2*$E$28)^0.5) -> 0.40703866 | BA47: Envelope Area per Flr (ft2) | BB47: =BB46*BB20 -> 19647.873 | BC47: =BC46*BC20 -> 15099.809 | BD47: =BD46*BD20 -> 12000 | BE47: =BE46*BE20 -> 9720 | BF47: =BF46*BF20 -> 9600 | BG47: =BG46*BG20 -> 4755.9928 | BH47: =BH46*BH20 -> 4755.9928 | BI47: =BI46*BI20 -> 7133.9892 | BK47: =BK48+1 -> 25 | BL47: 31 | BM47: =IF(BL47<=0, "XX", BB$42 + BC$42 + BD$42+BL47) -> 43 | BN47: =IF(BM47="XX", "XX", $BB$9 + BB$44 + BC$44 + BD$44 + BL47*BE$20) -> 1122.5 | BO47: =IF(BM47="XX", "XX", BN47*0.3048) -> 342.138 | BP47: =IF( (BL47>0),1, 0) -> 1 | BS47: =BK47 -> 25 | BT47: =BL47 -> 31 | BU47: =BM47 -> 43 | BV47: =BN47 -> 1122.5 | BW47: =IF(BU47="XX", "XX", BV47*0.3048) -> 342.138 | BY47: ='SMMR-Calcs'!H52 -> 28.805711 | BZ47: ='SMMR-Calcs'!K52 -> 9.7555386 | CA47: ='SMMR-Calcs'!L52 -> 92.7839 | CB47: ='SMMR-Calcs'!M52 -> 73.54335 | CC47: ='SMMR-Calcs'!S52 -> 37.821331 | CD47: ='SMMR-Calcs'!R52 -> 0.067588339 | CE47: ='SMMR-Calcs'!AS52 -> -272.52244 | CF47: ='SMMR-Calcs'!AT52 -> -0.028037288 | CG47: ='SMMR-Calcs'!AV52 -> -882.97272 | CI47: =$BM$33 -> 63 | CQ47: =$BM$33 -> 63 | CT47: =BK47 -> 25 | CU47: =BL47 -> 31 | CV47: =BM47 -> 43 | CW47: =BN47 -> 1122.5 | CX47: =BO47 -> 342.138 | CZ47: ='WNTR-Calcs'!H52 -> 28.805711 | DA47: ='WNTR-Calcs'!K52 -> 17.133308 | DB47: ='WNTR-Calcs'!L52 -> -22.2161 | DC47: ='WNTR-Calcs'!M52 -> -21.45665 | DD47: ='WNTR-Calcs'!S52 -> -4.8045293 | DE47: ='WNTR-Calcs'!R52 -> 0.087221239 | DF47: ='WNTR-Calcs'!AS52 -> -190.82274 | DG47: ='WNTR-Calcs'!AT52 -> -0.01963197 | DH47: ='WNTR-Calcs'!AV52 -> -618.26569 | DJ47: =$BM$33 -> 63 | DR47: =$BM$33 -> 63
B48: WLEXCC | G48: EW, cast-in-place concrete | P48: 0.5 | R48: 1.8 | T48: =P48*$B$28 -> 5e-05 | W48: =R48*$B$28 -> 0.00018 | AA48: =AA47 + 0.005 -> 0.075 | AD48: =AA48/($U$28*(2*$E$28)^0.5) -> 0.43611285 | BA48: Wall+Wndw Area / Bay (ft2) | BB48: =BB20*$BE$12 -> 620 | BC48: =BC20*$BE$12 -> 558 | BD48: =BD20*$BE$12 -> 465 | BE48: =BE20*$BE$12 -> 418.5 | BF48: =BF20*$BE$12 -> 465 | BG48: =BG20*$BE$12 -> 310 | BH48: =BH20*$BE$12 -> 310 | BI48: =BI20*$BE$12 -> 465 | BK48: =BK49+1 -> 24 | BL48: 28 | BM48: =IF(BL48<=0, "XX", BB$42 + BC$42 + BD$42+BL48) -> 40 | BN48: =IF(BM48="XX", "XX", $BB$9 + BB$44 + BC$44 + BD$44 + BL48*BE$20) -> 1082 | BO48: =IF(BM48="XX", "XX", BN48*0.3048) -> 329.7936 | BP48: =IF( (BL48>0),1, 0) -> 1 | BS48: =BK48 -> 24 | BT48: =BL48 -> 28 | BU48: =BM48 -> 40 | BV48: =BN48 -> 1082 | BW48: =IF(BU48="XX", "XX", BV48*0.3048) -> 329.7936 | BY48: ='SMMR-Calcs'!H53 -> 28.84822 | BZ48: ='SMMR-Calcs'!K53 -> 9.4461421 | CA48: ='SMMR-Calcs'!L53 -> 92.92808 | CB48: ='SMMR-Calcs'!M53 -> 73.63812 | CC48: ='SMMR-Calcs'!S53 -> 37.879809 | CD48: ='SMMR-Calcs'!R53 -> 0.067668204 | CE48: ='SMMR-Calcs'!AS53 -> -281.12672 | CF48: ='SMMR-Calcs'!AT53 -> -0.028922502 | CG48: ='SMMR-Calcs'!AV53 -> -910.85056 | CI48: =$BM$32 -> 65 | CQ48: =$BM$32 -> 65 | CT48: =BK48 -> 24 | CU48: =BL48 -> 28 | CV48: =BM48 -> 40 | CW48: =BN48 -> 1082 | CX48: =BO48 -> 329.7936 | CZ48: ='WNTR-Calcs'!H53 -> 28.84822 | DA48: ='WNTR-Calcs'!K53 -> 16.669213 | DB48: ='WNTR-Calcs'!L53 -> -22.07192 | DC48: ='WNTR-Calcs'!M53 -> -21.36188 | DD48: ='WNTR-Calcs'!S53 -> -4.7799523 | DE48: ='WNTR-Calcs'!R53 -> 0.087322517 | DF48: ='WNTR-Calcs'!AS53 -> -98.534612 | DG48: ='WNTR-Calcs'!AT53 -> -0.010137306 | DH48: ='WNTR-Calcs'!AV53 -> -319.25214 | DJ48: =$BM$32 -> 65 | DR48: =$BM$32 -> 65
B49: WLEXPC | G49: EW, precast concrete panel | P49: 1.2 | R49: 1.65 | T49: =P49*$B$28 -> 0.00012 | W49: =R49*$B$28 -> 0.000165 | AA49: =AA48 + 0.005 -> 0.08 | AD49: =AA49/($U$28*(2*$E$28)^0.5) -> 0.46518704 | BA49: Window Area per Bay (ft2) | BB49: =IF((BB27>0), (BB48*BB27/100), (BB24*BB25*BB26)) -> 372 | BC49: =IF((BC27>0), (BC48*BC27/100), (BC24*BC25*BC26)) -> 279 | BD49: =IF((BD27>0), (BD48*BD27/100), (BD24*BD25*BD26)) -> 302.25 | BE49: =IF((BE27>0), (BE48*BE27/100), (BE24*BE25*BE26)) -> 272.025 | BF49: =IF((BF27>0), (BF48*BF27/100), (BF24*BF25*BF26)) -> 279 | BG49: =IF((BG27>0), (BG48*BG27/100), (BG24*BG25*BG26)) -> 139.5 | BH49: =IF((BH27>0), (BH48*BH27/100), (BH24*BH25*BH26)) -> 139.5 | BI49: =IF((BI27>0), (BI48*BI27/100), (BI24*BI25*BI26)) -> 279 | BK49: =BK50+1 -> 23 | BL49: 26 | BM49: =IF(BL49<=0, "XX", BB$42 + BC$42 + BD$42+BL49) -> 38 | BN49: =IF(BM49="XX", "XX", $BB$9 + BB$44 + BC$44 + BD$44 + BL49*BE$20) -> 1055 | BO49: =IF(BM49="XX", "XX", BN49*0.3048) -> 321.564 | BP49: =IF( (BL49>0),1, 0) -> 1 | BS49: =BK49 -> 23 | BT49: =BL49 -> 26 | BU49: =BM49 -> 38 | BV49: =BN49 -> 1055 | BW49: =IF(BU49="XX", "XX", BV49*0.3048) -> 321.564 | BY49: ='SMMR-Calcs'!H54 -> 28.876587 | BZ49: ='SMMR-Calcs'!K54 -> 9.2398778 | CA49: ='SMMR-Calcs'!L54 -> 93.0242 | CB49: ='SMMR-Calcs'!M54 -> 73.7013 | CC49: ='SMMR-Calcs'!S54 -> 37.918821 | CD49: ='SMMR-Calcs'!R54 -> 0.067721484 | CE49: ='SMMR-Calcs'!AS54 -> -286.79814 | CF49: ='SMMR-Calcs'!AT54 -> -0.029505981 | CG49: ='SMMR-Calcs'!AV54 -> -929.22596 | CI49: =$BM$31 -> 68 | CQ49: =$BM$31 -> 68 | CT49: =BK49 -> 23 | CU49: =BL49 -> 26 | CV49: =BM49 -> 38 | CW49: =BN49 -> 1055 | CX49: =BO49 -> 321.564 | CZ49: ='WNTR-Calcs'!H54 -> 28.876587 | DA49: ='WNTR-Calcs'!K54 -> 16.359817 | DB49: ='WNTR-Calcs'!L54 -> -21.9758 | DC49: ='WNTR-Calcs'!M54 -> -21.2987 | DD49: ='WNTR-Calcs'!S54 -> -4.7635667 | DE49: ='WNTR-Calcs'!R54 -> 0.087390086 | DF49: ='WNTR-Calcs'!AS54 -> 89.705043 | DG49: ='WNTR-Calcs'!AT54 -> 0.0092289139 | DH49: ='WNTR-Calcs'!AV54 -> 290.64434 | DJ49: =$BM$31 -> 68 | DR49: =$BM$31 -> 68
B50: WLELCC14A | G50: Elev shaft wall, cast-in-place concr | P50: 5.55 | T50: =P50*$B$28 -> 0.000555 | W50: =R50*$B$28 -> 0 | AA50: =AA49 + 0.005 -> 0.085 | AD50: =AA50/($U$28*(2*$E$28)^0.5) -> 0.49426123 | BA50: Percent Window Area (%) | BB50: =IF((BB27>0), BB27, (100*BB49/BB48)) -> 60 | BC50: =IF((BC27>0), BC27, (100*BC49/BC48)) -> 50 | BD50: =IF((BD27>0), BD27, (100*BD49/BD48)) -> 65 | BE50: =IF((BE27>0), BE27, (100*BE49/BE48)) -> 65 | BF50: =IF((BF27>0), BF27, (100*BF49/BF48)) -> 60 | BG50: =IF((BG27>0), BG27, (100*BG49/BG48)) -> 45 | BH50: =IF((BH27>0), BH27, (100*BH49/BH48)) -> 45 | BI50: =IF((BI27>0), BI27, (100*BI49/BI48)) -> 60 | BK50: =BK51+1 -> 22 | BL50: 24 | BM50: =IF(BL50<=0, "XX", BB$42 + BC$42 + BD$42+BL50) -> 36 | BN50: =IF(BM50="XX", "XX", $BB$9 + BB$44 + BC$44 + BD$44 + BL50*BE$20) -> 1028 | BO50: =IF(BM50="XX", "XX", BN50*0.3048) -> 313.3344 | BP50: =IF( (BL50>0),1, 0) -> 1 | BS50: =BK50 -> 22 | BT50: =BL50 -> 24 | BU50: =BM50 -> 36 | BV50: =BN50 -> 1028 | BW50: =IF(BU50="XX", "XX", BV50*0.3048) -> 313.3344 | BY50: ='SMMR-Calcs'!H55 -> 28.904978 | BZ50: ='SMMR-Calcs'!K55 -> 9.0336134 | CA50: ='SMMR-Calcs'!L55 -> 93.12032 | CB50: ='SMMR-Calcs'!M55 -> 73.76448 | CC50: ='SMMR-Calcs'!S55 -> 37.957853 | CD50: ='SMMR-Calcs'!R55 -> 0.067774794 | CE50: ='SMMR-Calcs'!AS55 -> -292.42126 | CF50: ='SMMR-Calcs'!AT55 -> -0.030084492 | CG50: ='SMMR-Calcs'!AV55 -> -947.44489 | CI50: =$BM$30 -> 71 | CQ50: =$BM$30 -> 71 | CT50: =BK50 -> 22 | CU50: =BL50 -> 24 | CV50: =BM50 -> 36 | CW50: =BN50 -> 1028 | CX50: =BO50 -> 313.3344 | CZ50: ='WNTR-Calcs'!H55 -> 28.904978 | DA50: ='WNTR-Calcs'!K55 -> 16.05042 | DB50: ='WNTR-Calcs'!L55 -> -21.87968 | DC50: ='WNTR-Calcs'!M55 -> -21.23552 | DD50: ='WNTR-Calcs'!S55 -> -4.7471803 | DE50: ='WNTR-Calcs'!R55 -> 0.087457695 | DF50: ='WNTR-Calcs'!AS55 -> 160.5168 | DG50: ='WNTR-Calcs'!AT55 -> 0.016514074 | DH50: ='WNTR-Calcs'!AV55 -> 520.07444 | DJ50: =$BM$30 -> 71 | DR50: =$BM$30 -> 71
B51: WLSRCC14C | G51: Stair shaft wall, cast-in-place concr | P51: 0.15 | T51: =P51*$B$28 -> 1.5e-05 | W51: =R51*$B$28 -> 0 | AA51: =AA50 + 0.005 -> 0.09 | AD51: =AA51/($U$28*(2*$E$28)^0.5) -> 0.52333542 | BA51: Wall+Wndw Area / Floor (ft2) | BB51: =BB20 * BB46 -> 19647.873 | BC51: =BC20 * BC46 -> 15099.809 | BD51: =BD20 * BD46 -> 12000 | BE51: =BE20 * BE46 -> 9720 | BF51: =BF20 * BF46 -> 9600 | BG51: =BG20 * BG46 -> 4755.9928 | BH51: =BH20 * BH46 -> 4755.9928 | BI51: =BI20 * BI46 -> 7133.9892 | BK51: =BK52+1 -> 21 | BL51: =BL52+3 -> 25 | BM51: =IF(BL51<=0, "XX", BB$42 + BC$42 + BD$42+BL51) -> 37 | BN51: =IF(BM51="XX", "XX", $BB$9 + BB$44 + BC$44 + BD$44 + BL51*BE$20) -> 1041.5 | BO51: =IF(BM51="XX", "XX", BN51*0.3048) -> 317.4492 | BP51: =IF( (BL51>0),1, 0) -> 1 | BS51: =BK51 -> 21 | BT51: =BL51 -> 25 | BU51: =BM51 -> 37 | BV51: =BN51 -> 1041.5 | BW51: =IF(BU51="XX", "XX", BV51*0.3048) -> 317.4492 | BY51: ='SMMR-Calcs'!H56 -> 28.89078 | BZ51: ='SMMR-Calcs'!K56 -> 9.1367456 | CA51: ='SMMR-Calcs'!L56 -> 93.07226 | CB51: ='SMMR-Calcs'!M56 -> 73.73289 | CC51: ='SMMR-Calcs'!S56 -> 37.938334 | CD51: ='SMMR-Calcs'!R56 -> 0.067748135 | CE51: ='SMMR-Calcs'!AS56 -> -289.61556 | CF51: ='SMMR-Calcs'!AT56 -> -0.029795839 | CG51: ='SMMR-Calcs'!AV56 -> -938.35441 | CI51: =$BM$29 -> 74 | CQ51: =$BM$29 -> 74 | CT51: =BK51 -> 21 | CU51: =BL51 -> 25 | CV51: =BM51 -> 37 | CW51: =BN51 -> 1041.5 | CX51: =BO51 -> 317.4492 | CZ51: ='WNTR-Calcs'!H56 -> 28.89078 | DA51: ='WNTR-Calcs'!K56 -> 16.205118 | DB51: ='WNTR-Calcs'!L56 -> -21.92774 | DC51: ='WNTR-Calcs'!M56 -> -21.26711 | DD51: ='WNTR-Calcs'!S56 -> -4.7553736 | DE51: ='WNTR-Calcs'!R56 -> 0.087423885 | DF51: ='WNTR-Calcs'!AS56 -> 130.04229 | DG51: ='WNTR-Calcs'!AT56 -> 0.013378836 | DH51: ='WNTR-Calcs'!AV56 -> 421.33701 | DJ51: =$BM$29 -> 74 | DR51: =$BM$29 -> 74
B52: FLCO15 | G52: Floor: Office Bldg, reinforced concr | P52: 0.35 | T52: =P52*$B$28 -> 3.5e-05 | W52: =R52*$B$28 -> 0 | AA52: =AA51 + 0.005 -> 0.095 | AD52: =AA52/($U$28*(2*$E$28)^0.5) -> 0.55240961 | BA52: Window Area per Floor (ft2) | BB52: =BB51*BB50/100 -> 11788.724 | BC52: =BC51*BC50/100 -> 7549.9045 | BD52: =BD51*BD50/100 -> 7800 | BE52: =BE51*BE50/100 -> 6318 | BF52: =BF51*BF50/100 -> 5760 | BG52: =BG51*BG50/100 -> 2140.1968 | BH52: =BH51*BH50/100 -> 2140.1968 | BI52: =BI51*BI50/100 -> 4280.3935 | BK52: =BK53+1 -> 20 | BL52: =BL53+3 -> 22 | BM52: =IF(BL52<=0, "XX", BB$42 + BC$42 + BD$42+BL52) -> 34 | BN52: =IF(BM52="XX", "XX", $BB$9 + BB$44 + BC$44 + BD$44 + BL52*BE$20) -> 1001 | BO52: =IF(BM52="XX", "XX", BN52*0.3048) -> 305.1048 | BP52: =IF( (BL52>0),1, 0) -> 1 | BS52: =BK52 -> 20 | BT52: =BL52 -> 22 | BU52: =BM52 -> 34 | BV52: =BN52 -> 1001 | BW52: =IF(BU52="XX", "XX", BV52*0.3048) -> 305.1048 | BY52: ='SMMR-Calcs'!H57 -> 28.93339 | BZ52: ='SMMR-Calcs'!K57 -> 8.8273491 | CA52: ='SMMR-Calcs'!L57 -> 93.21644 | CB52: ='SMMR-Calcs'!M57 -> 73.82766 | CC52: ='SMMR-Calcs'!S57 -> 37.996906 | CD52: ='SMMR-Calcs'!R57 -> 0.067828133 | CE52: ='SMMR-Calcs'!AS57 -> -297.99883 | CF52: ='SMMR-Calcs'!AT57 -> -0.030658316 | CG52: ='SMMR-Calcs'!AV57 -> -965.51622 | CI52: =$BM$28 -> 76 | CQ52: =$BM$28 -> 76 | CT52: =BK52 -> 20 | CU52: =BL52 -> 22 | CV52: =BM52 -> 34 | CW52: =BN52 -> 1001 | CX52: =BO52 -> 305.1048 | CZ52: ='WNTR-Calcs'!H57 -> 28.93339 | DA52: ='WNTR-Calcs'!K57 -> 15.741024 | DB52: ='WNTR-Calcs'!L57 -> -21.78356 | DC52: ='WNTR-Calcs'!M57 -> -21.17234 | DD52: ='WNTR-Calcs'!S57 -> -4.7307932 | DE52: ='WNTR-Calcs'!R57 -> 0.087525345 | DF52: ='WNTR-Calcs'!AS57 -> 208.43915 | DG52: ='WNTR-Calcs'!AT57 -> 0.021444357 | DH52: ='WNTR-Calcs'!AV57 -> 675.34284 | DJ52: =$BM$28 -> 76 | DR52: =$BM$28 -> 76
B53: Element ID | G53: Description | P53: Mean | R53: Max | T53: Mean | W53: Max | AA53: =AA52 + 0.005 -> 0.1 | AD53: =AA53/($U$28*(2*$E$28)^0.5) -> 0.5814838 | BA53: Wall Leakage Area (ft2) | BB53: =BB29 * (BB51-BB52) -> 15.639707 | BC53: =BC29 * (BC51-BC52) -> 15.02431 | BD53: =BD29 * (BD51-BD52) -> 8.358 | BE53: =BE29 * (BE51-BE52) -> 6.76998 | BF53: =BF29 * (BF51-BF52) -> 7.6416 | BG53: =BG29 * (BG51-BG52) -> 5.2054341 | BH53: =BH29 * (BH51-BH52) -> 5.2054341 | BI53: =BI29 * (BI51-BI52) -> 5.6786554 | BK53: =BK54+1 -> 19 | BL53: =BL54+3 -> 19 | BM53: =IF(BL53<=0, "XX", BB$42 + BC$42 + BD$42+BL53) -> 31 | BN53: =IF(BM53="XX", "XX", $BB$9 + BB$44 + BC$44 + BD$44 + BL53*BE$20) -> 960.5 | BO53: =IF(BM53="XX", "XX", BN53*0.3048) -> 292.7604 | BP53: =IF( (BL53>0),1, 0) -> 1 | BS53: =BK53 -> 19 | BT53: =BL53 -> 19 | BU53: =BM53 -> 31 | BV53: =BN53 -> 960.5 | BW53: =IF(BU53="XX", "XX", BV53*0.3048) -> 292.7604 | BY53: ='SMMR-Calcs'!H58 -> 28.976052 | BZ53: ='SMMR-Calcs'!K58 -> 8.5179526 | CA53: ='SMMR-Calcs'!L58 -> 93.36062 | CB53: ='SMMR-Calcs'!M58 -> 73.92243 | CC53: ='SMMR-Calcs'!S58 -> 38.055526 | CD53: ='SMMR-Calcs'!R58 -> 0.067908198 | CE53: ='SMMR-Calcs'!AS58 -> -306.28521 | CF53: ='SMMR-Calcs'!AT58 -> -0.031510824 | CG53: ='SMMR-Calcs'!AV58 -> -992.36408 | CI53: =$BM$27 -> 78 | CQ53: =$BM$27 -> 78 | CT53: =BK53 -> 19 | CU53: =BL53 -> 19 | CV53: =BM53 -> 31 | CW53: =BN53 -> 960.5 | CX53: =BO53 -> 292.7604 | CZ53: ='WNTR-Calcs'!H58 -> 28.976052 | DA53: ='WNTR-Calcs'!K58 -> 15.276929 | DB53: ='WNTR-Calcs'!L58 -> -21.63938 | DC53: ='WNTR-Calcs'!M58 -> -21.07757 | DD53: ='WNTR-Calcs'!S58 -> -4.7062111 | DE53: ='WNTR-Calcs'!R58 -> 0.087626894 | DF53: ='WNTR-Calcs'!AS58 -> 264.38339 | DG53: ='WNTR-Calcs'!AT58 -> 0.027199937 | DH53: ='WNTR-Calcs'!AV58 -> 856.60218 | DJ53: =$BM$27 -> 78 | DR53: =$BM$27 -> 78
B54: Windows (W) | M54: Leakg ( cm2 / m2 ) | T54: Leakg ( ft2 / ft2 ) | AA54: =AA53 + 0.005 -> 0.105 | AD54: =AA54/($U$28*(2*$E$28)^0.5) -> 0.61055799 | BA54: Window Leakage Area (ft2) | BB54: =BB30*BB52 -> 7.6626704 | BC54: =BC30*BC52 -> 1.8874761 | BD54: =BD30*BD52 -> 1.326 | BE54: =BE30*BE52 -> 1.07406 | BF54: =BF30*BF52 -> 2.016 | BG54: =BG30*BG52 -> 0.74906886 | BH54: =BH30*BH52 -> 0.74906886 | BI54: =BI30*BI52 -> 1.0700984 | BK54: =BK55+1 -> 18 | BL54: =BL55+3 -> 16 | BM54: =IF(BL54<=0, "XX", BB$42 + BC$42 + BD$42+BL54) -> 28 | BN54: =IF(BM54="XX", "XX", $BB$9 + BB$44 + BC$44 + BD$44 + BL54*BE$20) -> 920 | BO54: =IF(BM54="XX", "XX", BN54*0.3048) -> 280.416 | BP54: =IF( (BL54>0),1, 0) -> 1 | BS54: =BK54 -> 18 | BT54: =BL54 -> 16 | BU54: =BM54 -> 28 | BV54: =BN54 -> 920 | BW54: =IF(BU54="XX", "XX", BV54*0.3048) -> 280.416 | BY54: ='SMMR-Calcs'!H59 -> 29.018764 | BZ54: ='SMMR-Calcs'!K59 -> 8.2085561 | CA54: ='SMMR-Calcs'!L59 -> 93.5048 | CB54: ='SMMR-Calcs'!M59 -> 74.0172 | CC54: ='SMMR-Calcs'!S59 -> 38.114192 | CD54: ='SMMR-Calcs'!R59 -> 0.067988329 | CE54: ='SMMR-Calcs'!AS59 -> -314.48234 | CF54: ='SMMR-Calcs'!AT59 -> -0.032354151 | CG54: ='SMMR-Calcs'!AV59 -> -1018.9228 | CI54: =$BM$26 -> 79 | CQ54: =$BM$26 -> 79 | CT54: =BK54 -> 18 | CU54: =BL54 -> 16 | CV54: =BM54 -> 28 | CW54: =BN54 -> 920 | CX54: =BO54 -> 280.416 | CZ54: ='WNTR-Calcs'!H59 -> 29.018764 | DA54: ='WNTR-Calcs'!K59 -> 14.812834 | DB54: ='WNTR-Calcs'!L59 -> -21.4952 | DC54: ='WNTR-Calcs'!M59 -> -20.9828 | DD54: ='WNTR-Calcs'!S59 -> -4.6816273 | DE54: ='WNTR-Calcs'!R59 -> 0.087728535 | DF54: ='WNTR-Calcs'!AS59 -> 310.26777 | DG54: ='WNTR-Calcs'!AT59 -> 0.031920553 | DH54: ='WNTR-Calcs'!AV59 -> 1005.2676 | DJ54: =$BM$26 -> 79 | DR54: =$BM$26 -> 79
B55: WNIO6A | G55: W Inoperable, Building A | P55: 1.1 | R55: 1.73 | T55: =P55*$B$28 -> 0.00011 | W55: =R55*$B$28 -> 0.000173 | AA55: =AA54 + 0.005 -> 0.11 | AD55: =AA55/($U$28*(2*$E$28)^0.5) -> 0.63963219 | BA55: Envl Leakg Area / Floor (ft2) | BB55: =IF((BB28>0), (BB47*BB28/100), (BB53+BB54)) -> 186.65479 | BC55: =IF((BC28>0), (BC47*BC28/100), (BC53+BC54)) -> 113.24857 | BD55: =IF((BD28>0), (BD47*BD28/100), (BD53+BD54)) -> 9.684 | BE55: =IF((BE28>0), (BE47*BE28/100), (BE53+BE54)) -> 7.84404 | BF55: =IF((BF28>0), (BF47*BF28/100), (BF53+BF54)) -> 9.6576 | BG55: =IF((BG28>0), (BG47*BG28/100), (BG53+BG54)) -> 40.425939 | BH55: =IF((BH28>0), (BH47*BH28/100), (BH53+BH54)) -> 45.181932 | BI55: =IF((BI28>0), (BI47*BI28/100), (BI53+BI54)) -> 46.37093 | BK55: =BK56+1 -> 17 | BL55: =BL56+3 -> 13 | BM55: =IF(BL55<=0, "XX", BB$42 + BC$42 + BD$42+BL55) -> 25 | BN55: =IF(BM55="XX", "XX", $BB$9 + BB$44 + BC$44 + BD$44 + BL55*BE$20) -> 879.5 | BO55: =IF(BM55="XX", "XX", BN55*0.3048) -> 268.0716 | BP55: =IF( (BL55>0),1, 0) -> 1 | BS55: =BK55 -> 17 | BT55: =BL55 -> 13 | BU55: =BM55 -> 25 | BV55: =BN55 -> 879.5 | BW55: =IF(BU55="XX", "XX", BV55*0.3048) -> 268.0716 | BY55: ='SMMR-Calcs'!H60 -> 29.061528 | BZ55: ='SMMR-Calcs'!K60 -> 7.8991597 | CA55: ='SMMR-Calcs'!L60 -> 93.64898 | CB55: ='SMMR-Calcs'!M60 -> 74.11197 | CC55: ='SMMR-Calcs'!S60 -> 38.172907 | CD55: ='SMMR-Calcs'!R60 -> 0.068068528 | CE55: ='SMMR-Calcs'!AS60 -> -322.59704 | CF55: ='SMMR-Calcs'!AT60 -> -0.033188996 | CG55: ='SMMR-Calcs'!AV60 -> -1045.2144 | CI55: =$BM$25 -> 81 | CQ55: =$BM$25 -> 81 | CT55: =BK55 -> 17 | CU55: =BL55 -> 13 | CV55: =BM55 -> 25 | CW55: =BN55 -> 879.5 | CX55: =BO55 -> 268.0716 | CZ55: ='WNTR-Calcs'!H60 -> 29.061528 | DA55: ='WNTR-Calcs'!K60 -> 14.348739 | DB55: ='WNTR-Calcs'!L60 -> -21.35102 | DC55: ='WNTR-Calcs'!M60 -> -20.88803 | DD55: ='WNTR-Calcs'!S60 -> -4.6570417 | DE55: ='WNTR-Calcs'!R60 -> 0.087830266 | DF55: ='WNTR-Calcs'!AS60 -> 350.0706 | DG55: ='WNTR-Calcs'!AT60 -> 0.036015494 | DH55: ='WNTR-Calcs'!AV60 -> 1134.2287 | DJ55: =$BM$25 -> 81 | DR55: =$BM$25 -> 81
B56: WNOO6C | G56: W Operable, Building C | P56: 2.6 | R56: 3.46 | T56: =P56*$B$28 -> 0.00026 | W56: =R56*$B$28 -> 0.000346 | AA56: =AA55 + 0.005 -> 0.115 | AD56: =AA56/($U$28*(2*$E$28)^0.5) -> 0.66870638 | BA56: Totl Section Envel Area (ft2) | BB56: =BB47 * (BB22 + IF(BB23="Y", 1,0)) -> 39295.746 | BC56: =BC47 * (BC22 + IF(BC23="Y", 1,0)) -> 60399.236 | BD56: =BD47 * (BD22 + IF(BD23="Y", 1,0)) -> 72000 | BE56: =BE47 * (BE22 + IF(BE23="Y", 1,0)) -> 398520 | BF56: =BF47 * (BF22 + IF(BF23="Y", 1,0)) -> 48000 | BG56: =BG47 * (BG22 + IF(BG23="Y", 1,0)) -> 118899.82 | BH56: =BH47 * (BH22 + IF(BH23="Y", 1,0)) -> 76095.885 | BI56: =BI47 * (BI22 + IF(BI23="Y", 1,0)) -> 21401.968 | BK56: =BK57+1 -> 16 | BL56: =BL57+3 -> 10 | BM56: =IF(BL56<=0, "XX", BB$42 + BC$42 + BD$42+BL56) -> 22 | BN56: =IF(BM56="XX", "XX", $BB$9 + BB$44 + BC$44 + BD$44 + BL56*BE$20) -> 839 | BO56: =IF(BM56="XX", "XX", BN56*0.3048) -> 255.7272 | BP56: =IF( (BL56>0),1, 0) -> 1 | BS56: =BK56 -> 16 | BT56: =BL56 -> 10 | BU56: =BM56 -> 22 | BV56: =BN56 -> 839 | BW56: =IF(BU56="XX", "XX", BV56*0.3048) -> 255.7272 | BY56: ='SMMR-Calcs'!H61 -> 29.104342 | BZ56: ='SMMR-Calcs'!K61 -> 7.5897632 | CA56: ='SMMR-Calcs'!L61 -> 93.79316 | CB56: ='SMMR-Calcs'!M61 -> 74.20674 | CC56: ='SMMR-Calcs'!S61 -> 38.231668 | CD56: ='SMMR-Calcs'!R61 -> 0.068148793 | CE56: ='SMMR-Calcs'!AS61 -> -330.63537 | CF56: ='SMMR-Calcs'!AT61 -> -0.034015985 | CG56: ='SMMR-Calcs'!AV61 -> -1071.2586 | CI56: =$BM$24 -> 82 | CQ56: =$BM$24 -> 82 | CT56: =BK56 -> 16 | CU56: =BL56 -> 10 | CV56: =BM56 -> 22 | CW56: =BN56 -> 839 | CX56: =BO56 -> 255.7272 | CZ56: ='WNTR-Calcs'!H61 -> 29.104342 | DA56: ='WNTR-Calcs'!K61 -> 13.884645 | DB56: ='WNTR-Calcs'!L61 -> -21.20684 | DC56: ='WNTR-Calcs'!M61 -> -20.79326 | DD56: ='WNTR-Calcs'!S61 -> -4.6324545 | DE56: ='WNTR-Calcs'!R61 -> 0.087932089 | DF56: ='WNTR-Calcs'!AS61 -> 385.67936 | DG56: ='WNTR-Calcs'!AT61 -> 0.039678947 | DH56: ='WNTR-Calcs'!AV61 -> 1249.6011 | DJ56: =$BM$24 -> 82 | DR56: =$BM$24 -> 82
B57: FRWNMACA | G57: W framing, masonry, caulked | P57: 1.3 | R57: 2.1 | T57: =P57*$B$28 -> 0.00013 | W57: =R57*$B$28 -> 0.00021 | AA57: =AA56 + 0.005 -> 0.12 | AD57: =AA57/($U$28*(2*$E$28)^0.5) -> 0.69778057 | BA57: Totl Section Leakg Area (ft2) | BB57: =IF( (BB28>0), (BB28/100 * BB47*BB42), (BB55*BB42) ) -> 373.30959 | BC57: =IF( (BC28>0), (BC28/100 * BC47*BC42), (BC55*BC42) ) -> 452.99427 | BD57: =IF( (BD28>0), (BD28/100 * BD47*BD42), (BD55*BD42) ) -> 58.104 | BE57: =IF( (BE28>0), (BE28/100 * BE47*BE42), (BE55*BE42) ) -> 321.60564 | BF57: =IF( (BF28>0), (BF28/100 * BF47*BF42), (BF55*BF42) ) -> 48.288 | BG57: =IF( (BG28>0), (BG28/100 * BG47*BG42), (BG55*BG42) ) -> 1010.6485 | BH57: =IF( (BH28>0), (BH28/100 * BH47*BH42), (BH55*BH42) ) -> 722.9109 | BI57: =IF( (BI28>0), (BI28/100 * BI47*BI42), (BI55*BI42) ) -> 139.11279 | BK57: =BK58+1 -> 15 | BL57: 7 | BM57: =IF(BL57<=0, "XX", BB$42 + BC$42 + BD$42+BL57) -> 19 | BN57: =IF(BM57="XX", "XX", $BB$9 + BB$44 + BC$44 + BD$44 + BL57*BE$20) -> 798.5 | BO57: =IF(BM57="XX", "XX", BN57*0.3048) -> 243.3828 | BP57: =IF( (BL57>0),1, 0) -> 1 | BS57: =BK57 -> 15 | BT57: =BL57 -> 7 | BU57: =BM57 -> 19 | BV57: =BN57 -> 798.5 | BW57: =IF(BU57="XX", "XX", BV57*0.3048) -> 243.3828 | BY57: ='SMMR-Calcs'!H62 -> 29.147208 | BZ57: ='SMMR-Calcs'!K62 -> 7.2803667 | CA57: ='SMMR-Calcs'!L62 -> 93.93734 | CB57: ='SMMR-Calcs'!M62 -> 74.30151 | CC57: ='SMMR-Calcs'!S62 -> 38.290477 | CD57: ='SMMR-Calcs'!R62 -> 0.068229125 | CE57: ='SMMR-Calcs'!AS62 -> -338.60277 | CF57: ='SMMR-Calcs'!AT62 -> -0.034835676 | CG57: ='SMMR-Calcs'!AV62 -> -1097.073 | CI57: =$BM$23 -> 83 | CQ57: =$BM$23 -> 83 | CT57: =BK57 -> 15 | CU57: =BL57 -> 7 | CV57: =BM57 -> 19 | CW57: =BN57 -> 798.5 | CX57: =BO57 -> 243.3828 | CZ57: ='WNTR-Calcs'!H62 -> 29.147208 | DA57: ='WNTR-Calcs'!K62 -> 13.42055 | DB57: ='WNTR-Calcs'!L62 -> -21.06266 | DC57: ='WNTR-Calcs'!M62 -> -20.69849 | DD57: ='WNTR-Calcs'!S62 -> -4.6078656 | DE57: ='WNTR-Calcs'!R62 -> 0.088034002 | DF57: ='WNTR-Calcs'!AS62 -> 418.16688 | DG57: ='WNTR-Calcs'!AT62 -> 0.043021283 | DH57: ='WNTR-Calcs'!AV62 -> 1354.8607 | DJ57: =$BM$23 -> 83 | DR57: =$BM$23 -> 83
B58: FRWNWDCA | G58: W framing, wood, caulked | P58: 0.3 | R58: 0.3 | T58: =P58*$B$28 -> 3e-05 | W58: =R58*$B$28 -> 3e-05 | AA58: =AA57 + 0.005 -> 0.125 | AD58: =AA58/($U$28*(2*$E$28)^0.5) -> 0.72685476 | BK58: =BK59+1 -> 14 | BL58: 5 | BM58: =IF(BL58<=0, "XX", BB$42 + BC$42 + BD$42+BL58) -> 17 | BN58: =IF(BM58="XX", "XX", $BB$9 + BB$44 + BC$44 + BD$44 + BL58*BE$20) -> 771.5 | BO58: =IF(BM58="XX", "XX", BN58*0.3048) -> 235.1532 | BP58: =IF( (BL58>0),1, 0) -> 1 | BS58: =BK58 -> 14 | BT58: =BL58 -> 5 | BU58: =BM58 -> 17 | BV58: =BN58 -> 771.5 | BW58: =IF(BU58="XX", "XX", BV58*0.3048) -> 235.1532 | BY58: ='SMMR-Calcs'!H63 -> 29.175813 | BZ58: ='SMMR-Calcs'!K63 -> 7.0741024 | CA58: ='SMMR-Calcs'!L63 -> 94.03346 | CB58: ='SMMR-Calcs'!M63 -> 74.36469 | CC58: ='SMMR-Calcs'!S63 -> 38.329709 | CD58: ='SMMR-Calcs'!R63 -> 0.068282717 | CE58: ='SMMR-Calcs'!AS63 -> -343.8774 | CF58: ='SMMR-Calcs'!AT63 -> -0.035378334 | CG58: ='SMMR-Calcs'!AV63 -> -1114.1628 | CI58: =$BM$22 -> 6-Htl | CQ58: =$BM$22 -> 6-Htl | CT58: =BK58 -> 14 | CU58: =BL58 -> 5 | CV58: =BM58 -> 17 | CW58: =BN58 -> 771.5 | CX58: =BO58 -> 235.1532 | CZ58: ='WNTR-Calcs'!H63 -> 29.175813 | DA58: ='WNTR-Calcs'!K63 -> 13.111154 | DB58: ='WNTR-Calcs'!L63 -> -20.96654 | DC58: ='WNTR-Calcs'!M63 -> -20.63531 | DD58: ='WNTR-Calcs'!S63 -> -4.591472 | DE58: ='WNTR-Calcs'!R63 -> 0.088101994 | DF58: ='WNTR-Calcs'!AS63 -> 438.4367 | DG58: ='WNTR-Calcs'!AT63 -> 0.045106657 | DH58: ='WNTR-Calcs'!AV63 -> 1420.5349 | DJ58: =$BM$22 -> 6-Htl | DR58: =$BM$22 -> 6-Htl
B59: WNDBNW | G59: W, dbl hung, no wthrstrp | P59: 2.5 | R59: 6.1 | T59: =P59*$B$28 -> 0.00025 | W59: =R59*$B$28 -> 0.00061 | AA59: =AA58 + 0.005 -> 0.13 | AD59: =AA59/($U$28*(2*$E$28)^0.5) -> 0.75592895 | AK59: S-4 | AO59: Banking Trading | AY59: Air-Systm | BA59: SECTION No. >> | BB59: =BB14 -> 1-Grd | BC59: =BC14 -> 2-Rtl | BD59: =BD14 -> 3-Fin | BE59: =BE14 -> 4-Ofc | BF59: =BF14 -> 5-Srv | BG59: =BG14 -> 6-Htl | BH59: =BH14 -> 7-Apt | BI59: =BI14 -> 8-din | BK59: =BK60+1 -> 13 | BL59: 3 | BM59: =IF(BL59<=0, "XX", BB$42 + BC$42 + BD$42+BL59) -> 15 | BN59: =IF(BM59="XX", "XX", $BB$9 + BB$44 + BC$44 + BD$44 + BL59*BE$20) -> 744.5 | BO59: =IF(BM59="XX", "XX", BN59*0.3048) -> 226.9236 | BP59: =IF( (BL59>0),1, 0) -> 1 | BS59: =BK59 -> 13 | BT59: =BL59 -> 3 | BU59: =BM59 -> 15 | BV59: =BN59 -> 744.5 | BW59: =IF(BU59="XX", "XX", BV59*0.3048) -> 226.9236 | BY59: ='SMMR-Calcs'!H64 -> 29.204441 | BZ59: ='SMMR-Calcs'!K64 -> 6.867838 | CA59: ='SMMR-Calcs'!L64 -> 94.12958 | CB59: ='SMMR-Calcs'!M64 -> 74.42787 | CC59: ='SMMR-Calcs'!S64 -> 38.368962 | CD59: ='SMMR-Calcs'!R64 -> 0.068336338 | CE59: ='SMMR-Calcs'!AS64 -> -349.12402 | CF59: ='SMMR-Calcs'!AT64 -> -0.03591811 | CG59: ='SMMR-Calcs'!AV64 -> -1131.1618 | CI59: =$BM$21 -> 84 | CQ59: =$BM$21 -> 84 | CT59: =BK59 -> 13 | CU59: =BL59 -> 3 | CV59: =BM59 -> 15 | CW59: =BN59 -> 744.5 | CX59: =BO59 -> 226.9236 | CZ59: ='WNTR-Calcs'!H64 -> 29.204441 | DA59: ='WNTR-Calcs'!K64 -> 12.801757 | DB59: ='WNTR-Calcs'!L64 -> -20.87042 | DC59: ='WNTR-Calcs'!M64 -> -20.57213 | DD59: ='WNTR-Calcs'!S64 -> -4.5750776 | DE59: ='WNTR-Calcs'!R64 -> 0.088170027 | DF59: ='WNTR-Calcs'!AS64 -> 457.76909 | DG59: ='WNTR-Calcs'!AT64 -> 0.047095585 | DH59: ='WNTR-Calcs'!AV64 -> 1483.1718 | DJ59: =$BM$21 -> 84 | DR59: =$BM$21 -> 84
B60: WNDBNWM | G60: W, dbl hung with storm, no wthrstrp | P60: 0.97 | R60: 1.7 | T60: =P60*$B$28 -> 9.7e-05 | W60: =R60*$B$28 -> 0.00017 | AA60: =AA59 + 0.005 -> 0.135 | AD60: =AA60/($U$28*(2*$E$28)^0.5) -> 0.78500314 | BA60: Ventil Air Supply (cfm / flr) | BB60: =BB43/BB33*BB34 -> 23040 | BC60: =BC43/BC33*BC34 -> 18666.667 | BD60: =BD43/BD33*BD34 -> 7680 | BE60: =BE43/BE33*BE34 -> 4106.6667 | BF60: =BF43/BF33*BF34 -> 2400 | BG60: =BG43/BG33*BG34 -> 2160 | BH60: =BH43/BH33*BH34 -> 2160 | BI60: =BI43/BI33*BI34 -> 6000 | BK60: =BK62+1 -> 12 | BL60: 1 | BM60: =IF(BL60<=0, "XX", BB$42 + BC$42 + BD$42+BL60) -> 13 | BN60: =IF(BM60="XX", "XX", $BB$9 + BB$44 + BC$44 + BD$44 + BL60*BE$20) -> 717.5 | BO60: =IF(BM60="XX", "XX", BN60*0.3048) -> 218.694 | BP60: =IF( (BL60>0),1, 0) -> 1 | BS60: =BK60 -> 12 | BT60: =BL60 -> 1 | BU60: =BM60 -> 13 | BV60: =BN60 -> 717.5 | BW60: =IF(BU60="XX", "XX", BV60*0.3048) -> 218.694 | BY60: ='SMMR-Calcs'!H65 -> 29.233092 | BZ60: ='SMMR-Calcs'!K65 -> 6.6615737 | CA60: ='SMMR-Calcs'!L65 -> 94.2257 | CB60: ='SMMR-Calcs'!M65 -> 74.49105 | CC60: ='SMMR-Calcs'!S65 -> 38.408237 | CD60: ='SMMR-Calcs'!R65 -> 0.06838999 | CE60: ='SMMR-Calcs'!AS65 -> -354.34388 | CF60: ='SMMR-Calcs'!AT65 -> -0.036455132 | CG60: ='SMMR-Calcs'!AV65 -> -1148.0742 | CI60: =$BM$20 -> 85 | CQ60: =$BM$20 -> 85 | CT60: =BK60 -> 12 | CU60: =BL60 -> 1 | CV60: =BM60 -> 13 | CW60: =BN60 -> 717.5 | CX60: =BO60 -> 218.694 | CZ60: ='WNTR-Calcs'!H65 -> 29.233092 | DA60: ='WNTR-Calcs'!K65 -> 12.492361 | DB60: ='WNTR-Calcs'!L65 -> -20.7743 | DC60: ='WNTR-Calcs'!M65 -> -20.50895 | DD60: ='WNTR-Calcs'!S65 -> -4.5586824 | DE60: ='WNTR-Calcs'!R65 -> 0.088238101 | DF60: ='WNTR-Calcs'!AS65 -> 476.27819 | DG60: ='WNTR-Calcs'!AT65 -> 0.048999814 | DH60: ='WNTR-Calcs'!AV65 -> 1543.1413 | DJ60: =$BM$20 -> 85 | DR60: =$BM$20 -> 85
B61: WNDBWE | G61: W, dbl hung, wthrstrp | P61: 0.65 | R61: 1.9 | T61: =P61*$B$28 -> 6.5e-05 | W61: =R61*$B$28 -> 0.00019 | AA61: =AA60 + 0.005 -> 0.14 | AD61: =AA61/($U$28*(2*$E$28)^0.5) -> 0.81407733 | BA61: Core Exhaust Air (cfm / flr) | BB61: =IF((BB36>0), BB36, BB35*(BB43*$BE$10/100)) -> 15360 | BC61: =IF((BC36>0), BC36, BC35*(BC43*$BE$10/100)) -> 11200 | BD61: =IF((BD36>0), BD36, BD35*(BD43*$BE$10/100)) -> 5760 | BE61: =IF((BE36>0), BE36, BE35*(BE43*$BE$10/100)) -> 4620 | BF61: =IF((BF36>0), BF36, BF35*(BF43*$BE$10/100)) -> 3600 | BG61: =IF((BG36>0), BG36, BG35*(BG43*$BE$10/100)) -> 3600 | BH61: =IF((BH36>0), BH36, BH35*(BH43*$BE$10/100)) -> 3600 | BI61: =IF((BI36>0), BI36, BI35*(BI43*$BE$10/100)) -> 3600 | BK61: Section >> | BM61: =BD14 -> 3-Fin | BN61: # flrs >> | BO61: =BD42 -> 6 | BP61: =SUM(BP64:BP67) -> 4 | BS61: =BK61 -> Section >> | BU61: =BM61 -> 3-Fin | BV61: =BN61 -> # flrs >> | BW61: =BO61 -> 6 | BY61: in.Hg | BZ61: Wnd-V | CA61: Tdb | CB61: Twb | CC61: Enth | CD61: Dens | CE61: Q cfm | CF61: Q/ EnA | CG61: Tons | CI61: =$BM$19 -> 86 | CQ61: =$BM$19 -> 86 | CT61: =BK61 -> Section >> | CV61: =BM61 -> 3-Fin | CW61: =BN61 -> # flrs >> | CX61: =BO61 -> 6 | CZ61: in.Hg | DA61: Wnd-V | DB61: Tdb | DC61: Twb | DD61: Enth | DE61: Dens | DF61: Q cfm | DG61: Q/ EnA | DH61: Tons | DJ61: =$BM$19 -> 86 | DR61: =$BM$19 -> 86
B62: WNDBWESM | G62: W, dbl hung with storm, wthrstrp | P62: 0.79 | R62: 1 | T62: =P62*$B$28 -> 7.9e-05 | W62: =R62*$B$28 -> 0.0001 | AA62: =AA61 + 0.005 -> 0.145 | AD62: =AA62/($U$28*(2*$E$28)^0.5) -> 0.84315152 | BA62: Perim-Zone Sup Air (cfm / flr) | BB62: =BB37*BB46*$BE$11 -> 30945.4 | BC62: =BC37 * BC46*$BE$11 -> 26424.666 | BD62: =BD37 * BD46*$BE$11 -> 25200 | BE62: =BE37 * BE46*$BE$11 -> 22680 | BF62: =BF37 * BF46*$BE$11 -> 20160 | BG62: =BG37 * BG46*$BE$11 -> 14981.377 | BH62: =BH37 * BH46*$BE$11 -> 14981.377 | BI62: =BI37 * BI46*$BE$11 -> 14981.377 | BK62: =BK63+1 -> 11 | BL62: 6 | BM62: =IF(BL62<=0, "XX", BB$42 + BC$42+BL62) -> 12 | BN62: =IF(BM62="XX", "XX", $BB$9 + BB$44 + BC$44 + BL62*BD$20) -> 704 | BO62: =IF(BM62="XX", "XX", BN62*0.3048) -> 214.5792 | BS62: =BK62 -> 11 | BT62: =BL62 -> 6 | BU62: =BM62 -> 12 | BV62: =BN62 -> 704 | BW62: =IF(BU62="XX", "XX", BV62*0.3048) -> 214.5792 | BY62: ='SMMR-Calcs'!H67 -> 29.247426 | BZ62: ='SMMR-Calcs'!K67 -> 6.5584416 | CA62: ='SMMR-Calcs'!L67 -> 94.27376 | CB62: ='SMMR-Calcs'!M67 -> 74.52264 | CC62: ='SMMR-Calcs'!S67 -> 38.427882 | CD62: ='SMMR-Calcs'!R67 -> 0.068416827 | CE62: ='SMMR-Calcs'!AS67 -> -440.67177 | CF62: ='SMMR-Calcs'!AT67 -> -0.036722648 | CG62: ='SMMR-Calcs'!AV67 -> -1427.7765 | CI62: =$BM$18 -> 88 | CQ62: =$BM$18 -> 88 | CT62: =BK62 -> 11 | CU62: =BL62 -> 6 | CV62: =BM62 -> 12 | CW62: =BN62 -> 704 | CX62: =BO62 -> 214.5792 | CZ62: ='WNTR-Calcs'!H67 -> 29.247426 | DA62: ='WNTR-Calcs'!K67 -> 12.337662 | DB62: ='WNTR-Calcs'!L67 -> -20.72624 | DC62: ='WNTR-Calcs'!M67 -> -20.47736 | DD62: ='WNTR-Calcs'!S67 -> -4.5504846 | DE62: ='WNTR-Calcs'!R67 -> 0.088272153 | DF62: ='WNTR-Calcs'!AS67 -> 599.07854 | DG62: ='WNTR-Calcs'!AT67 -> 0.049923212 | DH62: ='WNTR-Calcs'!AV67 -> 1941.0145 | DJ62: =$BM$18 -> 88 | DR62: =$BM$18 -> 88
B63: WNSISHWE | G63: W, sngl hung, wthrstrp | P63: 0.87 | R63: 1.24 | T63: =P63*$B$28 -> 8.7e-05 | W63: =R63*$B$28 -> 0.000124 | AA63: =AA62 + 0.005 -> 0.15 | AD63: =AA63/($U$28*(2*$E$28)^0.5) -> 0.87222571 | AJ63: S-3 | AO63: MECHANICAL Flr | BA63: Core-Zone Sup Air (cfm / flr) | BB63: =BB38*BB43 * $BE$11/100 -> 17280 | BC63: =BC38 * BC43 * $BE$11/100 -> 12600 | BD63: =BD38 * BD43 * $BE$11/100 -> 8640 | BE63: =BE38 * BE43 * $BE$11/100 -> 6930 | BF63: =BF38 * BF43 * $BE$11/100 -> 5400 | BG63: =BG38 * BG43 * $BE$11/100 -> 4050 | BH63: =BH38 * BH43 * $BE$11/100 -> 4050 | BI63: =BI38 * BI43 * $BE$11/100 -> 4050 | BK63: =BK64+1 -> 10 | BL63: 5 | BM63: =IF(BL63<=0, "XX", BB$42 + BC$42+BL63) -> 11 | BN63: =IF(BM63="XX", "XX", $BB$9 + BB$44 + BC$44 + BL63*BD$20) -> 689 | BO63: =IF(BM63="XX", "XX", BN63*0.3048) -> 210.0072 | BS63: =BK63 -> 10 | BT63: =BL63 -> 5 | BU63: =BM63 -> 11 | BV63: =BN63 -> 689 | BW63: =IF(BU63="XX", "XX", BV63*0.3048) -> 210.0072 | BY63: ='SMMR-Calcs'!H68 -> 29.263359 | BZ63: ='SMMR-Calcs'!K68 -> 6.4438503 | CA63: ='SMMR-Calcs'!L68 -> 94.32716 | CB63: ='SMMR-Calcs'!M68 -> 74.55774 | CC63: ='SMMR-Calcs'!S68 -> 38.449716 | CD63: ='SMMR-Calcs'!R68 -> 0.068446654 | CE63: ='SMMR-Calcs'!AS68 -> -444.2296 | CF63: ='SMMR-Calcs'!AT68 -> -0.037019133 | CG63: ='SMMR-Calcs'!AV68 -> -1439.3039 | CI63: =$BM$17 -> 90 | CQ63: =$BM$17 -> 90 | CT63: =BK63 -> 10 | CU63: =BL63 -> 5 | CV63: =BM63 -> 11 | CW63: =BN63 -> 689 | CX63: =BO63 -> 210.0072 | CZ63: ='WNTR-Calcs'!H68 -> 29.263359 | DA63: ='WNTR-Calcs'!K68 -> 12.165775 | DB63: ='WNTR-Calcs'!L68 -> -20.67284 | DC63: ='WNTR-Calcs'!M68 -> -20.44226 | DD63: ='WNTR-Calcs'!S68 -> -4.5413756 | DE63: ='WNTR-Calcs'!R68 -> 0.08831 | DF63: ='WNTR-Calcs'!AS68 -> 611.14125 | DG63: ='WNTR-Calcs'!AT68 -> 0.050928438 | DH63: ='WNTR-Calcs'!AV68 -> 1980.0977 | DJ63: =$BM$17 -> 90 | DR63: =$BM$17 -> 90
B64: WNSISLAL | G64: W, sngl horiz slider, alum | P64: 0.8 | R64: 2.06 | T64: =P64*$B$28 -> 8e-05 | W64: =R64*$B$28 -> 0.000206 | AA64: =AA63 + 0.005 -> 0.155 | AD64: =AA64/($U$28*(2*$E$28)^0.5) -> 0.9012999 | AM64: Restaurants | BA64: Inter-Zone Sup Air (cfm / flr) | BB64: =BB39*BB43 - (BB46*$BE$11 + BB43*$BE$10/100) -> 62064.095 | BC64: =BC39 * BC43 - (BC46*$BE$11 + BC43*$BE$10/100) -> 43416.826 | BD64: =BD39 * BD43 - (BD46*$BE$11 + BD43*$BE$10/100) -> 26400 | BE64: =BE39 * BE43 - (BE46*$BE$11 + BE43*$BE$10/100) -> 20000 | BF64: =BF39 * BF43 - (BF46*$BE$11 + BF43*$BE$10/100) -> 14400 | BG64: =BG39 * BG43 - (BG46*$BE$11 + BG43*$BE$10/100) -> 10866.011 | BH64: =BH39 * BH43 - (BH46*$BE$11 + BH43*$BE$10/100) -> 10866.011 | BI64: =BI39 * BI43 - (BI46*$BE$11 + BI43*$BE$10/100) -> 10866.011 | BK64: =BK65+1 -> 9 | BL64: 4 | BM64: =IF(BL64<=0, "XX", BB$42 + BC$42+BL64) -> 10 | BN64: =IF(BM64="XX", "XX", $BB$9 + BB$44 + BC$44 + BL64*BD$20) -> 674 | BO64: =IF(BM64="XX", "XX", BN64*0.3048) -> 205.4352 | BP64: =IF( (BL64>0),1, 0) -> 1 | BS64: =BK64 -> 9 | BT64: =BL64 -> 4 | BU64: =BM64 -> 10 | BV64: =BN64 -> 674 | BW64: =IF(BU64="XX", "XX", BV64*0.3048) -> 205.4352 | BY64: ='SMMR-Calcs'!H69 -> 29.2793 | BZ64: ='SMMR-Calcs'!K69 -> 6.329259 | CA64: ='SMMR-Calcs'!L69 -> 94.38056 | CB64: ='SMMR-Calcs'!M69 -> 74.59284 | CC64: ='SMMR-Calcs'!S69 -> 38.471557 | CD64: ='SMMR-Calcs'!R69 -> 0.068476491 | CE64: ='SMMR-Calcs'!AS69 -> -447.77811 | CF64: ='SMMR-Calcs'!AT69 -> -0.037314843 | CG64: ='SMMR-Calcs'!AV69 -> -1450.8011 | CI64: =$BM$16 -> 92 | CQ64: =$BM$16 -> 92 | CT64: =BK64 -> 9 | CU64: =BL64 -> 4 | CV64: =BM64 -> 10 | CW64: =BN64 -> 674 | CX64: =BO64 -> 205.4352 | CZ64: ='WNTR-Calcs'!H69 -> 29.2793 | DA64: ='WNTR-Calcs'!K69 -> 11.993888 | DB64: ='WNTR-Calcs'!L69 -> -20.61944 | DC64: ='WNTR-Calcs'!M69 -> -20.40716 | DD64: ='WNTR-Calcs'!S69 -> -4.5322664 | DE64: ='WNTR-Calcs'!R69 -> 0.08834786 | DF64: ='WNTR-Calcs'!AS69 -> 622.95631 | DG64: ='WNTR-Calcs'!AT69 -> 0.051913025 | DH64: ='WNTR-Calcs'!AV69 -> 2018.3784 | DJ64: =$BM$16 -> 92 | DR64: =$BM$16 -> 92
B65: WNSISLWD | G65: W, sngl horiz slider, wood | P65: 0.44 | R65: 0.99 | T65: =P65*$B$28 -> 4.4e-05 | W65: =R65*$B$28 -> 9.9e-05 | AA65: =AA64 + 0.005 -> 0.16 | AD65: =AA65/($U$28*(2*$E$28)^0.5) -> 0.93037409 | BA65: Total Supply Air (cfm / flr) | BB65: =BB62 + BB63 + BB64 -> 110289.5 | BC65: =BC62 + BC63 + BC64 -> 82441.492 | BD65: =BD62 + BD63 + BD64 -> 60240 | BE65: =BE62 + BE63 + BE64 -> 49610 | BF65: =BF62 + BF63 + BF64 -> 39960 | BG65: =BG62 + BG63 + BG64 -> 29897.388 | BH65: =BH62 + BH63 + BH64 -> 29897.388 | BI65: =BI62 + BI63 + BI64 -> 29897.388 | BK65: =BK66+1 -> 8 | BL65: 3 | BM65: =IF(BL65<=0, "XX", BB$42 + BC$42+BL65) -> 9 | BN65: =IF(BM65="XX", "XX", $BB$9 + BB$44 + BC$44 + BL65*BD$20) -> 659 | BO65: =IF(BM65="XX", "XX", BN65*0.3048) -> 200.8632 | BP65: =IF( (BL65>0),1, 0) -> 1 | BS65: =BK65 -> 8 | BT65: =BL65 -> 3 | BU65: =BM65 -> 9 | BV65: =BN65 -> 659 | BW65: =IF(BU65="XX", "XX", BV65*0.3048) -> 200.8632 | BY65: ='SMMR-Calcs'!H70 -> 29.295247 | BZ65: ='SMMR-Calcs'!K70 -> 6.2146677 | CA65: ='SMMR-Calcs'!L70 -> 94.43396 | CB65: ='SMMR-Calcs'!M70 -> 74.62794 | CC65: ='SMMR-Calcs'!S70 -> 38.493404 | CD65: ='SMMR-Calcs'!R70 -> 0.068506337 | CE65: ='SMMR-Calcs'!AS70 -> -451.31753 | CF65: ='SMMR-Calcs'!AT70 -> -0.037609794 | CG65: ='SMMR-Calcs'!AV70 -> -1462.2688 | CI65: =$BM$15 -> 94 | CQ65: =$BM$15 -> 94 | CT65: =BK65 -> 8 | CU65: =BL65 -> 3 | CV65: =BM65 -> 9 | CW65: =BN65 -> 659 | CX65: =BO65 -> 200.8632 | CZ65: ='WNTR-Calcs'!H70 -> 29.295247 | DA65: ='WNTR-Calcs'!K70 -> 11.822002 | DB65: ='WNTR-Calcs'!L70 -> -20.56604 | DC65: ='WNTR-Calcs'!M70 -> -20.37206 | DD65: ='WNTR-Calcs'!S70 -> -4.5231569 | DE65: ='WNTR-Calcs'!R70 -> 0.088385732 | DF65: ='WNTR-Calcs'!AS70 -> 634.53754 | DG65: ='WNTR-Calcs'!AT70 -> 0.052878128 | DH65: ='WNTR-Calcs'!AV70 -> 2055.9016 | DJ65: =$BM$15 -> 94 | DR65: =$BM$15 -> 94
B66: WNSLALWE | G66: W, dbl horiz slider, alum, wthrstrp | P66: 0.72 | R66: 0.8 | T66: =P66*$B$28 -> 7.2e-05 | W66: =R66*$B$28 -> 8e-05 | AA66: =AA65 + 0.005 -> 0.165 | AD66: =AA66/($U$28*(2*$E$28)^0.5) -> 0.95944828 | AY66: Building Model Summary | BK66: =BK67+1 -> 7 | BL66: 2 | BM66: =IF(BL66<=0, "XX", BB$42 + BC$42+BL66) -> 8 | BN66: =IF(BM66="XX", "XX", $BB$9 + BB$44 + BC$44 + BL66*BD$20) -> 644 | BO66: =IF(BM66="XX", "XX", BN66*0.3048) -> 196.2912 | BP66: =IF( (BL66>0),1, 0) -> 1 | BS66: =BK66 -> 7 | BT66: =BL66 -> 2 | BU66: =BM66 -> 8 | BV66: =BN66 -> 644 | BW66: =IF(BU66="XX", "XX", BV66*0.3048) -> 196.2912 | BY66: ='SMMR-Calcs'!H71 -> 29.311201 | BZ66: ='SMMR-Calcs'!K71 -> 6.1000764 | CA66: ='SMMR-Calcs'!L71 -> 94.48736 | CB66: ='SMMR-Calcs'!M71 -> 74.66304 | CC66: ='SMMR-Calcs'!S71 -> 38.515258 | CD66: ='SMMR-Calcs'!R71 -> 0.068536192 | CE66: ='SMMR-Calcs'!AS71 -> -454.84806 | CF66: ='SMMR-Calcs'!AT71 -> -0.037904005 | CG66: ='SMMR-Calcs'!AV71 -> -1473.7077 | CI66: =$BM$14 -> 96 | CQ66: =$BM$14 -> 96 | CT66: =BK66 -> 7 | CU66: =BL66 -> 2 | CV66: =BM66 -> 8 | CW66: =BN66 -> 644 | CX66: =BO66 -> 196.2912 | CZ66: ='WNTR-Calcs'!H71 -> 29.311201 | DA66: ='WNTR-Calcs'!K71 -> 11.650115 | DB66: ='WNTR-Calcs'!L71 -> -20.51264 | DC66: ='WNTR-Calcs'!M71 -> -20.33696 | DD66: ='WNTR-Calcs'!S71 -> -4.5140472 | DE66: ='WNTR-Calcs'!R71 -> 0.088423617 | DF66: ='WNTR-Calcs'!AS71 -> 645.89753 | DG66: ='WNTR-Calcs'!AT71 -> 0.053824794 | DH66: ='WNTR-Calcs'!AV71 -> 2092.708 | DJ66: =$BM$14 -> 96 | DR66: =$BM$14 -> 96
B67: WNSLNW | G67: W, dbl horiz slider, no wthrstrp | P67: 1.1 | R67: 3.4 | T67: =P67*$B$28 -> 0.00011 | W67: =R67*$B$28 -> 0.00034 | AA67: =AA66 + 0.005 -> 0.17 | AD67: =AA67/($U$28*(2*$E$28)^0.5) -> 0.98852247 | AY67: # Flrs | AZ67: Bldg-H | BA67: Ntrl-H | BB67: Site-Alt | BD67: Totl Bldg-Area | BF67: Totl Envl-Area | BH67: Totl Leakg-Area | BI67: % Lkg-A | BK67: =BK69+1 -> 6 | BL67: 1 | BM67: =IF(BL67<=0, "XX", BB$42 + BC$42+BL67) -> 7 | BN67: =IF(BM67="XX", "XX", $BB$9 + BB$44 + BC$44 + BL67*BD$20) -> 629 | BO67: =IF(BM67="XX", "XX", BN67*0.3048) -> 191.7192 | BP67: =IF( (BL67>0),1, 0) -> 1 | BS67: =BK67 -> 6 | BT67: =BL67 -> 1 | BU67: =BM67 -> 7 | BV67: =BN67 -> 629 | BW67: =IF(BU67="XX", "XX", BV67*0.3048) -> 191.7192 | BY67: ='SMMR-Calcs'!H72 -> 29.327163 | BZ67: ='SMMR-Calcs'!K72 -> 5.9854851 | CA67: ='SMMR-Calcs'!L72 -> 94.54076 | CB67: ='SMMR-Calcs'!M72 -> 74.69814 | CC67: ='SMMR-Calcs'!S72 -> 38.537118 | CD67: ='SMMR-Calcs'!R72 -> 0.068566056 | CE67: ='SMMR-Calcs'!AS72 -> -458.36992 | CF67: ='SMMR-Calcs'!AT72 -> -0.038197493 | CG67: ='SMMR-Calcs'!AV72 -> -1485.1185 | CI67: =$BM$13 -> 98 | CQ67: =$BM$13 -> 98 | CT67: =BK67 -> 6 | CU67: =BL67 -> 1 | CV67: =BM67 -> 7 | CW67: =BN67 -> 629 | CX67: =BO67 -> 191.7192 | CZ67: ='WNTR-Calcs'!H72 -> 29.327163 | DA67: ='WNTR-Calcs'!K72 -> 11.478228 | DB67: ='WNTR-Calcs'!L72 -> -20.45924 | DC67: ='WNTR-Calcs'!M72 -> -20.30186 | DD67: ='WNTR-Calcs'!S72 -> -4.5049373 | DE67: ='WNTR-Calcs'!R72 -> 0.088461514 | DF67: ='WNTR-Calcs'!AS72 -> 657.04775 | DG67: ='WNTR-Calcs'!AT72 -> 0.054753979 | DH67: ='WNTR-Calcs'!AV72 -> 2128.8347 | DJ67: =$BM$13 -> 98 | DR67: =$BM$13 -> 98
B68: WNSLWDWE | G68: W, dbl horiz slider, wood, wthrstrp | P68: 0.55 | R68: 1.72 | T68: =P68*$B$28 -> 5.5e-05 | W68: =R68*$B$28 -> 0.000172 | AH68: S-2 | AK68: Retail | AY68: =SUM(BB42:BI42) -> 102 | AZ68: =SUM(BB44:BI44) -> 1309 | BA68: =AZ68/2 -> 654.5 | BB68: =BB9 -> 500 | BC68: =SUM(BB45:BI45) -> 2782800 | BE68: =SUM(BB56:BI56) -> 834612.65 | BG68: =SUM(BB57:BI57) -> 3126.9737 | BI68: =100*BG68/BE68 -> 0.37466166 | BK68: Section >> | BM68: =BC14 -> 2-Rtl | BN68: # flrs >> | BO68: =BC42 -> 4 | BP68: =SUM(BP69:BP71) -> 3 | BS68: =BK68 -> Section >> | BU68: =BM68 -> 2-Rtl | BV68: =BN68 -> # flrs >> | BW68: =BO68 -> 4 | BY68: in.Hg | BZ68: Wnd-V | CA68: Tdb | CB68: Twb | CC68: Enth | CD68: Dens | CE68: Q cfm | CF68: Q/ EnA | CG68: Tons | CI68: =$BM$12 -> 100 | CQ68: =$BM$12 -> 100 | CT68: =BK68 -> Section >> | CV68: =BM68 -> 2-Rtl | CW68: =BN68 -> # flrs >> | CX68: =BO68 -> 4 | CZ68: in.Hg | DA68: Wnd-V | DB68: Tdb | DC68: Twb | DD68: Enth | DE68: Dens | DF68: Q cfm | DG68: Q/ EnA | DH68: Tons | DJ68: =$BM$12 -> 100 | DR68: =$BM$12 -> 100
B69: Element ID | G69: Description | P69: Mean | R69: Max | T69: Mean | W69: Max | AY69: Infiltration per Vertical Bldg Sections | BK69: =BK70+1 -> 5 | BL69: 3 | BM69: =IF(BL69<=0, "XX", BB$42+BL69) -> 5 | BN69: =IF(BM69="XX", "XX", $BB$9 + BB$44 + BL69*BC$20) -> 594 | BO69: =IF(BM69="XX", "XX", BN69*0.3048) -> 181.0512 | BP69: =IF( (BL69>0),1, 0) -> 1 | BS69: =BK69 -> 5 | BT69: =BL69 -> 3 | BU69: =BM69 -> 5 | BV69: =BN69 -> 594 | BW69: =IF(BU69="XX", "XX", BV69*0.3048) -> 181.0512 | BY69: ='SMMR-Calcs'!H74 -> 29.364434 | BZ69: ='SMMR-Calcs'!K74 -> 5.7181054 | CA69: ='SMMR-Calcs'!L74 -> 94.66536 | CB69: ='SMMR-Calcs'!M74 -> 74.78004 | CC69: ='SMMR-Calcs'!S74 -> 38.588151 | CD69: ='SMMR-Calcs'!R74 -> 0.068635775 | CE69: ='SMMR-Calcs'!AS74 -> -4907.601 | CF69: ='SMMR-Calcs'!AT74 -> -0.3250108 | CG69: ='SMMR-Calcs'!AV74 -> -15900.627 | CI69: =$BM$11 -> 102 | CQ69: =$BM$11 -> 102 | CT69: =BK69 -> 5 | CU69: =BL69 -> 3 | CV69: =BM69 -> 5 | CW69: =BN69 -> 594 | CX69: =BO69 -> 181.0512 | CZ69: ='WNTR-Calcs'!H74 -> 29.364434 | DA69: ='WNTR-Calcs'!K74 -> 11.077158 | DB69: ='WNTR-Calcs'!L74 -> -20.33464 | DC69: ='WNTR-Calcs'!M74 -> -20.21996 | DD69: ='WNTR-Calcs'!S74 -> -4.4836798 | DE69: ='WNTR-Calcs'!R74 -> 0.08854999 | DF69: ='WNTR-Calcs'!AS74 -> 8250.6365 | DG69: ='WNTR-Calcs'!AT74 -> 0.54640668 | DH69: ='WNTR-Calcs'!AV74 -> 26732.062 | DJ69: =$BM$11 -> 102 | DR69: =$BM$11 -> 102
B70: Exterior Doors (ED) | M70: Leakg ( cm2 / m2 ) | T70: Leakg ( ft2 / ft2 ) | AH70: S-1 | AR70: 2-level Atrium | BA70: SCTN (max=5 chars) >> | BB70: 1-Grd | BC70: 2-Rtl | BD70: 3-Fin | BE70: 4-Ofc | BF70: 5-Srv | BG70: 6-Htl | BH70: 7-Apt | BI70: 8-din | BK70: =BK71+1 -> 4 | BL70: 2 | BM70: =IF(BL70<=0, "XX", BB$42+BL70) -> 4 | BN70: =IF(BM70="XX", "XX", $BB$9 + BB$44 + BL70*BC$20) -> 576 | BO70: =IF(BM70="XX", "XX", BN70*0.3048) -> 175.5648 | BP70: =IF( (BL70>0),1, 0) -> 1 | BS70: =BK70 -> 4 | BT70: =BL70 -> 2 | BU70: =BM70 -> 4 | BV70: =BN70 -> 576 | BW70: =IF(BU70="XX", "XX", BV70*0.3048) -> 175.5648 | BY70: ='SMMR-Calcs'!H75 -> 29.383616 | BZ70: ='SMMR-Calcs'!K75 -> 5.5805959 | CA70: ='SMMR-Calcs'!L75 -> 94.72944 | CB70: ='SMMR-Calcs'!M75 -> 74.82216 | CC70: ='SMMR-Calcs'!S75 -> 38.61441 | CD70: ='SMMR-Calcs'!R75 -> 0.068671649 | CE70: ='SMMR-Calcs'!AS75 -> -4962.348 | CF70: ='SMMR-Calcs'!AT75 -> -0.32863648 | CG70: ='SMMR-Calcs'!AV75 -> -16078.008 | CI70: =$BM$10 -> XX | CQ70: =$BM$10 -> XX | CT70: =BK70 -> 4 | CU70: =BL70 -> 2 | CV70: =BM70 -> 4 | CW70: =BN70 -> 576 | CX70: =BO70 -> 175.5648 | CZ70: ='WNTR-Calcs'!H75 -> 29.383616 | DA70: ='WNTR-Calcs'!K75 -> 10.870894 | DB70: ='WNTR-Calcs'!L75 -> -20.27056 | DC70: ='WNTR-Calcs'!M75 -> -20.17784 | DD70: ='WNTR-Calcs'!S75 -> -4.4727469 | DE70: ='WNTR-Calcs'!R75 -> 0.088595518 | DF70: ='WNTR-Calcs'!AS75 -> 8393.1546 | DG70: ='WNTR-Calcs'!AT75 -> 0.55584508 | DH70: ='WNTR-Calcs'!AV75 -> 27193.821 | DJ70: =$BM$10 -> XX | DR70: =$BM$10 -> XX
B71: DREXFRWD | G71: Door, exterior, wood, frame, typical | P71: 1.7 | T71: =P71*$B$28 -> 0.00017 | W71: =R71*$B$28 -> 0 | BA71: SMMR: Infltr - cfm / Section | BB71: ='SMMR-Calcs'!AR77 -> 15092.826 | BC71: ='SMMR-Calcs'!AR73 -> 19849.04 | BD71: ='SMMR-Calcs'!AR66 -> 2675.9955 | BE71: ='SMMR-Calcs'!AR48 -> 12107.532 | BF71: ='SMMR-Calcs'!AR41 -> 1222.4838 | BG71: ='SMMR-Calcs'!AR27 -> 11481.723 | BH71: ='SMMR-Calcs'!AR14 -> 17888.074 | BI71: ='SMMR-Calcs'!AR10 -> 2511.9371 | BK71: =BK73+1 -> 3 | BL71: 1 | BM71: =IF(BL71<=0, "XX", BB$42+BL71) -> 3 | BN71: =IF(BM71="XX", "XX", $BB$9 + BB$44 + BL71*BC$20) -> 558 | BO71: =IF(BM71="XX", "XX", BN71*0.3048) -> 170.0784 | BP71: =IF( (BL71>0),1, 0) -> 1 | BS71: =BK71 -> 3 | BT71: =BL71 -> 1 | BU71: =BM71 -> 3 | BV71: =BN71 -> 558 | BW71: =IF(BU71="XX", "XX", BV71*0.3048) -> 170.0784 | BY71: ='SMMR-Calcs'!H76 -> 29.402809 | BZ71: ='SMMR-Calcs'!K76 -> 5.4430863 | CA71: ='SMMR-Calcs'!L76 -> 94.79352 | CB71: ='SMMR-Calcs'!M76 -> 74.86428 | CC71: ='SMMR-Calcs'!S76 -> 38.640678 | CD71: ='SMMR-Calcs'!R76 -> 0.068707538 | CE71: ='SMMR-Calcs'!AS76 -> -5016.8306 | CF71: ='SMMR-Calcs'!AT76 -> -0.33224464 | CG71: ='SMMR-Calcs'!AV76 -> -16254.531 | CI71: =$BM$9 -> 7-Apt | CQ71: =$BM$9 -> 7-Apt | CT71: =BK71 -> 3 | CU71: =BL71 -> 1 | CV71: =BM71 -> 3 | CW71: =BN71 -> 558 | CX71: =BO71 -> 170.0784 | CZ71: ='WNTR-Calcs'!H76 -> 29.402809 | DA71: ='WNTR-Calcs'!K76 -> 10.664629 | DB71: ='WNTR-Calcs'!L76 -> -20.20648 | DC71: ='WNTR-Calcs'!M76 -> -20.13572 | DD71: ='WNTR-Calcs'!S76 -> -4.4618136 | DE71: ='WNTR-Calcs'!R76 -> 0.088641065 | DF71: ='WNTR-Calcs'!AS76 -> 8533.0898 | DG71: ='WNTR-Calcs'!AT76 -> 0.56511243 | DH71: ='WNTR-Calcs'!AV76 -> 27647.211 | DJ71: =$BM$9 -> 7-Apt | DR71: =$BM$9 -> 7-Apt
B72: DREXSLGL | G72: Door, exterior, sliding glass, typical | P72: 22 | T72: =P72*$B$28 -> 0.0022 | W72: =R72*$B$28 -> 0 | AA72: S = Vertical Section | BA72: SMMR: Infltr cfm/sf Envel-A | BB72: =BB71/BB56 -> 0.38408296 | BC72: =BC71/BC56 -> 0.32863064 | BD72: =BD71/BD56 -> 0.037166604 | BE72: =BE71/BE56 -> 0.03038124 | BF72: =BF71/BF56 -> 0.025468413 | BG72: =BG71/BG56 -> 0.096566358 | BH72: =BH71/BH56 -> 0.23507281 | BI72: =BI71/BI56 -> 0.11736945 | BK72: Section >> | BM72: =BB14 -> 1-Grd | BN72: # flrs >> | BO72: =BB42 -> 2 | BP72: =SUM(BP73:BP74) -> 2 | BS72: =BK72 -> Section >> | BU72: =BM72 -> 1-Grd | BV72: =BN72 -> # flrs >> | BW72: =BO72 -> 2 | BY72: in.Hg | BZ72: Wnd-V | CA72: Tdb | CB72: Twb | CC72: Enth | CD72: Dens | CE72: Q cfm | CF72: Q/ EnA | CG72: Tons | CI72: =$BM$8 -> 100 | CQ72: =$BM$8 -> 100 | CT72: =BK72 -> Section >> | CV72: =BM72 -> 1-Grd | CW72: =BN72 -> # flrs >> | CX72: =BO72 -> 2 | CZ72: in.Hg | DA72: Wnd-V | DB72: Tdb | DC72: Twb | DD72: Enth | DE72: Dens | DF72: Q cfm | DG72: Q/ EnA | DH72: Tons | DJ72: =$BM$8 -> 100 | DR72: =$BM$8 -> 100
B73: DREX_R | G73: Door, exterior | P73: 6 | T73: =P73*$B$28 -> 0.0006 | W73: =R73*$B$28 -> 0 | BA73: WNTR: Infltr - cfm / Section | BB73: ='WNTR-Calcs'!AR77 -> 30122.179 | BC73: ='WNTR-Calcs'!AR73 -> 33569.174 | BD73: ='WNTR-Calcs'!AR66 -> 3701.5705 | BE73: ='WNTR-Calcs'!AR48 -> 10926.162 | BF73: ='WNTR-Calcs'!AR41 -> 2379.0978 | BG73: ='WNTR-Calcs'!AR27 -> 64387.133 | BH73: ='WNTR-Calcs'!AR14 -> 68538.017 | BI73: ='WNTR-Calcs'!AR10 -> 12039.87 | BK73: =BK74+1 -> 2 | BL73: 2 | BM73: =IF(BL73<=0,"XX",BL73) -> 2 | BN73: =IF(BM73="XX", "XX", $BB$9 + (BL73-1)*BB$20) -> 520 | BO73: =IF(BM73="XX", "XX", BN73*0.3048) -> 158.496 | BP73: =IF( (BL73>0),1, 0) -> 1 | BS73: =BK73 -> 2 | BT73: =BL73 -> 2 | BU73: =BM73 -> 2 | BV73: =BN73 -> 520 | BW73: =IF(BU73="XX", "XX", BV73*0.3048) -> 158.496 | BY73: ='SMMR-Calcs'!H78 -> 29.443361 | BZ73: ='SMMR-Calcs'!K78 -> 5.1527884 | CA73: ='SMMR-Calcs'!L78 -> 94.9288 | CB73: ='SMMR-Calcs'!M78 -> 74.9532 | CC73: ='SMMR-Calcs'!S78 -> 38.696165 | CD73: ='SMMR-Calcs'!R78 -> 0.068783345 | CE73: ='SMMR-Calcs'!AS78 -> -7490.6939 | CF73: ='SMMR-Calcs'!AT78 -> -0.38124707 | CG73: ='SMMR-Calcs'!AV78 -> -24269.848 | CI73: =$BM$7 -> 101 | CQ73: =$BM$7 -> 101 | CT73: =BK73 -> 2 | CU73: =BL73 -> 2 | CV73: =BM73 -> 2 | CW73: =BN73 -> 520 | CX73: =BO73 -> 158.496 | CZ73: ='WNTR-Calcs'!H78 -> 29.443361 | DA73: ='WNTR-Calcs'!K78 -> 10.229183 | DB73: ='WNTR-Calcs'!L78 -> -20.0712 | DC73: ='WNTR-Calcs'!M78 -> -20.0468 | DD73: ='WNTR-Calcs'!S78 -> -4.4387311 | DE73: ='WNTR-Calcs'!R78 -> 0.088737277 | DF73: ='WNTR-Calcs'!AS78 -> 14943.082 | DG73: ='WNTR-Calcs'!AT78 -> 0.76054454 | DH73: ='WNTR-Calcs'!AV78 -> 48415.587 | DJ73: =$BM$7 -> 101 | DR73: =$BM$7 -> 101
B74: DREX_RM | G74: Door, exterior (MH) | P74: 4 | T74: =P74*$B$28 -> 0.0004 | W74: =R74*$B$28 -> 0 | AG74: S-0 | AN74: MECHANICAL Flr | BA74: WNTR: Infltr cfm/sf Envel-A | BB74: =BB73/BB56 -> 0.76655065 | BC74: =BC73/BC56 -> 0.55578806 | BD74: =BD73/BD56 -> 0.051410701 | BE74: =BE73/BE56 -> 0.027416846 | BF74: =BF73/BF56 -> 0.049564538 | BG74: =BG73/BG56 -> 0.54152422 | BH74: =BH73/BH56 -> 0.90067968 | BI74: =BI73/BI56 -> 0.56255901 | BK74: 1 | BL74: 1 | BM74: =BL74 -> 1 | BN74: =$BB$9 -> 500 | BO74: =IF(BM74="XX", "XX", BN74*0.3048) -> 152.4 | BP74: =IF( (BL74>0),1, 0) -> 1 | BS74: =BK74 -> 1 | BT74: =BL74 -> 1 | BU74: =BM74 -> 1 | BV74: =BN74 -> 500 | BW74: =BO74 -> 152.4 | BY74: ='SMMR-Calcs'!H79 -> 29.464722 | BZ74: ='SMMR-Calcs'!K79 -> 5 | CA74: ='SMMR-Calcs'!L79 -> 95 | CB74: ='SMMR-Calcs'!M79 -> 75 | CC74: ='SMMR-Calcs'!S79 -> 38.725386 | CD74: ='SMMR-Calcs'!R79 -> 0.068823267 | CE74: ='SMMR-Calcs'!AS79 -> -7602.1326 | CF74: ='SMMR-Calcs'!AT79 -> -0.38691886 | CG74: ='SMMR-Calcs'!AV79 -> -24630.91 | CI74: =$BM$6 -> XX | CQ74: =$BM$6 -> XX | CT74: =BK74 -> 1 | CU74: =BL74 -> 1 | CV74: =BM74 -> 1 | CW74: =BN74 -> 500 | CX74: =BO74 -> 152.4 | CZ74: ='WNTR-Calcs'!H79 -> 29.464722 | DA74: ='WNTR-Calcs'!K79 -> 10 | DB74: ='WNTR-Calcs'!L79 -> -20 | DC74: ='WNTR-Calcs'!M79 -> -20 | DD74: ='WNTR-Calcs'!S79 -> -4.4265817 | DE74: ='WNTR-Calcs'!R79 -> 0.088787948 | DF74: ='WNTR-Calcs'!AS79 -> 15179.097 | DG74: ='WNTR-Calcs'!AT79 -> 0.77255676 | DH74: ='WNTR-Calcs'!AV79 -> 49180.274 | DJ74: =$BM$6 -> XX | DR74: =$BM$6 -> XX

Sheet SMMR-Calcs
A1: 1 | B1: 5 | C1: 5 | D1: 5 | E1: 6 | F1: 6 | G1: 6 | H1: 6 | I1: 6.5 | J1: 6 | K1: 6 | L1: 6 | M1: 6 | N1: 6 | O1: 7 | P1: 6 | Q1: 6 | R1: 7.5 | S1: 7 | T1: 6 | U1: 6 | V1: 7 | W1: 6.5 | X1: 6.5 | Y1: 6.5 | Z1: 6.5 | AA1: 6.5 | AB1: 7.5 | AC1: 6.5 | AD1: 2 | AE1: 2 | AF1: 5 | AG1: 5 | AH1: 5 | AI1: 6 | AJ1: 6 | AL1: 6.5 | AM1: 6.5 | AN1: 6.5 | AO1: 6.5 | AP1: 6.5 | AQ1: 6.5 | AR1: 9 | AS1: 6.5 | AT1: 6.5 | AU1: 7 | AV1: 9
B2: Site Altit | D2: ='Input-Output'!BB9 -> 500 | E2: Bldg-H | F2: ='Input-Output'!AZ68 -> 1309 | G2: NPL-H | H2: ='Input-Output'!BA68 -> 654.5 | I2: Total Bldg Area | K2: ='Input-Output'!BC68 -> 2782800 | M2: Total Envel Area | O2: ='Input-Output'!BE68 -> 834612.65 | Q2: Leakg-A | R2: ='Input-Output'!BG68 -> 3126.9737 | S2: Wnd-Vel Diff | U2: ='Input-Output'!BH6 - 'Input-Output'!BH5 -> 10 | W2: Temp Drop with Altitude | Z2: DB | AA2: 0.00356 | AB2: WB | AC2: 0.00234 | AF2: ∆PS = C1*ρO* [ (TO - TI) / TI ] * g * (HNPL - H) | AL2: ∆PS = | AM2: Stack Effect Press Diff (in.wg) | AQ2: PI - PO | AR2: Bldg Pressuriz (Indr Press - Outdr Press)
E3: Alt ref Sea-Lvl | G3: Outdr Std. Atm. Press. @ Altit | K3: Wnd V | L3: DB | M3: WB | N3: DP | O3: W | P3: RH | Q3: V | R3: d | S3: H | T3: Tdb | U3: Twb | W3: Psychrometric Calculations for DP, RH, V, W, H, TR | AF3: Q = Cd * A * ( 2 * ∆P/d )0.5 | AJ3: TO (OR) , Ti (OR) | AL3: ∆PW = | AM3: Wind Press (in.wg) | AP3: UH = mph | AR3: ρO = OA dens | AT3: Coolg/yr = CFM*1.08*CDD
E4: feet | F4: meters | G4: K-Pa | H4: in.Hg | I4: in.H2O | J4: psi | K4: mph | L4: F | M4: F | N4: F | O4: lbs/b | P4: % | Q4: ft3/lb | R4: lbs/ft3 | S4: btu/lb | T4: R | U4: R | W4: PWSwb | X4: WSwb | Y4: PWSdb | Z4: VPs | AA4: VPa | AB4: a | AC4: WSdb | AF4: ∆PW = C2 * s2 * CP * ρO * (UH)2 / 2 | AL4: Q = | AM4: Airflow Rate (ft3/sec) | AP4: A = Leakg-A | AR4: Iniltr SHG/hr = CFM * 1.08 (To-Ti))
B5: At Sea-Level | E5: 0 | F5: 0 | G5: =( 101325*(1-2.25577*(10^(-5))*F5)^5.2555 ) /1000 -> 101.325 | H5: =G5*0.2953 -> 29.921273 | I5: =J5*27.7070465550844 -> 406.03448 | J5: =H5/2.041772658 -> 14.654556 | K5: =('Input-Output'!BH5+'Input-Output'!BH6)/2 -> 10 | L5: ='Input-Output'!BH11 -> 75 | M5: ='Input-Output'!BH12 -> 62 | N5: =100.45+33.193*AB5+2.319*AB5^2+0.17074*AB5^3+1.2063*(AA5*0.4897705)^3 -> 53.291934 | O5: =((1093-0.556*M5)*X5 - 0.24*(L5-M5))/(1093 + 0.444*L5-M5) -> 0.0089200822 | P5: =((O5/AC5)/(1-(1-(O5/AC5))*(Y5/J5)))*100 -> 48.128472 | Q5: =0.7543*(T5*(1+1.6078*O5))/H5 -> 13.672833 | R5: =1/Q5 -> 0.073137731 | S5: =0.24*L5+O5*(1061+0.444*L5) -> 27.761246 | T5: =L5+459.7 -> 534.7 | U5: =M5+459.7 -> 521.7 | W5: =EXP((-10440.397/U5)+(-11.29465) + (-0.027022355*U5) + (0.00001289036*U5*U5) + (-0.0000000024780681*U5^3)+(6.5459673*LN(U5))) -> 0.27548168 | X5: =0.62198*W5/(J5-W5) -> 0.011916211 | Y5: =EXP((-10440.397/T5)+(-11.29465) + (-0.027022355*T5) + (0.00001289036*T5*T5) + (-0.0000000024780681*T5^3)+(6.5459673*LN(T5))) -> 0.43050567 | Z5: =Y5*2.041772658 -> 0.8789947 | AA5: =(H5*O5)/(0.62198+O5) -> 0.42304672 | AB5: =LN(AA5*0.4897705) -> -1.574091 | AC5: =0.62198*(Y5/(J5-Y5)) -> 0.018824871 | AF5: Convert K-Pa to | AI5: In.Hg | AJ5: 0.29610503 | AK5: in.wg | AL5: 4.0185658 | AM5: PSI | AN5: 0.14503768 | AO5: C1 = | AP5: 0.000598 | AQ5: g = | AR5: 32.17 | AS5: C2 = | AT5: 0.013 | AU5: Clg-DD | AV5: ='Input-Output'!BH10 -> 2680
B6: Indoor Conditions | E6: =E79 -> 500 | F6: =F79 -> 152.4 | G6: =( 101325*(1-2.25577*(10^(-5))*F6)^5.2555 ) /1000 -> 99.50767 | H6: =G6*0.2953 -> 29.384615 | I6: =J6*27.7070465550844 -> 398.75198 | J6: =H6/2.041772658 -> 14.391717 | K6: =K79 -> 5 | L6: ='Input-Output'!BH11 -> 75 | M6: ='Input-Output'!BH12 -> 62 | N6: =N79 -> 66.078058 | O6: =O79 -> 0.014435891 | P6: =P79 -> 40.069938 | Q6: =Q79 -> 14.52997 | R6: =R79 -> 0.068823267 | S6: =S79 -> 38.725386 | T6: =T79 -> 554.7 | U6: =U79 -> 534.7 | W6: =IF(E6="XX", "XX", EXP((-10440.397/U6)+(-11.29465) + (-0.027022355*U6) + (0.00001289036*U6*U6) + (-0.0000000024780681*U6^3)+(6.5459673*LN(U6))) ) -> 0.43050567 | X6: =IF(E6="XX", "XX", 0.62198*W6/(J6-W6)) -> 0.019179275 | Y6: =IF(E6="XX", "XX", EXP((-10440.397/T6)+(-11.29465) + (-0.027022355*T6) + (0.00001289036*T6*T6) + (-0.0000000024780681*T6^3)+(6.5459673*LN(T6))) ) -> 0.81699856 | Z6: =IF(E6="XX", "XX", Y6*2.041772658 ) -> 1.6681253 | AA6: =IF(E6="XX", "XX", (H6*O6)/(0.62198+O6)) -> 0.6665344 | AB6: =IF(E6="XX", "XX", LN(AA6*0.4897705)) -> -1.1194819 | AC6: =IF(E6="XX", "XX", 0.62198*(Y6/(J6-Y6))) -> 0.037434055 | AF6: Convert in.H20 to | AI6: In.Hg | AJ6: 0.073684257 | AK6: K-Pa | AL6: 0.248845 | AM6: PSI | AN6: 0.036091902 | AO6: s = | AP6: 0.4 | AQ6: CF = | AR6: 0.65 | AS6: CP = | AT6: 0.065 | AU6: SpHt-A | AV6: 0.24
B8: Level | C8: Sctn | D8: Bldg | E8: Alt ref Sea-Lvl | G8: Outdr Std. Atm. Press. @ Altit | K8: Wnd V | L8: DB | M8: WB | N8: DP | O8: W | P8: RH | Q8: V | R8: d | S8: H | T8: Tdb | U8: Twb | W8: Psychrometric Calculations for DP, RH, V, W, H, TR | AF8: Level | AG8: Sctn | AH8: Bldg | AI8: Alt ref Sea-Lvl | AK8: Floor | AL8: Floor | AM8: ∆PS | AN8: ∆PW | AO8: ∆P = | AP8: ∆P + | AQ8: Leakg Q | AR8: Exfl - | AS8: Leakage | AT8: Q / | AU8: SHG | AV8: SHG/yr
B9: ID No. | C9: Flr No. | D9: Flr No. | E9: feet | F9: meters | G9: K-Pa | H9: in.Hg | I9: in.H2O | J9: psi | K9: mph | L9: F | M9: F | N9: F | O9: lbs/b | P9: % | Q9: ft3/lb | R9: lbs/ft3 | S9: btu/lb | T9: R | U9: R | W9: PWSwb | X9: WSwb | Y9: PWSdb | Z9: VPs | AA9: VPa | AB9: a | AC9: WSdb | AF9: ID No. | AG9: Flr No. | AH9: Flr No. | AI9: feet | AJ9: meters | AK9: Data | AL9: Hght | AM9: in.H2O | AN9: in.H2O | AO9: ∆PW+∆PS | AP9: PI - PO | AQ9: cfm | AR9: Infl + | AS9: ft3/min | AT9: Envel-A | AU9: btuh | AV9: tons
B10: ='Input-Output'!BK5 -> Section >> | D10: ='Input-Output'!BM5 -> 8-din | E10: Flrs/S | F10: ='Input-Output'!BO5 -> 3 | G10: Section Ht (ft) | I10: ='Input-Output'!BI44 -> 50 | J10: Per-L | K10: ='Input-Output'!BI46 -> 475.59928 | L10: Floor-Envel-Area (ft2) | O10: ='Input-Output'!BI47 -> 7133.9892 | P10: S-Flr-Area (ft2) | R10: ='Input-Output'!BI45 -> 54000 | S10: Wndw Area (%) | U10: ='Input-Output'!BI50 -> 60 | W10: Inside-Outside (PI-PO) | Z10: ='Input-Output'!BI32 -> 0.015 | AA10: Leakg Flow Cf | AC10: ='Input-Output'!BI31 -> 0.65 | AF10: =B10 -> Section >> | AH10: =D10 -> 8-din | AI10: =E10 -> Flrs/S | AJ10: =F10 -> 3 | AK10: =SUM(AK11:AK13) -> 2 | AL10: Envel Leakg A | AN10: ='Input-Output'!BI55 -> 46.37093 | AO10: Appr. Sctn-Infltr (cfm) | AR10: =(SUM(AQ11:AQ13)/AK10) * AJ10 -> 2511.9371 | AS10: Appr. Sctn Infltr (tons) | AV10: =(SUM(AV11:AV13)/AK10) * AJ10 -> 7270.5507
B11: ='Input-Output'!BK6 -> 61 | C11: ='Input-Output'!BL6 -> 0 | D11: ='Input-Output'!BM6 -> XX | E11: ='Input-Output'!BN6 -> XX | F11: ='Input-Output'!BO6 -> XX | G11: =IF(E11="XX","XX",((101325*(1-2.25577*(10^(-5))*F11)^5.2555)/1000)) -> XX | H11: =IF(E11="XX", "XX", G11*$AJ$5) -> XX | I11: =IF(E11="XX", "XX", G11*$AL$5) -> XX | J11: =IF(E11="XX", "XX",G11*$AN$5) -> XX | K11: =IF(E11="XX", "XX", ( $K$79 + $U$2 * (E11-$D$2)/$F$2 ) ) -> XX | L11: =IF(E11="XX", "XX", $L$79 - $AA$2*(E11-$E$79)) -> XX | M11: =IF(E11="XX","XX ", $M$79-$AC$2*(E11-$E$79)) -> XX | N11: =IF(E11="XX","XX",100.45+33.193*AB11+2.319*AB11^2+0.17074*AB11^3+1.2063*(AA11*0.4897705)^3) -> XX | O11: =IF(E11="XX","XX ",((1093-0.556*M11)*X11-0.24*(L11-M11))/(1093+0.444*L11-M11)) -> XX | P11: =IF(E11="XX", "XX", ((O11/AC11)/(1-(1-(O11/AC11))*(Y11/J11)))*100) -> XX | Q11: =IF(E11="XX", "XX", 0.7543*(T11*(1+1.6078*O11))/H11) -> XX | R11: =IF(E11="XX", "XX", 1/Q11) -> XX | S11: =IF(E11="XX", "XX", 0.24*L11+O11*(1061+0.444*L11)) -> XX | T11: =IF(E11="XX", "XX", L11+459.7) -> XX | U11: =IF(E11="XX", "XX", M11+459.7) -> XX | W11: =IF(E11="XX", "XX", EXP((-10440.397/U11)+(-11.29465) + (-0.027022355*U11) + (0.00001289036*U11*U11) + (-0.0000000024780681*U11^3)+(6.5459673*LN(U11))) ) -> XX | X11: =IF(E11="XX", "XX", 0.62198*W11/(J11-W11)) -> XX | Y11: =IF(E11="XX", "XX", EXP((-10440.397/T11)+(-11.29465) + (-0.027022355*T11) + (0.00001289036*T11*T11) + (-0.0000000024780681*T11^3)+(6.5459673*LN(T11))) ) -> XX | Z11: =IF(E11="XX", "XX", Y11*2.041772658 ) -> XX | AA11: =IF(E11="XX", "XX", (H11*O11)/(0.62198+O11)) -> XX | AB11: =IF(E11="XX", "XX", LN(AA11*0.4897705)) -> XX | AC11: =IF(E11="XX", "XX", 0.62198*(Y11/(J11-Y11))) -> XX | AF11: =B11 -> 61 | AG11: =C11 -> 0 | AH11: =D11 -> XX | AI11: =E11 -> XX | AJ11: =F11 -> XX | AK11: =IF( (AG11>0),1, 0) -> 0 | AL11: =IF(D11="XX", "XX", E11- $D$2) -> XX | AM11: =IF(D11="XX", "XX", $AP$5 * R11 * (T11-$T$5)/$T$5 * $AR$5 * ($H$2-AL11)) -> XX | AN11: =IF(D11="XX", "XX", $AT$5 * $AP$6^2 * $AT$6 * R11 * K11^2/2) -> XX | AO11: =IF(D11="XX", "XX", AM11 +AN11) -> XX | AP11: =IF(D11="XX", "XX", AO11 +$Z$10) -> XX | AQ11: =IF(D11="XX", 0, 60 * ($AC$10 * $AN$10 * (2 * ABS(AP11)/R11)^0.5)) -> 0 | AR11: =IF(D11="XX", "XX", IF(AP11<0, "Exfl", "Infl")) -> XX | AS11: =IF(AR11="Infl", -AQ11, AQ11) -> 0 | AT11: =IF(D11="XX", "XX", AS11/$O$10) -> XX | AU11: =IF(D11="XX", "XX", AS11*1.08*(L11-$L$6)) -> XX | AV11: =IF(D11="XX", 0, AS11 * 1.08 * $AV$5/1000) -> 0
B12: ='Input-Output'!BK7 -> 60 | C12: ='Input-Output'!BL7 -> 2 | D12: ='Input-Output'!BM7 -> 101 | E12: ='Input-Output'!BN7 -> 1789 | F12: ='Input-Output'!BO7 -> 545.2872 | G12: =IF(E12="XX","XX",((101325*(1-2.25577*(10^(-5))*F12)^5.2555)/1000)) -> 94.944017 | H12: =IF(E12="XX", "XX", G12*$AJ$5) -> 28.113401 | I12: =IF(E12="XX", "XX", G12*$AL$5) -> 381.53878 | J12: =IF(E12="XX", "XX",G12*$AN$5) -> 13.77046 | K12: =IF(E12="XX", "XX", ( $K$79 + $U$2 * (E12-$D$2)/$F$2 ) ) -> 14.847212 | L12: =IF(E12="XX", "XX", $L$79 - $AA$2*(E12-$E$79)) -> 90.41116 | M12: =IF(E12="XX","XX ", $M$79-$AC$2*(E12-$E$79)) -> 71.98374 | N12: =IF(E12="XX","XX",100.45+33.193*AB12+2.319*AB12^2+0.17074*AB12^3+1.2063*(AA12*0.4897705)^3) -> 63.422387 | O12: =IF(E12="XX","XX ",((1093-0.556*M12)*X12-0.24*(L12-M12))/(1093+0.444*L12-M12)) -> 0.013773908 | P12: =IF(E12="XX", "XX", ((O12/AC12)/(1-(1-(O12/AC12))*(Y12/J12)))*100) -> 42.102221 | Q12: =IF(E12="XX", "XX", 0.7543*(T12*(1+1.6078*O12))/H12) -> 15.08669 | R12: =IF(E12="XX", "XX", 1/Q12) -> 0.066283591 | S12: =IF(E12="XX", "XX", 0.24*L12+O12*(1061+0.444*L12)) -> 36.865715 | T12: =IF(E12="XX", "XX", L12+459.7) -> 550.11116 | U12: =IF(E12="XX", "XX", M12+459.7) -> 531.68374 | W12: =IF(E12="XX", "XX", EXP((-10440.397/U12)+(-11.29465) + (-0.027022355*U12) + (0.00001289036*U12*U12) + (-0.0000000024780681*U12^3)+(6.5459673*LN(U12))) ) -> 0.38900007 | X12: =IF(E12="XX", "XX", 0.62198*W12/(J12-W12)) -> 0.018081006 | Y12: =IF(E12="XX", "XX", EXP((-10440.397/T12)+(-11.29465) + (-0.027022355*T12) + (0.00001289036*T12*T12) + (-0.0000000024780681*T12^3)+(6.5459673*LN(T12))) ) -> 0.70861701 | Z12: =IF(E12="XX", "XX", Y12*2.041772658 ) -> 1.4468348 | AA12: =IF(E12="XX", "XX", (H12*O12)/(0.62198+O12)) -> 0.60909008 | AB12: =IF(E12="XX", "XX", LN(AA12*0.4897705)) -> -1.2096075 | AC12: =IF(E12="XX", "XX", 0.62198*(Y12/(J12-Y12))) -> 0.033742988 | AF12: =B12 -> 60 | AG12: =C12 -> 2 | AH12: =D12 -> 101 | AI12: =E12 -> 1789 | AJ12: =F12 -> 545.2872 | AK12: =IF( (AG12>0),1, 0) -> 1 | AL12: =IF(D12="XX", "XX", E12- $D$2) -> 1289 | AM12: =IF(D12="XX", "XX", $AP$5 * R12 * (T12-$T$5)/$T$5 * $AR$5 * ($H$2-AL12)) -> -0.023319275 | AN12: =IF(D12="XX", "XX", $AT$5 * $AP$6^2 * $AT$6 * R12 * K12^2/2) -> 0.00098773972 | AO12: =IF(D12="XX", "XX", AM12 +AN12) -> -0.022331535 | AP12: =IF(D12="XX", "XX", AO12 +$Z$10) -> -0.0073315353 | AQ12: =IF(D12="XX", 0, 60 * ($AC$10 * $AN$10 * (2 * ABS(AP12)/R12)^0.5)) -> 850.58919 | AR12: =IF(D12="XX", "XX", IF(AP12<0, "Exfl", "Infl")) -> Exfl | AS12: =IF(AR12="Infl", -AQ12, AQ12) -> 850.58919 | AT12: =IF(D12="XX", "XX", AS12/$O$10) -> 0.11923051 | AU12: =IF(D12="XX", "XX", AS12*1.08*(L12-$L$6)) -> 14157.251 | AV12: =IF(D12="XX", 0, AS12 * 1.08 * $AV$5/1000) -> 2461.9453
B13: ='Input-Output'!BK8 -> 59 | C13: ='Input-Output'!BL8 -> 1 | D13: ='Input-Output'!BM8 -> 100 | E13: ='Input-Output'!BN8 -> 1774 | F13: ='Input-Output'!BO8 -> 540.7152 | G13: =IF(E13="XX","XX",((101325*(1-2.25577*(10^(-5))*F13)^5.2555)/1000)) -> 94.996131 | H13: =IF(E13="XX", "XX", G13*$AJ$5) -> 28.128832 | I13: =IF(E13="XX", "XX", G13*$AL$5) -> 381.7482 | J13: =IF(E13="XX", "XX",G13*$AN$5) -> 13.778018 | K13: =IF(E13="XX", "XX", ( $K$79 + $U$2 * (E13-$D$2)/$F$2 ) ) -> 14.73262 | L13: =IF(E13="XX", "XX", $L$79 - $AA$2*(E13-$E$79)) -> 90.46456 | M13: =IF(E13="XX","XX ", $M$79-$AC$2*(E13-$E$79)) -> 72.01884 | N13: =IF(E13="XX","XX",100.45+33.193*AB13+2.319*AB13^2+0.17074*AB13^3+1.2063*(AA13*0.4897705)^3) -> 63.453067 | O13: =IF(E13="XX","XX ",((1093-0.556*M13)*X13-0.24*(L13-M13))/(1093+0.444*L13-M13)) -> 0.013781377 | P13: =IF(E13="XX", "XX", ((O13/AC13)/(1-(1-(O13/AC13))*(Y13/J13)))*100) -> 42.077279 | Q13: =IF(E13="XX", "XX", 0.7543*(T13*(1+1.6078*O13))/H13) -> 15.080055 | R13: =IF(E13="XX", "XX", 1/Q13) -> 0.066312757 | S13: =IF(E13="XX", "XX", 0.24*L13+O13*(1061+0.444*L13)) -> 36.887082 | T13: =IF(E13="XX", "XX", L13+459.7) -> 550.16456 | U13: =IF(E13="XX", "XX", M13+459.7) -> 531.71884 | W13: =IF(E13="XX", "XX", EXP((-10440.397/U13)+(-11.29465) + (-0.027022355*U13) + (0.00001289036*U13*U13) + (-0.0000000024780681*U13^3)+(6.5459673*LN(U13))) ) -> 0.38946219 | X13: =IF(E13="XX", "XX", 0.62198*W13/(J13-W13)) -> 0.018092891 | Y13: =IF(E13="XX", "XX", EXP((-10440.397/T13)+(-11.29465) + (-0.027022355*T13) + (0.00001289036*T13*T13) + (-0.0000000024780681*T13^3)+(6.5459673*LN(T13))) ) -> 0.70980262 | Z13: =IF(E13="XX", "XX", Y13*2.041772658 ) -> 1.4492556 | AA13: =IF(E13="XX", "XX", (H13*O13)/(0.62198+O13)) -> 0.60974773 | AB13: =IF(E13="XX", "XX", LN(AA13*0.4897705)) -> -1.2085283 | AC13: =IF(E13="XX", "XX", 0.62198*(Y13/(J13-Y13))) -> 0.033782962 | AF13: =B13 -> 59 | AG13: =C13 -> 1 | AH13: =D13 -> 100 | AI13: =E13 -> 1774 | AJ13: =F13 -> 540.7152 | AK13: =IF( (AG13>0),1, 0) -> 1 | AL13: =IF(D13="XX", "XX", E13- $D$2) -> 1274 | AM13: =IF(D13="XX", "XX", $AP$5 * R13 * (T13-$T$5)/$T$5 * $AR$5 * ($H$2-AL13)) -> -0.022856937 | AN13: =IF(D13="XX", "XX", $AT$5 * $AP$6^2 * $AT$6 * R13 * K13^2/2) -> 0.00097297969 | AO13: =IF(D13="XX", "XX", AM13 +AN13) -> -0.021883957 | AP13: =IF(D13="XX", "XX", AO13 +$Z$10) -> -0.0068839569 | AQ13: =IF(D13="XX", 0, 60 * ($AC$10 * $AN$10 * (2 * ABS(AP13)/R13)^0.5)) -> 824.03553 | AR13: =IF(D13="XX", "XX", IF(AP13<0, "Exfl", "Infl")) -> Exfl | AS13: =IF(AR13="Infl", -AQ13, AQ13) -> 824.03553 | AT13: =IF(D13="XX", "XX", AS13/$O$10) -> 0.11550838 | AU13: =IF(D13="XX", "XX", AS13*1.08*(L13-$L$6)) -> 13762.815 | AV13: =IF(D13="XX", 0, AS13 * 1.08 * $AV$5/1000) -> 2385.0884
B14: ='Input-Output'!BK9 -> Section >> | D14: ='Input-Output'!BM9 -> 7-Apt | E14: Flrs/S | F14: ='Input-Output'!BO9 -> 19 | G14: Section Ht (ft) | I14: ='Input-Output'!BH44 -> 170 | J14: Per-L | K14: ='Input-Output'!BH46 -> 475.59928 | L14: Floor-Envel-Area (ft2) | O14: ='Input-Output'!BH47 -> 4755.9928 | P14: S-Flr-Area (ft2) | R14: ='Input-Output'!BH45 -> 288000 | S14: Wndw Area (%) | U14: ='Input-Output'!BH50 -> 45 | W14: Inside-Outside (PI-PO) | Z14: ='Input-Output'!BH32 -> 0.01 | AA14: Leakg Flow Cf | AC14: ='Input-Output'!BH31 -> 0.65 | AF14: =B14 -> Section >> | AH14: =D14 -> 7-Apt | AI14: =E14 -> Flrs/S | AJ14: =F14 -> 19 | AK14: =SUM(AK15:AK24) -> 9 | AL14: Envel Leakg A | AN14: ='Input-Output'!BH55 -> 45.181932 | AO14: Appr. Sctn-Infltr (cfm) | AR14: =(SUM(AQ15:AQ24)/AK14) * AJ14 -> 17888.074 | AS14: Appr. Sctn Infltr (tons) | AV14: =(SUM(AV15:AV24)/AK14) * AJ14 -> 57957.359
B15: ='Input-Output'!BK10 -> 58 | C15: ='Input-Output'!BL10 -> 0 | D15: ='Input-Output'!BM10 -> XX | E15: ='Input-Output'!BN10 -> XX | F15: ='Input-Output'!BO10 -> XX | G15: =IF(E15="XX","XX",((101325*(1-2.25577*(10^(-5))*F15)^5.2555)/1000)) -> XX | H15: =IF(E15="XX", "XX", G15*$AJ$5) -> XX | I15: =IF(E15="XX", "XX", G15*$AL$5) -> XX | J15: =IF(E15="XX", "XX",G15*$AN$5) -> XX | K15: =IF(E15="XX", "XX", ( $K$79 + $U$2 * (E15-$D$2)/$F$2 ) ) -> XX | L15: =IF(E15="XX", "XX", $L$79 - $AA$2*(E15-$E$79)) -> XX | M15: =IF(E15="XX","XX ", $M$79-$AC$2*(E15-$E$79)) -> XX | N15: =IF(E15="XX","XX",100.45+33.193*AB15+2.319*AB15^2+0.17074*AB15^3+1.2063*(AA15*0.4897705)^3) -> XX | O15: =IF(E15="XX","XX ",((1093-0.556*M15)*X15-0.24*(L15-M15))/(1093+0.444*L15-M15)) -> XX | P15: =IF(E15="XX", "XX", ((O15/AC15)/(1-(1-(O15/AC15))*(Y15/J15)))*100) -> XX | Q15: =IF(E15="XX", "XX", 0.7543*(T15*(1+1.6078*O15))/H15) -> XX | R15: =IF(E15="XX", "XX", 1/Q15) -> XX | S15: =IF(E15="XX", "XX", 0.24*L15+O15*(1061+0.444*L15)) -> XX | T15: =IF(E15="XX", "XX", L15+459.7) -> XX | U15: =IF(E15="XX", "XX", M15+459.7) -> XX | W15: =IF(E15="XX", "XX", EXP((-10440.397/U15)+(-11.29465) + (-0.027022355*U15) + (0.00001289036*U15*U15) + (-0.0000000024780681*U15^3)+(6.5459673*LN(U15))) ) -> XX | X15: =IF(E15="XX", "XX", 0.62198*W15/(J15-W15)) -> XX | Y15: =IF(E15="XX", "XX", EXP((-10440.397/T15)+(-11.29465) + (-0.027022355*T15) + (0.00001289036*T15*T15) + (-0.0000000024780681*T15^3)+(6.5459673*LN(T15))) ) -> XX | Z15: =IF(E15="XX", "XX", Y15*2.041772658 ) -> XX | AA15: =IF(E15="XX", "XX", (H15*O15)/(0.62198+O15)) -> XX | AB15: =IF(E15="XX", "XX", LN(AA15*0.4897705)) -> XX | AC15: =IF(E15="XX", "XX", 0.62198*(Y15/(J15-Y15))) -> XX | AF15: =B15 -> 58 | AG15: =C15 -> 0 | AH15: =D15 -> XX | AI15: =E15 -> XX | AJ15: =F15 -> XX | AK15: =IF( (AG15>0),1, 0) -> 0 | AL15: =IF(D15="XX", "XX", E15- $D$2) -> XX | AM15: =IF(D15="XX", "XX", $AP$5 * R15 * (T15-$T$5)/$T$5 * $AR$5 * ($H$2-AL15)) -> XX | AN15: =IF(D15="XX", "XX", $AT$5 * $AP$6^2 * $AT$6 * R15 * K15^2/2) -> XX | AO15: =IF(D15="XX", "XX", AM15 +AN15) -> XX | AP15: =IF(D15="XX", "XX", AO15 +$Z$14) -> XX | AQ15: =IF(D15="XX", 0, 60 * ($AC$14 * $AN$14 * (2 * ABS(AP15)/R15)^0.5)) -> 0 | AR15: =IF(D15="XX", "XX", IF(AP15<0, "Exfl", "Infl")) -> XX | AS15: =IF(AR15="Infl", -AQ15, AQ15) -> 0 | AT15: =IF(D15="XX", "XX", AS15/$O$14) -> XX | AU15: =IF(D15="XX", "XX", AS15*1.08*(L15-$L$6)) -> XX | AV15: =IF(D15="XX", 0, AS15 * 1.08 * 3000/1000) -> 0
B16: ='Input-Output'!BK11 -> 57 | C16: ='Input-Output'!BL11 -> 19 | D16: ='Input-Output'!BM11 -> 102 | E16: ='Input-Output'!BN11 -> 1779 | F16: ='Input-Output'!BO11 -> 542.2392 | G16: =IF(E16="XX","XX",((101325*(1-2.25577*(10^(-5))*F16)^5.2555)/1000)) -> 94.978757 | H16: =IF(E16="XX", "XX", G16*$AJ$5) -> 28.123688 | I16: =IF(E16="XX", "XX", G16*$AL$5) -> 381.67838 | J16: =IF(E16="XX", "XX",G16*$AN$5) -> 13.775499 | K16: =IF(E16="XX", "XX", ( $K$79 + $U$2 * (E16-$D$2)/$F$2 ) ) -> 14.770817 | L16: =IF(E16="XX", "XX", $L$79 - $AA$2*(E16-$E$79)) -> 90.44676 | M16: =IF(E16="XX","XX ", $M$79-$AC$2*(E16-$E$79)) -> 72.00714 | N16: =IF(E16="XX","XX",100.45+33.193*AB16+2.319*AB16^2+0.17074*AB16^3+1.2063*(AA16*0.4897705)^3) -> 63.44284 | O16: =IF(E16="XX","XX ",((1093-0.556*M16)*X16-0.24*(L16-M16))/(1093+0.444*L16-M16)) -> 0.013778887 | P16: =IF(E16="XX", "XX", ((O16/AC16)/(1-(1-(O16/AC16))*(Y16/J16)))*100) -> 42.085589 | Q16: =IF(E16="XX", "XX", 0.7543*(T16*(1+1.6078*O16))/H16) -> 15.082266 | R16: =IF(E16="XX", "XX", 1/Q16) -> 0.066303034 | S16: =IF(E16="XX", "XX", 0.24*L16+O16*(1061+0.444*L16)) -> 36.879959 | T16: =IF(E16="XX", "XX", L16+459.7) -> 550.14676 | U16: =IF(E16="XX", "XX", M16+459.7) -> 531.70714 | W16: =IF(E16="XX", "XX", EXP((-10440.397/U16)+(-11.29465) + (-0.027022355*U16) + (0.00001289036*U16*U16) + (-0.0000000024780681*U16^3)+(6.5459673*LN(U16))) ) -> 0.38930809 | X16: =IF(E16="XX", "XX", 0.62198*W16/(J16-W16)) -> 0.018088929 | Y16: =IF(E16="XX", "XX", EXP((-10440.397/T16)+(-11.29465) + (-0.027022355*T16) + (0.00001289036*T16*T16) + (-0.0000000024780681*T16^3)+(6.5459673*LN(T16))) ) -> 0.70940723 | Z16: =IF(E16="XX", "XX", Y16*2.041772658 ) -> 1.4484483 | AA16: =IF(E16="XX", "XX", (H16*O16)/(0.62198+O16)) -> 0.60952843 | AB16: =IF(E16="XX", "XX", LN(AA16*0.4897705)) -> -1.2088881 | AC16: =IF(E16="XX", "XX", 0.62198*(Y16/(J16-Y16))) -> 0.033769633 | AF16: =B16 -> 57 | AG16: =C16 -> 19 | AH16: =D16 -> 102 | AI16: =E16 -> 1779 | AJ16: =F16 -> 542.2392 | AK16: =IF( (AG16>0),1, 0) -> 1 | AL16: =IF(D16="XX", "XX", E16- $D$2) -> 1279 | AM16: =IF(D16="XX", "XX", $AP$5 * R16 * (T16-$T$5)/$T$5 * $AR$5 * ($H$2-AL16)) -> -0.02301152 | AN16: =IF(D16="XX", "XX", $AT$5 * $AP$6^2 * $AT$6 * R16 * K16^2/2) -> 0.00097788809 | AO16: =IF(D16="XX", "XX", AM16 +AN16) -> -0.022033632 | AP16: =IF(D16="XX", "XX", AO16 +$Z$14) -> -0.012033632 | AQ16: =IF(D16="XX", 0, 60 * ($AC$14 * $AN$14 * (2 * ABS(AP16)/R16)^0.5)) -> 1061.637 | AR16: =IF(D16="XX", "XX", IF(AP16<0, "Exfl", "Infl")) -> Exfl | AS16: =IF(AR16="Infl", -AQ16, AQ16) -> 1061.637 | AT16: =IF(D16="XX", "XX", AS16/$O$14) -> 0.22322091 | AU16: =IF(D16="XX", "XX", AS16*1.08*(L16-$L$6)) -> 17710.761 | AV16: =IF(D16="XX", 0, AS16 * 1.08 * 3000/1000) -> 3439.704
B17: ='Input-Output'!BK12 -> 56 | C17: ='Input-Output'!BL12 -> 17 | D17: ='Input-Output'!BM12 -> 100 | E17: ='Input-Output'!BN12 -> 1759 | F17: ='Input-Output'!BO12 -> 536.1432 | G17: =IF(E17="XX","XX",((101325*(1-2.25577*(10^(-5))*F17)^5.2555)/1000)) -> 95.048268 | H17: =IF(E17="XX", "XX", G17*$AJ$5) -> 28.144271 | I17: =IF(E17="XX", "XX", G17*$AL$5) -> 381.95772 | J17: =IF(E17="XX", "XX",G17*$AN$5) -> 13.78558 | K17: =IF(E17="XX", "XX", ( $K$79 + $U$2 * (E17-$D$2)/$F$2 ) ) -> 14.618029 | L17: =IF(E17="XX", "XX", $L$79 - $AA$2*(E17-$E$79)) -> 90.51796 | M17: =IF(E17="XX","XX ", $M$79-$AC$2*(E17-$E$79)) -> 72.05394 | N17: =IF(E17="XX","XX",100.45+33.193*AB17+2.319*AB17^2+0.17074*AB17^3+1.2063*(AA17*0.4897705)^3) -> 63.483752 | O17: =IF(E17="XX","XX ",((1093-0.556*M17)*X17-0.24*(L17-M17))/(1093+0.444*L17-M17)) -> 0.013788852 | P17: =IF(E17="XX", "XX", ((O17/AC17)/(1-(1-(O17/AC17))*(Y17/J17)))*100) -> 42.052369 | Q17: =IF(E17="XX", "XX", 0.7543*(T17*(1+1.6078*O17))/H17) -> 15.073423 | R17: =IF(E17="XX", "XX", 1/Q17) -> 0.066341932 | S17: =IF(E17="XX", "XX", 0.24*L17+O17*(1061+0.444*L17)) -> 36.908456 | T17: =IF(E17="XX", "XX", L17+459.7) -> 550.21796 | U17: =IF(E17="XX", "XX", M17+459.7) -> 531.75394 | W17: =IF(E17="XX", "XX", EXP((-10440.397/U17)+(-11.29465) + (-0.027022355*U17) + (0.00001289036*U17*U17) + (-0.0000000024780681*U17^3)+(6.5459673*LN(U17))) ) -> 0.38992479 | X17: =IF(E17="XX", "XX", 0.62198*W17/(J17-W17)) -> 0.018104782 | Y17: =IF(E17="XX", "XX", EXP((-10440.397/T17)+(-11.29465) + (-0.027022355*T17) + (0.00001289036*T17*T17) + (-0.0000000024780681*T17^3)+(6.5459673*LN(T17))) ) -> 0.71098995 | Z17: =IF(E17="XX", "XX", Y17*2.041772658 ) -> 1.4516798 | AA17: =IF(E17="XX", "XX", (H17*O17)/(0.62198+O17)) -> 0.6104061 | AB17: =IF(E17="XX", "XX", LN(AA17*0.4897705)) -> -1.2074492 | AC17: =IF(E17="XX", "XX", 0.62198*(Y17/(J17-Y17))) -> 0.033822974 | AF17: =B17 -> 56 | AG17: =C17 -> 17 | AH17: =D17 -> 100 | AI17: =E17 -> 1759 | AJ17: =F17 -> 536.1432 | AK17: =IF( (AG17>0),1, 0) -> 1 | AL17: =IF(D17="XX", "XX", E17- $D$2) -> 1259 | AM17: =IF(D17="XX", "XX", $AP$5 * R17 * (T17-$T$5)/$T$5 * $AR$5 * ($H$2-AL17)) -> -0.022390362 | AN17: =IF(D17="XX", "XX", $AT$5 * $AP$6^2 * $AT$6 * R17 * K17^2/2) -> 0.00095832419 | AO17: =IF(D17="XX", "XX", AM17 +AN17) -> -0.021432038 | AP17: =IF(D17="XX", "XX", AO17 +$Z$14) -> -0.011432038 | AQ17: =IF(D17="XX", 0, 60 * ($AC$14 * $AN$14 * (2 * ABS(AP17)/R17)^0.5)) -> 1034.4563 | AR17: =IF(D17="XX", "XX", IF(AP17<0, "Exfl", "Infl")) -> Exfl | AS17: =IF(AR17="Infl", -AQ17, AQ17) -> 1034.4563 | AT17: =IF(D17="XX", "XX", AS17/$O$14) -> 0.21750587 | AU17: =IF(D17="XX", "XX", AS17*1.08*(L17-$L$6)) -> 17336.864 | AV17: =IF(D17="XX", 0, AS17 * 1.08 * 3000/1000) -> 3351.6385
B18: ='Input-Output'!BK13 -> 55 | C18: ='Input-Output'!BL13 -> 15 | D18: ='Input-Output'!BM13 -> 98 | E18: ='Input-Output'!BN13 -> 1739 | F18: ='Input-Output'!BO13 -> 530.0472 | G18: =IF(E18="XX","XX",((101325*(1-2.25577*(10^(-5))*F18)^5.2555)/1000)) -> 95.11782 | H18: =IF(E18="XX", "XX", G18*$AJ$5) -> 28.164865 | I18: =IF(E18="XX", "XX", G18*$AL$5) -> 382.23722 | J18: =IF(E18="XX", "XX",G18*$AN$5) -> 13.795668 | K18: =IF(E18="XX", "XX", ( $K$79 + $U$2 * (E18-$D$2)/$F$2 ) ) -> 14.465241 | L18: =IF(E18="XX", "XX", $L$79 - $AA$2*(E18-$E$79)) -> 90.58916 | M18: =IF(E18="XX","XX ", $M$79-$AC$2*(E18-$E$79)) -> 72.10074 | N18: =IF(E18="XX","XX",100.45+33.193*AB18+2.319*AB18^2+0.17074*AB18^3+1.2063*(AA18*0.4897705)^3) -> 63.524675 | O18: =IF(E18="XX","XX ",((1093-0.556*M18)*X18-0.24*(L18-M18))/(1093+0.444*L18-M18)) -> 0.013798827 | P18: =IF(E18="XX", "XX", ((O18/AC18)/(1-(1-(O18/AC18))*(Y18/J18)))*100) -> 42.019204 | Q18: =IF(E18="XX", "XX", 0.7543*(T18*(1+1.6078*O18))/H18) -> 15.064586 | R18: =IF(E18="XX", "XX", 1/Q18) -> 0.066380847 | S18: =IF(E18="XX", "XX", 0.24*L18+O18*(1061+0.444*L18)) -> 36.936965 | T18: =IF(E18="XX", "XX", L18+459.7) -> 550.28916 | U18: =IF(E18="XX", "XX", M18+459.7) -> 531.80074 | W18: =IF(E18="XX", "XX", EXP((-10440.397/U18)+(-11.29465) + (-0.027022355*U18) + (0.00001289036*U18*U18) + (-0.0000000024780681*U18^3)+(6.5459673*LN(U18))) ) -> 0.39054233 | X18: =IF(E18="XX", "XX", 0.62198*W18/(J18-W18)) -> 0.018120645 | Y18: =IF(E18="XX", "XX", EXP((-10440.397/T18)+(-11.29465) + (-0.027022355*T18) + (0.00001289036*T18*T18) + (-0.0000000024780681*T18^3)+(6.5459673*LN(T18))) ) -> 0.71257573 | Z18: =IF(E18="XX", "XX", Y18*2.041772658 ) -> 1.4549177 | AA18: =IF(E18="XX", "XX", (H18*O18)/(0.62198+O18)) -> 0.61128508 | AB18: =IF(E18="XX", "XX", LN(AA18*0.4897705)) -> -1.2060102 | AC18: =IF(E18="XX", "XX", 0.62198*(Y18/(J18-Y18))) -> 0.033876384 | AF18: =B18 -> 55 | AG18: =C18 -> 15 | AH18: =D18 -> 98 | AI18: =E18 -> 1739 | AJ18: =F18 -> 530.0472 | AK18: =IF( (AG18>0),1, 0) -> 1 | AL18: =IF(D18="XX", "XX", E18- $D$2) -> 1239 | AM18: =IF(D18="XX", "XX", $AP$5 * R18 * (T18-$T$5)/$T$5 * $AR$5 * ($H$2-AL18)) -> -0.021761663 | AN18: =IF(D18="XX", "XX", $AT$5 * $AP$6^2 * $AT$6 * R18 * K18^2/2) -> 0.00093894642 | AO18: =IF(D18="XX", "XX", AM18 +AN18) -> -0.020822717 | AP18: =IF(D18="XX", "XX", AO18 +$Z$14) -> -0.010822717 | AQ18: =IF(D18="XX", 0, 60 * ($AC$14 * $AN$14 * (2 * ABS(AP18)/R18)^0.5)) -> 1006.2158 | AR18: =IF(D18="XX", "XX", IF(AP18<0, "Exfl", "Infl")) -> Exfl | AS18: =IF(AR18="Infl", -AQ18, AQ18) -> 1006.2158 | AT18: =IF(D18="XX", "XX", AS18/$O$14) -> 0.21156799 | AU18: =IF(D18="XX", "XX", AS18*1.08*(L18-$L$6)) -> 16940.944 | AV18: =IF(D18="XX", 0, AS18 * 1.08 * 3000/1000) -> 3260.1393
B19: ='Input-Output'!BK14 -> 54 | C19: ='Input-Output'!BL14 -> 13 | D19: ='Input-Output'!BM14 -> 96 | E19: ='Input-Output'!BN14 -> 1719 | F19: ='Input-Output'!BO14 -> 523.9512 | G19: =IF(E19="XX","XX",((101325*(1-2.25577*(10^(-5))*F19)^5.2555)/1000)) -> 95.187413 | H19: =IF(E19="XX", "XX", G19*$AJ$5) -> 28.185472 | I19: =IF(E19="XX", "XX", G19*$AL$5) -> 382.51688 | J19: =IF(E19="XX", "XX",G19*$AN$5) -> 13.805762 | K19: =IF(E19="XX", "XX", ( $K$79 + $U$2 * (E19-$D$2)/$F$2 ) ) -> 14.312452 | L19: =IF(E19="XX", "XX", $L$79 - $AA$2*(E19-$E$79)) -> 90.66036 | M19: =IF(E19="XX","XX ", $M$79-$AC$2*(E19-$E$79)) -> 72.14754 | N19: =IF(E19="XX","XX",100.45+33.193*AB19+2.319*AB19^2+0.17074*AB19^3+1.2063*(AA19*0.4897705)^3) -> 63.565607 | O19: =IF(E19="XX","XX ",((1093-0.556*M19)*X19-0.24*(L19-M19))/(1093+0.444*L19-M19)) -> 0.013808812 | P19: =IF(E19="XX", "XX", ((O19/AC19)/(1-(1-(O19/AC19))*(Y19/J19)))*100) -> 41.986096 | Q19: =IF(E19="XX", "XX", 0.7543*(T19*(1+1.6078*O19))/H19) -> 15.055756 | R19: =IF(E19="XX", "XX", 1/Q19) -> 0.066419778 | S19: =IF(E19="XX", "XX", 0.24*L19+O19*(1061+0.444*L19)) -> 36.965485 | T19: =IF(E19="XX", "XX", L19+459.7) -> 550.36036 | U19: =IF(E19="XX", "XX", M19+459.7) -> 531.84754 | W19: =IF(E19="XX", "XX", EXP((-10440.397/U19)+(-11.29465) + (-0.027022355*U19) + (0.00001289036*U19*U19) + (-0.0000000024780681*U19^3)+(6.5459673*LN(U19))) ) -> 0.39116073 | X19: =IF(E19="XX", "XX", 0.62198*W19/(J19-W19)) -> 0.018136518 | Y19: =IF(E19="XX", "XX", EXP((-10440.397/T19)+(-11.29465) + (-0.027022355*T19) + (0.00001289036*T19*T19) + (-0.0000000024780681*T19^3)+(6.5459673*LN(T19))) ) -> 0.71416459 | Z19: =IF(E19="XX", "XX", Y19*2.041772658 ) -> 1.4581617 | AA19: =IF(E19="XX", "XX", (H19*O19)/(0.62198+O19)) -> 0.61216536 | AB19: =IF(E19="XX", "XX", LN(AA19*0.4897705)) -> -1.2045712 | AC19: =IF(E19="XX", "XX", 0.62198*(Y19/(J19-Y19))) -> 0.033929863 | AF19: =B19 -> 54 | AG19: =C19 -> 13 | AH19: =D19 -> 96 | AI19: =E19 -> 1719 | AJ19: =F19 -> 523.9512 | AK19: =IF( (AG19>0),1, 0) -> 1 | AL19: =IF(D19="XX", "XX", E19- $D$2) -> 1219 | AM19: =IF(D19="XX", "XX", $AP$5 * R19 * (T19-$T$5)/$T$5 * $AR$5 * ($H$2-AL19)) -> -0.021125411 | AN19: =IF(D19="XX", "XX", $AT$5 * $AP$6^2 * $AT$6 * R19 * K19^2/2) -> 0.00091975512 | AO19: =IF(D19="XX", "XX", AM19 +AN19) -> -0.020205656 | AP19: =IF(D19="XX", "XX", AO19 +$Z$14) -> -0.010205656 | AQ19: =IF(D19="XX", 0, 60 * ($AC$14 * $AN$14 * (2 * ABS(AP19)/R19)^0.5)) -> 976.82361 | AR19: =IF(D19="XX", "XX", IF(AP19<0, "Exfl", "Infl")) -> Exfl | AS19: =IF(AR19="Infl", -AQ19, AQ19) -> 976.82361 | AT19: =IF(D19="XX", "XX", AS19/$O$14) -> 0.20538795 | AU19: =IF(D19="XX", "XX", AS19*1.08*(L19-$L$6)) -> 16521.202 | AV19: =IF(D19="XX", 0, AS19 * 1.08 * 3000/1000) -> 3164.9085
B20: ='Input-Output'!BK15 -> 53 | C20: ='Input-Output'!BL15 -> 11 | D20: ='Input-Output'!BM15 -> 94 | E20: ='Input-Output'!BN15 -> 1699 | F20: ='Input-Output'!BO15 -> 517.8552 | G20: =IF(E20="XX","XX",((101325*(1-2.25577*(10^(-5))*F20)^5.2555)/1000)) -> 95.257048 | H20: =IF(E20="XX", "XX", G20*$AJ$5) -> 28.206091 | I20: =IF(E20="XX", "XX", G20*$AL$5) -> 382.79671 | J20: =IF(E20="XX", "XX",G20*$AN$5) -> 13.815861 | K20: =IF(E20="XX", "XX", ( $K$79 + $U$2 * (E20-$D$2)/$F$2 ) ) -> 14.159664 | L20: =IF(E20="XX", "XX", $L$79 - $AA$2*(E20-$E$79)) -> 90.73156 | M20: =IF(E20="XX","XX ", $M$79-$AC$2*(E20-$E$79)) -> 72.19434 | N20: =IF(E20="XX","XX",100.45+33.193*AB20+2.319*AB20^2+0.17074*AB20^3+1.2063*(AA20*0.4897705)^3) -> 63.606548 | O20: =IF(E20="XX","XX ",((1093-0.556*M20)*X20-0.24*(L20-M20))/(1093+0.444*L20-M20)) -> 0.013818807 | P20: =IF(E20="XX", "XX", ((O20/AC20)/(1-(1-(O20/AC20))*(Y20/J20)))*100) -> 41.953044 | Q20: =IF(E20="XX", "XX", 0.7543*(T20*(1+1.6078*O20))/H20) -> 15.046933 | R20: =IF(E20="XX", "XX", 1/Q20) -> 0.066458725 | S20: =IF(E20="XX", "XX", 0.24*L20+O20*(1061+0.444*L20)) -> 36.994016 | T20: =IF(E20="XX", "XX", L20+459.7) -> 550.43156 | U20: =IF(E20="XX", "XX", M20+459.7) -> 531.89434 | W20: =IF(E20="XX", "XX", EXP((-10440.397/U20)+(-11.29465) + (-0.027022355*U20) + (0.00001289036*U20*U20) + (-0.0000000024780681*U20^3)+(6.5459673*LN(U20))) ) -> 0.39177999 | X20: =IF(E20="XX", "XX", 0.62198*W20/(J20-W20)) -> 0.018152402 | Y20: =IF(E20="XX", "XX", EXP((-10440.397/T20)+(-11.29465) + (-0.027022355*T20) + (0.00001289036*T20*T20) + (-0.0000000024780681*T20^3)+(6.5459673*LN(T20))) ) -> 0.71575652 | Z20: =IF(E20="XX", "XX", Y20*2.041772658 ) -> 1.4614121 | AA20: =IF(E20="XX", "XX", (H20*O20)/(0.62198+O20)) -> 0.61304695 | AB20: =IF(E20="XX", "XX", LN(AA20*0.4897705)) -> -1.2031321 | AC20: =IF(E20="XX", "XX", 0.62198*(Y20/(J20-Y20))) -> 0.03398341 | AF20: =B20 -> 53 | AG20: =C20 -> 11 | AH20: =D20 -> 94 | AI20: =E20 -> 1699 | AJ20: =F20 -> 517.8552 | AK20: =IF( (AG20>0),1, 0) -> 1 | AL20: =IF(D20="XX", "XX", E20- $D$2) -> 1199 | AM20: =IF(D20="XX", "XX", $AP$5 * R20 * (T20-$T$5)/$T$5 * $AR$5 * ($H$2-AL20)) -> -0.020481593 | AN20: =IF(D20="XX", "XX", $AT$5 * $AP$6^2 * $AT$6 * R20 * K20^2/2) -> 0.00090075066 | AO20: =IF(D20="XX", "XX", AM20 +AN20) -> -0.019580843 | AP20: =IF(D20="XX", "XX", AO20 +$Z$14) -> -0.0095808427 | AQ20: =IF(D20="XX", 0, 60 * ($AC$14 * $AN$14 * (2 * ABS(AP20)/R20)^0.5)) -> 946.17235 | AR20: =IF(D20="XX", "XX", IF(AP20<0, "Exfl", "Infl")) -> Exfl | AS20: =IF(AR20="Infl", -AQ20, AQ20) -> 946.17235 | AT20: =IF(D20="XX", "XX", AS20/$O$14) -> 0.19894318 | AU20: =IF(D20="XX", "XX", AS20*1.08*(L20-$L$6)) -> 16075.548 | AV20: =IF(D20="XX", 0, AS20 * 1.08 * 3000/1000) -> 3065.5984
B21: ='Input-Output'!BK16 -> 52 | C21: ='Input-Output'!BL16 -> 9 | D21: ='Input-Output'!BM16 -> 92 | E21: ='Input-Output'!BN16 -> 1679 | F21: ='Input-Output'!BO16 -> 511.7592 | G21: =IF(E21="XX","XX",((101325*(1-2.25577*(10^(-5))*F21)^5.2555)/1000)) -> 95.326724 | H21: =IF(E21="XX", "XX", G21*$AJ$5) -> 28.226723 | I21: =IF(E21="XX", "XX", G21*$AL$5) -> 383.07671 | J21: =IF(E21="XX", "XX",G21*$AN$5) -> 13.825967 | K21: =IF(E21="XX", "XX", ( $K$79 + $U$2 * (E21-$D$2)/$F$2 ) ) -> 14.006875 | L21: =IF(E21="XX", "XX", $L$79 - $AA$2*(E21-$E$79)) -> 90.80276 | M21: =IF(E21="XX","XX ", $M$79-$AC$2*(E21-$E$79)) -> 72.24114 | N21: =IF(E21="XX","XX",100.45+33.193*AB21+2.319*AB21^2+0.17074*AB21^3+1.2063*(AA21*0.4897705)^3) -> 63.647499 | O21: =IF(E21="XX","XX ",((1093-0.556*M21)*X21-0.24*(L21-M21))/(1093+0.444*L21-M21)) -> 0.013828811 | P21: =IF(E21="XX", "XX", ((O21/AC21)/(1-(1-(O21/AC21))*(Y21/J21)))*100) -> 41.920049 | Q21: =IF(E21="XX", "XX", 0.7543*(T21*(1+1.6078*O21))/H21) -> 15.038117 | R21: =IF(E21="XX", "XX", 1/Q21) -> 0.066497688 | S21: =IF(E21="XX", "XX", 0.24*L21+O21*(1061+0.444*L21)) -> 37.022559 | T21: =IF(E21="XX", "XX", L21+459.7) -> 550.50276 | U21: =IF(E21="XX", "XX", M21+459.7) -> 531.94114 | W21: =IF(E21="XX", "XX", EXP((-10440.397/U21)+(-11.29465) + (-0.027022355*U21) + (0.00001289036*U21*U21) + (-0.0000000024780681*U21^3)+(6.5459673*LN(U21))) ) -> 0.3924001 | X21: =IF(E21="XX", "XX", 0.62198*W21/(J21-W21)) -> 0.018168296 | Y21: =IF(E21="XX", "XX", EXP((-10440.397/T21)+(-11.29465) + (-0.027022355*T21) + (0.00001289036*T21*T21) + (-0.0000000024780681*T21^3)+(6.5459673*LN(T21))) ) -> 0.71735152 | Z21: =IF(E21="XX", "XX", Y21*2.041772658 ) -> 1.4646687 | AA21: =IF(E21="XX", "XX", (H21*O21)/(0.62198+O21)) -> 0.61392985 | AB21: =IF(E21="XX", "XX", LN(AA21*0.4897705)) -> -1.201693 | AC21: =IF(E21="XX", "XX", 0.62198*(Y21/(J21-Y21))) -> 0.034037027 | AF21: =B21 -> 52 | AG21: =C21 -> 9 | AH21: =D21 -> 92 | AI21: =E21 -> 1679 | AJ21: =F21 -> 511.7592 | AK21: =IF( (AG21>0),1, 0) -> 1 | AL21: =IF(D21="XX", "XX", E21- $D$2) -> 1179 | AM21: =IF(D21="XX", "XX", $AP$5 * R21 * (T21-$T$5)/$T$5 * $AR$5 * ($H$2-AL21)) -> -0.019830198 | AN21: =IF(D21="XX", "XX", $AT$5 * $AP$6^2 * $AT$6 * R21 * K21^2/2) -> 0.00088193337 | AO21: =IF(D21="XX", "XX", AM21 +AN21) -> -0.018948264 | AP21: =IF(D21="XX", "XX", AO21 +$Z$14) -> -0.0089482643 | AQ21: =IF(D21="XX", 0, 60 * ($AC$14 * $AN$14 * (2 * ABS(AP21)/R21)^0.5)) -> 914.1354 | AR21: =IF(D21="XX", "XX", IF(AP21<0, "Exfl", "Infl")) -> Exfl | AS21: =IF(AR21="Infl", -AQ21, AQ21) -> 914.1354 | AT21: =IF(D21="XX", "XX", AS21/$O$14) -> 0.19220706 | AU21: =IF(D21="XX", "XX", AS21*1.08*(L21-$L$6)) -> 15601.531 | AV21: =IF(D21="XX", 0, AS21 * 1.08 * 3000/1000) -> 2961.7987
B22: ='Input-Output'!BK17 -> 51 | C22: ='Input-Output'!BL17 -> 7 | D22: ='Input-Output'!BM17 -> 90 | E22: ='Input-Output'!BN17 -> 1659 | F22: ='Input-Output'!BO17 -> 505.6632 | G22: =IF(E22="XX","XX",((101325*(1-2.25577*(10^(-5))*F22)^5.2555)/1000)) -> 95.396441 | H22: =IF(E22="XX", "XX", G22*$AJ$5) -> 28.247366 | I22: =IF(E22="XX", "XX", G22*$AL$5) -> 383.35687 | J22: =IF(E22="XX", "XX",G22*$AN$5) -> 13.836079 | K22: =IF(E22="XX", "XX", ( $K$79 + $U$2 * (E22-$D$2)/$F$2 ) ) -> 13.854087 | L22: =IF(E22="XX", "XX", $L$79 - $AA$2*(E22-$E$79)) -> 90.87396 | M22: =IF(E22="XX","XX ", $M$79-$AC$2*(E22-$E$79)) -> 72.28794 | N22: =IF(E22="XX","XX",100.45+33.193*AB22+2.319*AB22^2+0.17074*AB22^3+1.2063*(AA22*0.4897705)^3) -> 63.688459 | O22: =IF(E22="XX","XX ",((1093-0.556*M22)*X22-0.24*(L22-M22))/(1093+0.444*L22-M22)) -> 0.013838825 | P22: =IF(E22="XX", "XX", ((O22/AC22)/(1-(1-(O22/AC22))*(Y22/J22)))*100) -> 41.887109 | Q22: =IF(E22="XX", "XX", 0.7543*(T22*(1+1.6078*O22))/H22) -> 15.029307 | R22: =IF(E22="XX", "XX", 1/Q22) -> 0.066536667 | S22: =IF(E22="XX", "XX", 0.24*L22+O22*(1061+0.444*L22)) -> 37.051113 | T22: =IF(E22="XX", "XX", L22+459.7) -> 550.57396 | U22: =IF(E22="XX", "XX", M22+459.7) -> 531.98794 | W22: =IF(E22="XX", "XX", EXP((-10440.397/U22)+(-11.29465) + (-0.027022355*U22) + (0.00001289036*U22*U22) + (-0.0000000024780681*U22^3)+(6.5459673*LN(U22))) ) -> 0.39302107 | X22: =IF(E22="XX", "XX", 0.62198*W22/(J22-W22)) -> 0.0181842 | Y22: =IF(E22="XX", "XX", EXP((-10440.397/T22)+(-11.29465) + (-0.027022355*T22) + (0.00001289036*T22*T22) + (-0.0000000024780681*T22^3)+(6.5459673*LN(T22))) ) -> 0.71894962 | Z22: =IF(E22="XX", "XX", Y22*2.041772658 ) -> 1.4679317 | AA22: =IF(E22="XX", "XX", (H22*O22)/(0.62198+O22)) -> 0.61481406 | AB22: =IF(E22="XX", "XX", LN(AA22*0.4897705)) -> -1.2002538 | AC22: =IF(E22="XX", "XX", 0.62198*(Y22/(J22-Y22))) -> 0.034090713 | AF22: =B22 -> 51 | AG22: =C22 -> 7 | AH22: =D22 -> 90 | AI22: =E22 -> 1659 | AJ22: =F22 -> 505.6632 | AK22: =IF( (AG22>0),1, 0) -> 1 | AL22: =IF(D22="XX", "XX", E22- $D$2) -> 1159 | AM22: =IF(D22="XX", "XX", $AP$5 * R22 * (T22-$T$5)/$T$5 * $AR$5 * ($H$2-AL22)) -> -0.019171211 | AN22: =IF(D22="XX", "XX", $AT$5 * $AP$6^2 * $AT$6 * R22 * K22^2/2) -> 0.00086330363 | AO22: =IF(D22="XX", "XX", AM22 +AN22) -> -0.018307908 | AP22: =IF(D22="XX", "XX", AO22 +$Z$14) -> -0.0083079078 | AQ22: =IF(D22="XX", 0, 60 * ($AC$14 * $AN$14 * (2 * ABS(AP22)/R22)^0.5)) -> 880.56153 | AR22: =IF(D22="XX", "XX", IF(AP22<0, "Exfl", "Infl")) -> Exfl | AS22: =IF(AR22="Infl", -AQ22, AQ22) -> 880.56153 | AT22: =IF(D22="XX", "XX", AS22/$O$14) -> 0.18514779 | AU22: =IF(D22="XX", "XX", AS22*1.08*(L22-$L$6)) -> 15096.238 | AV22: =IF(D22="XX", 0, AS22 * 1.08 * 3000/1000) -> 2853.0194
B23: ='Input-Output'!BK18 -> 50 | C23: ='Input-Output'!BL18 -> 5 | D23: ='Input-Output'!BM18 -> 88 | E23: ='Input-Output'!BN18 -> 1639 | F23: ='Input-Output'!BO18 -> 499.5672 | G23: =IF(E23="XX","XX",((101325*(1-2.25577*(10^(-5))*F23)^5.2555)/1000)) -> 95.4662 | H23: =IF(E23="XX", "XX", G23*$AJ$5) -> 28.268022 | I23: =IF(E23="XX", "XX", G23*$AL$5) -> 383.6372 | J23: =IF(E23="XX", "XX",G23*$AN$5) -> 13.846196 | K23: =IF(E23="XX", "XX", ( $K$79 + $U$2 * (E23-$D$2)/$F$2 ) ) -> 13.701299 | L23: =IF(E23="XX", "XX", $L$79 - $AA$2*(E23-$E$79)) -> 90.94516 | M23: =IF(E23="XX","XX ", $M$79-$AC$2*(E23-$E$79)) -> 72.33474 | N23: =IF(E23="XX","XX",100.45+33.193*AB23+2.319*AB23^2+0.17074*AB23^3+1.2063*(AA23*0.4897705)^3) -> 63.729429 | O23: =IF(E23="XX","XX ",((1093-0.556*M23)*X23-0.24*(L23-M23))/(1093+0.444*L23-M23)) -> 0.013848848 | P23: =IF(E23="XX", "XX", ((O23/AC23)/(1-(1-(O23/AC23))*(Y23/J23)))*100) -> 41.854226 | Q23: =IF(E23="XX", "XX", 0.7543*(T23*(1+1.6078*O23))/H23) -> 15.020504 | R23: =IF(E23="XX", "XX", 1/Q23) -> 0.066575663 | S23: =IF(E23="XX", "XX", 0.24*L23+O23*(1061+0.444*L23)) -> 37.079678 | T23: =IF(E23="XX", "XX", L23+459.7) -> 550.64516 | U23: =IF(E23="XX", "XX", M23+459.7) -> 532.03474 | W23: =IF(E23="XX", "XX", EXP((-10440.397/U23)+(-11.29465) + (-0.027022355*U23) + (0.00001289036*U23*U23) + (-0.0000000024780681*U23^3)+(6.5459673*LN(U23))) ) -> 0.3936429 | X23: =IF(E23="XX", "XX", 0.62198*W23/(J23-W23)) -> 0.018200115 | Y23: =IF(E23="XX", "XX", EXP((-10440.397/T23)+(-11.29465) + (-0.027022355*T23) + (0.00001289036*T23*T23) + (-0.0000000024780681*T23^3)+(6.5459673*LN(T23))) ) -> 0.72055079 | Z23: =IF(E23="XX", "XX", Y23*2.041772658 ) -> 1.4712009 | AA23: =IF(E23="XX", "XX", (H23*O23)/(0.62198+O23)) -> 0.61569958 | AB23: =IF(E23="XX", "XX", LN(AA23*0.4897705)) -> -1.1988145 | AC23: =IF(E23="XX", "XX", 0.62198*(Y23/(J23-Y23))) -> 0.034144468 | AF23: =B23 -> 50 | AG23: =C23 -> 5 | AH23: =D23 -> 88 | AI23: =E23 -> 1639 | AJ23: =F23 -> 499.5672 | AK23: =IF( (AG23>0),1, 0) -> 1 | AL23: =IF(D23="XX", "XX", E23- $D$2) -> 1139 | AM23: =IF(D23="XX", "XX", $AP$5 * R23 * (T23-$T$5)/$T$5 * $AR$5 * ($H$2-AL23)) -> -0.018504622 | AN23: =IF(D23="XX", "XX", $AT$5 * $AP$6^2 * $AT$6 * R23 * K23^2/2) -> 0.00084486178 | AO23: =IF(D23="XX", "XX", AM23 +AN23) -> -0.01765976 | AP23: =IF(D23="XX", "XX", AO23 +$Z$14) -> -0.0076597604 | AQ23: =IF(D23="XX", 0, 60 * ($AC$14 * $AN$14 * (2 * ABS(AP23)/R23)^0.5)) -> 845.26764 | AR23: =IF(D23="XX", "XX", IF(AP23<0, "Exfl", "Infl")) -> Exfl | AS23: =IF(AR23="Infl", -AQ23, AQ23) -> 845.26764 | AT23: =IF(D23="XX", "XX", AS23/$O$14) -> 0.17772685 | AU23: =IF(D23="XX", "XX", AS23*1.08*(L23-$L$6)) -> 14556.162 | AV23: =IF(D23="XX", 0, AS23 * 1.08 * 3000/1000) -> 2738.6671
B24: ='Input-Output'!BK19 -> 49 | C24: ='Input-Output'!BL19 -> 3 | D24: ='Input-Output'!BM19 -> 86 | E24: ='Input-Output'!BN19 -> 1619 | F24: ='Input-Output'!BO19 -> 493.4712 | G24: =IF(E24="XX","XX",((101325*(1-2.25577*(10^(-5))*F24)^5.2555)/1000)) -> 95.535999 | H24: =IF(E24="XX", "XX", G24*$AJ$5) -> 28.28869 | I24: =IF(E24="XX", "XX", G24*$AL$5) -> 383.9177 | J24: =IF(E24="XX", "XX",G24*$AN$5) -> 13.85632 | K24: =IF(E24="XX", "XX", ( $K$79 + $U$2 * (E24-$D$2)/$F$2 ) ) -> 13.54851 | L24: =IF(E24="XX", "XX", $L$79 - $AA$2*(E24-$E$79)) -> 91.01636 | M24: =IF(E24="XX","XX ", $M$79-$AC$2*(E24-$E$79)) -> 72.38154 | N24: =IF(E24="XX","XX",100.45+33.193*AB24+2.319*AB24^2+0.17074*AB24^3+1.2063*(AA24*0.4897705)^3) -> 63.770408 | O24: =IF(E24="XX","XX ",((1093-0.556*M24)*X24-0.24*(L24-M24))/(1093+0.444*L24-M24)) -> 0.013858882 | P24: =IF(E24="XX", "XX", ((O24/AC24)/(1-(1-(O24/AC24))*(Y24/J24)))*100) -> 41.821398 | Q24: =IF(E24="XX", "XX", 0.7543*(T24*(1+1.6078*O24))/H24) -> 15.011707 | R24: =IF(E24="XX", "XX", 1/Q24) -> 0.066614675 | S24: =IF(E24="XX", "XX", 0.24*L24+O24*(1061+0.444*L24)) -> 37.108255 | T24: =IF(E24="XX", "XX", L24+459.7) -> 550.71636 | U24: =IF(E24="XX", "XX", M24+459.7) -> 532.08154 | W24: =IF(E24="XX", "XX", EXP((-10440.397/U24)+(-11.29465) + (-0.027022355*U24) + (0.00001289036*U24*U24) + (-0.0000000024780681*U24^3)+(6.5459673*LN(U24))) ) -> 0.39426559 | X24: =IF(E24="XX", "XX", 0.62198*W24/(J24-W24)) -> 0.01821604 | Y24: =IF(E24="XX", "XX", EXP((-10440.397/T24)+(-11.29465) + (-0.027022355*T24) + (0.00001289036*T24*T24) + (-0.0000000024780681*T24^3)+(6.5459673*LN(T24))) ) -> 0.72215507 | Z24: =IF(E24="XX", "XX", Y24*2.041772658 ) -> 1.4744765 | AA24: =IF(E24="XX", "XX", (H24*O24)/(0.62198+O24)) -> 0.61658642 | AB24: =IF(E24="XX", "XX", LN(AA24*0.4897705)) -> -1.1973752 | AC24: =IF(E24="XX", "XX", 0.62198*(Y24/(J24-Y24))) -> 0.034198293 | AF24: =B24 -> 49 | AG24: =C24 -> 3 | AH24: =D24 -> 86 | AI24: =E24 -> 1619 | AJ24: =F24 -> 493.4712 | AK24: =IF( (AG24>0),1, 0) -> 1 | AL24: =IF(D24="XX", "XX", E24- $D$2) -> 1119 | AM24: =IF(D24="XX", "XX", $AP$5 * R24 * (T24-$T$5)/$T$5 * $AR$5 * ($H$2-AL24)) -> -0.017830417 | AN24: =IF(D24="XX", "XX", $AT$5 * $AP$6^2 * $AT$6 * R24 * K24^2/2) -> 0.00082660818 | AO24: =IF(D24="XX", "XX", AM24 +AN24) -> -0.017003809 | AP24: =IF(D24="XX", "XX", AO24 +$Z$14) -> -0.0070038093 | AQ24: =IF(D24="XX", 0, 60 * ($AC$14 * $AN$14 * (2 * ABS(AP24)/R24)^0.5)) -> 808.02835 | AR24: =IF(D24="XX", "XX", IF(AP24<0, "Exfl", "Infl")) -> Exfl | AS24: =IF(AR24="Infl", -AQ24, AQ24) -> 808.02835 | AT24: =IF(D24="XX", "XX", AS24/$O$14) -> 0.16989688 | AU24: =IF(D24="XX", "XX", AS24*1.08*(L24-$L$6)) -> 13977.007 | AV24: =IF(D24="XX", 0, AS24 * 1.08 * 3000/1000) -> 2618.0119
B25: ='Input-Output'!BK20 -> 48 | C25: ='Input-Output'!BL20 -> 2 | D25: ='Input-Output'!BM20 -> 85 | E25: ='Input-Output'!BN20 -> 1609 | F25: ='Input-Output'!BO20 -> 490.4232 | G25: =IF(E25="XX","XX",((101325*(1-2.25577*(10^(-5))*F25)^5.2555)/1000)) -> 95.570915 | H25: =IF(E25="XX", "XX", G25*$AJ$5) -> 28.299029 | I25: =IF(E25="XX", "XX", G25*$AL$5) -> 384.05801 | J25: =IF(E25="XX", "XX",G25*$AN$5) -> 13.861384 | K25: =IF(E25="XX", "XX", ( $K$79 + $U$2 * (E25-$D$2)/$F$2 ) ) -> 13.472116 | L25: =IF(E25="XX", "XX", $L$79 - $AA$2*(E25-$E$79)) -> 91.05196 | M25: =IF(E25="XX","XX ", $M$79-$AC$2*(E25-$E$79)) -> 72.40494 | N25: =IF(E25="XX","XX",100.45+33.193*AB25+2.319*AB25^2+0.17074*AB25^3+1.2063*(AA25*0.4897705)^3) -> 63.790901 | O25: =IF(E25="XX","XX ",((1093-0.556*M25)*X25-0.24*(L25-M25))/(1093+0.444*L25-M25)) -> 0.013863902 | P25: =IF(E25="XX", "XX", ((O25/AC25)/(1-(1-(O25/AC25))*(Y25/J25)))*100) -> 41.805005 | Q25: =IF(E25="XX", "XX", 0.7543*(T25*(1+1.6078*O25))/H25) -> 15.007312 | R25: =IF(E25="XX", "XX", 1/Q25) -> 0.066634186 | S25: =IF(E25="XX", "XX", 0.24*L25+O25*(1061+0.444*L25)) -> 37.122548 | T25: =IF(E25="XX", "XX", L25+459.7) -> 550.75196 | U25: =IF(E25="XX", "XX", M25+459.7) -> 532.10494 | W25: =IF(E25="XX", "XX", EXP((-10440.397/U25)+(-11.29465) + (-0.027022355*U25) + (0.00001289036*U25*U25) + (-0.0000000024780681*U25^3)+(6.5459673*LN(U25))) ) -> 0.39457726 | X25: =IF(E25="XX", "XX", 0.62198*W25/(J25-W25)) -> 0.018224006 | Y25: =IF(E25="XX", "XX", EXP((-10440.397/T25)+(-11.29465) + (-0.027022355*T25) + (0.00001289036*T25*T25) + (-0.0000000024780681*T25^3)+(6.5459673*LN(T25))) ) -> 0.72295836 | Z25: =IF(E25="XX", "XX", Y25*2.041772658 ) -> 1.4761166 | AA25: =IF(E25="XX", "XX", (H25*O25)/(0.62198+O25)) -> 0.61703033 | AB25: =IF(E25="XX", "XX", LN(AA25*0.4897705)) -> -1.1966555 | AC25: =IF(E25="XX", "XX", 0.62198*(Y25/(J25-Y25))) -> 0.034225231 | AF25: =B25 -> 48 | AG25: =C25 -> 2 | AH25: =D25 -> 85 | AI25: =E25 -> 1609 | AJ25: =F25 -> 490.4232 | AK25: =IF( (AG25>0),1, 0) -> 1 | AL25: =IF(D25="XX", "XX", E25- $D$2) -> 1109 | AM25: =IF(D25="XX", "XX", $AP$5 * R25 * (T25-$T$5)/$T$5 * $AR$5 * ($H$2-AL25)) -> -0.017490455 | AN25: =IF(D25="XX", "XX", $AT$5 * $AP$6^2 * $AT$6 * R25 * K25^2/2) -> 0.00081755209 | AO25: =IF(D25="XX", "XX", AM25 +AN25) -> -0.016672903 | AP25: =IF(D25="XX", "XX", AO25 +$Z$14) -> -0.0066729033 | AQ25: =IF(D25="XX", 0, 60 * ($AC$14 * $AN$14 * (2 * ABS(AP25)/R25)^0.5)) -> 788.59363 | AR25: =IF(D25="XX", "XX", IF(AP25<0, "Exfl", "Infl")) -> Exfl | AS25: =IF(AR25="Infl", -AQ25, AQ25) -> 788.59363 | AT25: =IF(D25="XX", "XX", AS25/$O$14) -> 0.16581052 | AU25: =IF(D25="XX", "XX", AS25*1.08*(L25-$L$6)) -> 13671.151 | AV25: =IF(D25="XX", 0, AS25 * 1.08 * 3000/1000) -> 2555.0434
B26: ='Input-Output'!BK21 -> 47 | C26: ='Input-Output'!BL21 -> 1 | D26: ='Input-Output'!BM21 -> 84 | E26: ='Input-Output'!BN21 -> 1599 | F26: ='Input-Output'!BO21 -> 487.3752 | G26: =IF(E26="XX","XX",((101325*(1-2.25577*(10^(-5))*F26)^5.2555)/1000)) -> 95.60584 | H26: =IF(E26="XX", "XX", G26*$AJ$5) -> 28.309371 | I26: =IF(E26="XX", "XX", G26*$AL$5) -> 384.19836 | J26: =IF(E26="XX", "XX",G26*$AN$5) -> 13.866449 | K26: =IF(E26="XX", "XX", ( $K$79 + $U$2 * (E26-$D$2)/$F$2 ) ) -> 13.395722 | L26: =IF(E26="XX", "XX", $L$79 - $AA$2*(E26-$E$79)) -> 91.08756 | M26: =IF(E26="XX","XX ", $M$79-$AC$2*(E26-$E$79)) -> 72.42834 | N26: =IF(E26="XX","XX",100.45+33.193*AB26+2.319*AB26^2+0.17074*AB26^3+1.2063*(AA26*0.4897705)^3) -> 63.811397 | O26: =IF(E26="XX","XX ",((1093-0.556*M26)*X26-0.24*(L26-M26))/(1093+0.444*L26-M26)) -> 0.013868925 | P26: =IF(E26="XX", "XX", ((O26/AC26)/(1-(1-(O26/AC26))*(Y26/J26)))*100) -> 41.788626 | Q26: =IF(E26="XX", "XX", 0.7543*(T26*(1+1.6078*O26))/H26) -> 15.002918 | R26: =IF(E26="XX", "XX", 1/Q26) -> 0.066653702 | S26: =IF(E26="XX", "XX", 0.24*L26+O26*(1061+0.444*L26)) -> 37.136843 | T26: =IF(E26="XX", "XX", L26+459.7) -> 550.78756 | U26: =IF(E26="XX", "XX", M26+459.7) -> 532.12834 | W26: =IF(E26="XX", "XX", EXP((-10440.397/U26)+(-11.29465) + (-0.027022355*U26) + (0.00001289036*U26*U26) + (-0.0000000024780681*U26^3)+(6.5459673*LN(U26))) ) -> 0.39488914 | X26: =IF(E26="XX", "XX", 0.62198*W26/(J26-W26)) -> 0.018231975 | Y26: =IF(E26="XX", "XX", EXP((-10440.397/T26)+(-11.29465) + (-0.027022355*T26) + (0.00001289036*T26*T26) + (-0.0000000024780681*T26^3)+(6.5459673*LN(T26))) ) -> 0.72376244 | Z26: =IF(E26="XX", "XX", Y26*2.041772658 ) -> 1.4777584 | AA26: =IF(E26="XX", "XX", (H26*O26)/(0.62198+O26)) -> 0.61747457 | AB26: =IF(E26="XX", "XX", LN(AA26*0.4897705)) -> -1.1959358 | AC26: =IF(E26="XX", "XX", 0.62198*(Y26/(J26-Y26))) -> 0.034252186 | AF26: =B26 -> 47 | AG26: =C26 -> 1 | AH26: =D26 -> 84 | AI26: =E26 -> 1599 | AJ26: =F26 -> 487.3752 | AK26: =IF( (AG26>0),1, 0) -> 1 | AL26: =IF(D26="XX", "XX", E26- $D$2) -> 1099 | AM26: =IF(D26="XX", "XX", $AP$5 * R26 * (T26-$T$5)/$T$5 * $AR$5 * ($H$2-AL26)) -> -0.017148585 | AN26: =IF(D26="XX", "XX", $AT$5 * $AP$6^2 * $AT$6 * R26 * K26^2/2) -> 0.00080854319 | AO26: =IF(D26="XX", "XX", AM26 +AN26) -> -0.016340042 | AP26: =IF(D26="XX", "XX", AO26 +$Z$14) -> -0.0063400416 | AQ26: =IF(D26="XX", 0, 60 * ($AC$14 * $AN$14 * (2 * ABS(AP26)/R26)^0.5)) -> 768.56094 | AR26: =IF(D26="XX", "XX", IF(AP26<0, "Exfl", "Infl")) -> Exfl | AS26: =IF(AR26="Infl", -AQ26, AQ26) -> 768.56094 | AT26: =IF(D26="XX", "XX", AS26/$O$14) -> 0.16159842 | AU26: =IF(D26="XX", "XX", AS26*1.08*(L26-$L$6)) -> 13353.412 | AV26: =IF(D26="XX", 0, AS26 * 1.08 * 3000/1000) -> 2490.1375
B27: ='Input-Output'!BK22 -> Section >> | D27: ='Input-Output'!BM22 -> 6-Htl | E27: Flrs/S | F27: ='Input-Output'!BO22 -> 25 | G27: Section Ht (ft) | I27: ='Input-Output'!BG44 -> 250 | J27: Per-L | K27: ='Input-Output'!BG46 -> 475.59928 | L27: Floor-Envel-Area (ft2) | O27: ='Input-Output'!BG47 -> 4755.9928 | P27: S-Flr-Area (ft2) | R27: ='Input-Output'!BG45 -> 450000 | S27: Wndw Area (%) | U27: ='Input-Output'!BG50 -> 45 | W27: Inside-Outside (PI-PO) | Z27: ='Input-Output'!BG32 -> 0.01 | AA27: Leakg Flow Cf | AC27: ='Input-Output'!BG31 -> 0.65 | AF27: =B27 -> Section >> | AH27: =D27 -> 6-Htl | AI27: =E27 -> Flrs/S | AJ27: =F27 -> 25 | AK27: =SUM(AK28:AK39) -> 12 | AL27: Envel Leakg A | AN27: ='Input-Output'!BG55 -> 40.425939 | AO27: Appr. Sctn-Infltr (cfm) | AR27: =(SUM(AQ28:AQ39)/AK27) * AJ27 -> 11481.723 | AS27: Appr. Sctn Infltr (tons) | AV27: =(SUM(AV28:AV39)/AK27) * AJ27 -> 26127.127
B28: ='Input-Output'!BK23 -> 46 | C28: ='Input-Output'!BL23 -> 25 | D28: ='Input-Output'!BM23 -> 83 | E28: ='Input-Output'!BN23 -> 1589 | F28: ='Input-Output'!BO23 -> 484.3272 | G28: =IF(E28="XX","XX",((101325*(1-2.25577*(10^(-5))*F28)^5.2555)/1000)) -> 95.640776 | H28: =IF(E28="XX", "XX", G28*$AJ$5) -> 28.319715 | I28: =IF(E28="XX", "XX", G28*$AL$5) -> 384.33875 | J28: =IF(E28="XX", "XX",G28*$AN$5) -> 13.871516 | K28: =IF(E28="XX", "XX", ( $K$79 + $U$2 * (E28-$D$2)/$F$2 ) ) -> 13.319328 | L28: =IF(E28="XX", "XX", $L$79 - $AA$2*(E28-$E$79)) -> 91.12316 | M28: =IF(E28="XX","XX ", $M$79-$AC$2*(E28-$E$79)) -> 72.45174 | N28: =IF(E28="XX","XX",100.45+33.193*AB28+2.319*AB28^2+0.17074*AB28^3+1.2063*(AA28*0.4897705)^3) -> 63.831894 | O28: =IF(E28="XX","XX ",((1093-0.556*M28)*X28-0.24*(L28-M28))/(1093+0.444*L28-M28)) -> 0.01387395 | P28: =IF(E28="XX", "XX", ((O28/AC28)/(1-(1-(O28/AC28))*(Y28/J28)))*100) -> 41.772261 | Q28: =IF(E28="XX", "XX", 0.7543*(T28*(1+1.6078*O28))/H28) -> 14.998525 | R28: =IF(E28="XX", "XX", 1/Q28) -> 0.066673222 | S28: =IF(E28="XX", "XX", 0.24*L28+O28*(1061+0.444*L28)) -> 37.151141 | T28: =IF(E28="XX", "XX", L28+459.7) -> 550.82316 | U28: =IF(E28="XX", "XX", M28+459.7) -> 532.15174 | W28: =IF(E28="XX", "XX", EXP((-10440.397/U28)+(-11.29465) + (-0.027022355*U28) + (0.00001289036*U28*U28) + (-0.0000000024780681*U28^3)+(6.5459673*LN(U28))) ) -> 0.39520124 | X28: =IF(E28="XX", "XX", 0.62198*W28/(J28-W28)) -> 0.018239946 | Y28: =IF(E28="XX", "XX", EXP((-10440.397/T28)+(-11.29465) + (-0.027022355*T28) + (0.00001289036*T28*T28) + (-0.0000000024780681*T28^3)+(6.5459673*LN(T28))) ) -> 0.72456729 | Z28: =IF(E28="XX", "XX", Y28*2.041772658 ) -> 1.4794017 | AA28: =IF(E28="XX", "XX", (H28*O28)/(0.62198+O28)) -> 0.61791914 | AB28: =IF(E28="XX", "XX", LN(AA28*0.4897705)) -> -1.195216 | AC28: =IF(E28="XX", "XX", 0.62198*(Y28/(J28-Y28))) -> 0.034279159 | AF28: =B28 -> 46 | AG28: =C28 -> 25 | AH28: =D28 -> 83 | AI28: =E28 -> 1589 | AJ28: =F28 -> 484.3272 | AK28: =IF( (AG28>0),1, 0) -> 1 | AL28: =IF(D28="XX", "XX", E28- $D$2) -> 1089 | AM28: =IF(D28="XX", "XX", $AP$5 * R28 * (T28-$T$5)/$T$5 * $AR$5 * ($H$2-AL28)) -> -0.016804804 | AN28: =IF(D28="XX", "XX", $AT$5 * $AP$6^2 * $AT$6 * R28 * K28^2/2) -> 0.00079958153 | AO28: =IF(D28="XX", "XX", AM28 +AN28) -> -0.016005222 | AP28: =IF(D28="XX", "XX", AO28 +$Z$27) -> -0.0060052225 | AQ28: =IF(D28="XX", 0, 60 * ($AC$27 * $AN$27 * (2 * ABS(AP28)/R28)^0.5)) -> 669.1578 | AR28: =IF(D28="XX", "XX", IF(AP28<0, "Exfl", "Infl")) -> Exfl | AS28: =IF(AR28="Infl", -AQ28, AQ28) -> 669.1578 | AT28: =IF(D28="XX", "XX", AS28/$O$27) -> 0.14069782 | AU28: =IF(D28="XX", "XX", AS28*1.08*(L28-$L$6)) -> 11652.053 | AV28: =IF(D28="XX", 0, AS28 * 1.08 * 3000/1000) -> 2168.0713
B29: ='Input-Output'!BK24 -> 46 | C29: ='Input-Output'!BL24 -> 24 | D29: ='Input-Output'!BM24 -> 82 | E29: ='Input-Output'!BN24 -> 1579 | F29: ='Input-Output'!BO24 -> 481.2792 | G29: =IF(E29="XX","XX",((101325*(1-2.25577*(10^(-5))*F29)^5.2555)/1000)) -> 95.675723 | H29: =IF(E29="XX", "XX", G29*$AJ$5) -> 28.330063 | I29: =IF(E29="XX", "XX", G29*$AL$5) -> 384.47918 | J29: =IF(E29="XX", "XX",G29*$AN$5) -> 13.876585 | K29: =IF(E29="XX", "XX", ( $K$79 + $U$2 * (E29-$D$2)/$F$2 ) ) -> 13.242934 | L29: =IF(E29="XX", "XX", $L$79 - $AA$2*(E29-$E$79)) -> 91.15876 | M29: =IF(E29="XX","XX ", $M$79-$AC$2*(E29-$E$79)) -> 72.47514 | N29: =IF(E29="XX","XX",100.45+33.193*AB29+2.319*AB29^2+0.17074*AB29^3+1.2063*(AA29*0.4897705)^3) -> 63.852395 | O29: =IF(E29="XX","XX ",((1093-0.556*M29)*X29-0.24*(L29-M29))/(1093+0.444*L29-M29)) -> 0.013878978 | P29: =IF(E29="XX", "XX", ((O29/AC29)/(1-(1-(O29/AC29))*(Y29/J29)))*100) -> 41.755909 | Q29: =IF(E29="XX", "XX", 0.7543*(T29*(1+1.6078*O29))/H29) -> 14.994134 | R29: =IF(E29="XX", "XX", 1/Q29) -> 0.066692747 | S29: =IF(E29="XX", "XX", 0.24*L29+O29*(1061+0.444*L29)) -> 37.165443 | T29: =IF(E29="XX", "XX", L29+459.7) -> 550.85876 | U29: =IF(E29="XX", "XX", M29+459.7) -> 532.17514 | W29: =IF(E29="XX", "XX", EXP((-10440.397/U29)+(-11.29465) + (-0.027022355*U29) + (0.00001289036*U29*U29) + (-0.0000000024780681*U29^3)+(6.5459673*LN(U29))) ) -> 0.39551355 | X29: =IF(E29="XX", "XX", 0.62198*W29/(J29-W29)) -> 0.01824792 | Y29: =IF(E29="XX", "XX", EXP((-10440.397/T29)+(-11.29465) + (-0.027022355*T29) + (0.00001289036*T29*T29) + (-0.0000000024780681*T29^3)+(6.5459673*LN(T29))) ) -> 0.72537291 | Z29: =IF(E29="XX", "XX", Y29*2.041772658 ) -> 1.4810466 | AA29: =IF(E29="XX", "XX", (H29*O29)/(0.62198+O29)) -> 0.61836404 | AB29: =IF(E29="XX", "XX", LN(AA29*0.4897705)) -> -1.1944963 | AC29: =IF(E29="XX", "XX", 0.62198*(Y29/(J29-Y29))) -> 0.034306149 | AF29: =B29 -> 46 | AG29: =C29 -> 24 | AH29: =D29 -> 82 | AI29: =E29 -> 1579 | AJ29: =F29 -> 481.2792 | AK29: =IF( (AG29>0),1, 0) -> 1 | AL29: =IF(D29="XX", "XX", E29- $D$2) -> 1079 | AM29: =IF(D29="XX", "XX", $AP$5 * R29 * (T29-$T$5)/$T$5 * $AR$5 * ($H$2-AL29)) -> -0.016459112 | AN29: =IF(D29="XX", "XX", $AT$5 * $AP$6^2 * $AT$6 * R29 * K29^2/2) -> 0.00079066715 | AO29: =IF(D29="XX", "XX", AM29 +AN29) -> -0.015668444 | AP29: =IF(D29="XX", "XX", AO29 +$Z$27) -> -0.0056684444 | AQ29: =IF(D29="XX", 0, 60 * ($AC$27 * $AN$27 * (2 * ABS(AP29)/R29)^0.5)) -> 650.02845 | AR29: =IF(D29="XX", "XX", IF(AP29<0, "Exfl", "Infl")) -> Exfl | AS29: =IF(AR29="Infl", -AQ29, AQ29) -> 650.02845 | AT29: =IF(D29="XX", "XX", AS29/$O$27) -> 0.13667566 | AU29: =IF(D29="XX", "XX", AS29*1.08*(L29-$L$6)) -> 11343.946 | AV29: =IF(D29="XX", 0, AS29 * 1.08 * 3000/1000) -> 2106.0922
B30: ='Input-Output'!BK25 -> 45 | C30: ='Input-Output'!BL25 -> 23 | D30: ='Input-Output'!BM25 -> 81 | E30: ='Input-Output'!BN25 -> 1569 | F30: ='Input-Output'!BO25 -> 478.2312 | G30: =IF(E30="XX","XX",((101325*(1-2.25577*(10^(-5))*F30)^5.2555)/1000)) -> 95.710679 | H30: =IF(E30="XX", "XX", G30*$AJ$5) -> 28.340414 | I30: =IF(E30="XX", "XX", G30*$AL$5) -> 384.61966 | J30: =IF(E30="XX", "XX",G30*$AN$5) -> 13.881655 | K30: =IF(E30="XX", "XX", ( $K$79 + $U$2 * (E30-$D$2)/$F$2 ) ) -> 13.166539 | L30: =IF(E30="XX", "XX", $L$79 - $AA$2*(E30-$E$79)) -> 91.19436 | M30: =IF(E30="XX","XX ", $M$79-$AC$2*(E30-$E$79)) -> 72.49854 | N30: =IF(E30="XX","XX",100.45+33.193*AB30+2.319*AB30^2+0.17074*AB30^3+1.2063*(AA30*0.4897705)^3) -> 63.872897 | O30: =IF(E30="XX","XX ",((1093-0.556*M30)*X30-0.24*(L30-M30))/(1093+0.444*L30-M30)) -> 0.013884008 | P30: =IF(E30="XX", "XX", ((O30/AC30)/(1-(1-(O30/AC30))*(Y30/J30)))*100) -> 41.739572 | Q30: =IF(E30="XX", "XX", 0.7543*(T30*(1+1.6078*O30))/H30) -> 14.989745 | R30: =IF(E30="XX", "XX", 1/Q30) -> 0.066712275 | S30: =IF(E30="XX", "XX", 0.24*L30+O30*(1061+0.444*L30)) -> 37.179747 | T30: =IF(E30="XX", "XX", L30+459.7) -> 550.89436 | U30: =IF(E30="XX", "XX", M30+459.7) -> 532.19854 | W30: =IF(E30="XX", "XX", EXP((-10440.397/U30)+(-11.29465) + (-0.027022355*U30) + (0.00001289036*U30*U30) + (-0.0000000024780681*U30^3)+(6.5459673*LN(U30))) ) -> 0.39582608 | X30: =IF(E30="XX", "XX", 0.62198*W30/(J30-W30)) -> 0.018255897 | Y30: =IF(E30="XX", "XX", EXP((-10440.397/T30)+(-11.29465) + (-0.027022355*T30) + (0.00001289036*T30*T30) + (-0.0000000024780681*T30^3)+(6.5459673*LN(T30))) ) -> 0.72617931 | Z30: =IF(E30="XX", "XX", Y30*2.041772658 ) -> 1.4826931 | AA30: =IF(E30="XX", "XX", (H30*O30)/(0.62198+O30)) -> 0.61880927 | AB30: =IF(E30="XX", "XX", LN(AA30*0.4897705)) -> -1.1937765 | AC30: =IF(E30="XX", "XX", 0.62198*(Y30/(J30-Y30))) -> 0.034333157 | AF30: =B30 -> 45 | AG30: =C30 -> 23 | AH30: =D30 -> 81 | AI30: =E30 -> 1569 | AJ30: =F30 -> 478.2312 | AK30: =IF( (AG30>0),1, 0) -> 1 | AL30: =IF(D30="XX", "XX", E30- $D$2) -> 1069 | AM30: =IF(D30="XX", "XX", $AP$5 * R30 * (T30-$T$5)/$T$5 * $AR$5 * ($H$2-AL30)) -> -0.016111506 | AN30: =IF(D30="XX", "XX", $AT$5 * $AP$6^2 * $AT$6 * R30 * K30^2/2) -> 0.00078180011 | AO30: =IF(D30="XX", "XX", AM30 +AN30) -> -0.015329706 | AP30: =IF(D30="XX", "XX", AO30 +$Z$27) -> -0.0053297058 | AQ30: =IF(D30="XX", 0, 60 * ($AC$27 * $AN$27 * (2 * ABS(AP30)/R30)^0.5)) -> 630.2146 | AR30: =IF(D30="XX", "XX", IF(AP30<0, "Exfl", "Infl")) -> Exfl | AS30: =IF(AR30="Infl", -AQ30, AQ30) -> 630.2146 | AT30: =IF(D30="XX", "XX", AS30/$O$27) -> 0.13250958 | AU30: =IF(D30="XX", "XX", AS30*1.08*(L30-$L$6)) -> 11022.396 | AV30: =IF(D30="XX", 0, AS30 * 1.08 * 3000/1000) -> 2041.8953
B31: ='Input-Output'!BK26 -> 44 | C31: ='Input-Output'!BL26 -> 21 | D31: ='Input-Output'!BM26 -> 79 | E31: ='Input-Output'!BN26 -> 1549 | F31: ='Input-Output'!BO26 -> 472.1352 | G31: =IF(E31="XX","XX",((101325*(1-2.25577*(10^(-5))*F31)^5.2555)/1000)) -> 95.780624 | H31: =IF(E31="XX", "XX", G31*$AJ$5) -> 28.361125 | I31: =IF(E31="XX", "XX", G31*$AL$5) -> 384.90074 | J31: =IF(E31="XX", "XX",G31*$AN$5) -> 13.8918 | K31: =IF(E31="XX", "XX", ( $K$79 + $U$2 * (E31-$D$2)/$F$2 ) ) -> 13.013751 | L31: =IF(E31="XX", "XX", $L$79 - $AA$2*(E31-$E$79)) -> 91.26556 | M31: =IF(E31="XX","XX ", $M$79-$AC$2*(E31-$E$79)) -> 72.54534 | N31: =IF(E31="XX","XX",100.45+33.193*AB31+2.319*AB31^2+0.17074*AB31^3+1.2063*(AA31*0.4897705)^3) -> 63.91391 | O31: =IF(E31="XX","XX ",((1093-0.556*M31)*X31-0.24*(L31-M31))/(1093+0.444*L31-M31)) -> 0.013894076 | P31: =IF(E31="XX", "XX", ((O31/AC31)/(1-(1-(O31/AC31))*(Y31/J31)))*100) -> 41.706938 | Q31: =IF(E31="XX", "XX", 0.7543*(T31*(1+1.6078*O31))/H31) -> 14.980972 | R31: =IF(E31="XX", "XX", 1/Q31) -> 0.066751343 | S31: =IF(E31="XX", "XX", 0.24*L31+O31*(1061+0.444*L31)) -> 37.208363 | T31: =IF(E31="XX", "XX", L31+459.7) -> 550.96556 | U31: =IF(E31="XX", "XX", M31+459.7) -> 532.24534 | W31: =IF(E31="XX", "XX", EXP((-10440.397/U31)+(-11.29465) + (-0.027022355*U31) + (0.00001289036*U31*U31) + (-0.0000000024780681*U31^3)+(6.5459673*LN(U31))) ) -> 0.39645178 | X31: =IF(E31="XX", "XX", 0.62198*W31/(J31-W31)) -> 0.018271858 | Y31: =IF(E31="XX", "XX", EXP((-10440.397/T31)+(-11.29465) + (-0.027022355*T31) + (0.00001289036*T31*T31) + (-0.0000000024780681*T31^3)+(6.5459673*LN(T31))) ) -> 0.72779445 | Z31: =IF(E31="XX", "XX", Y31*2.041772658 ) -> 1.4859908 | AA31: =IF(E31="XX", "XX", (H31*O31)/(0.62198+O31)) -> 0.61970072 | AB31: =IF(E31="XX", "XX", LN(AA31*0.4897705)) -> -1.192337 | AC31: =IF(E31="XX", "XX", 0.62198*(Y31/(J31-Y31))) -> 0.034387224 | AF31: =B31 -> 44 | AG31: =C31 -> 21 | AH31: =D31 -> 79 | AI31: =E31 -> 1549 | AJ31: =F31 -> 472.1352 | AK31: =IF( (AG31>0),1, 0) -> 1 | AL31: =IF(D31="XX", "XX", E31- $D$2) -> 1049 | AM31: =IF(D31="XX", "XX", $AP$5 * R31 * (T31-$T$5)/$T$5 * $AR$5 * ($H$2-AL31)) -> -0.015410549 | AN31: =IF(D31="XX", "XX", $AT$5 * $AP$6^2 * $AT$6 * R31 * K31^2/2) -> 0.00076420819 | AO31: =IF(D31="XX", "XX", AM31 +AN31) -> -0.01464634 | AP31: =IF(D31="XX", "XX", AO31 +$Z$27) -> -0.0046463403 | AQ31: =IF(D31="XX", 0, 60 * ($AC$27 * $AN$27 * (2 * ABS(AP31)/R31)^0.5)) -> 588.25445 | AR31: =IF(D31="XX", "XX", IF(AP31<0, "Exfl", "Infl")) -> Exfl | AS31: =IF(AR31="Infl", -AQ31, AQ31) -> 588.25445 | AT31: =IF(D31="XX", "XX", AS31/$O$27) -> 0.12368699 | AU31: =IF(D31="XX", "XX", AS31*1.08*(L31-$L$6)) -> 10333.751 | AV31: =IF(D31="XX", 0, AS31 * 1.08 * 3000/1000) -> 1905.9444
B32: ='Input-Output'!BK27 -> 43 | C32: ='Input-Output'!BL27 -> 20 | D32: ='Input-Output'!BM27 -> 78 | E32: ='Input-Output'!BN27 -> 1539 | F32: ='Input-Output'!BO27 -> 469.0872 | G32: =IF(E32="XX","XX",((101325*(1-2.25577*(10^(-5))*F32)^5.2555)/1000)) -> 95.815612 | H32: =IF(E32="XX", "XX", G32*$AJ$5) -> 28.371485 | I32: =IF(E32="XX", "XX", G32*$AL$5) -> 385.04134 | J32: =IF(E32="XX", "XX",G32*$AN$5) -> 13.896874 | K32: =IF(E32="XX", "XX", ( $K$79 + $U$2 * (E32-$D$2)/$F$2 ) ) -> 12.937357 | L32: =IF(E32="XX", "XX", $L$79 - $AA$2*(E32-$E$79)) -> 91.30116 | M32: =IF(E32="XX","XX ", $M$79-$AC$2*(E32-$E$79)) -> 72.56874 | N32: =IF(E32="XX","XX",100.45+33.193*AB32+2.319*AB32^2+0.17074*AB32^3+1.2063*(AA32*0.4897705)^3) -> 63.934419 | O32: =IF(E32="XX","XX ",((1093-0.556*M32)*X32-0.24*(L32-M32))/(1093+0.444*L32-M32)) -> 0.013899113 | P32: =IF(E32="XX", "XX", ((O32/AC32)/(1-(1-(O32/AC32))*(Y32/J32)))*100) -> 41.690642 | Q32: =IF(E32="XX", "XX", 0.7543*(T32*(1+1.6078*O32))/H32) -> 14.976588 | R32: =IF(E32="XX", "XX", 1/Q32) -> 0.066770883 | S32: =IF(E32="XX", "XX", 0.24*L32+O32*(1061+0.444*L32)) -> 37.222676 | T32: =IF(E32="XX", "XX", L32+459.7) -> 551.00116 | U32: =IF(E32="XX", "XX", M32+459.7) -> 532.26874 | W32: =IF(E32="XX", "XX", EXP((-10440.397/U32)+(-11.29465) + (-0.027022355*U32) + (0.00001289036*U32*U32) + (-0.0000000024780681*U32^3)+(6.5459673*LN(U32))) ) -> 0.39676496 | X32: =IF(E32="XX", "XX", 0.62198*W32/(J32-W32)) -> 0.018279843 | Y32: =IF(E32="XX", "XX", EXP((-10440.397/T32)+(-11.29465) + (-0.027022355*T32) + (0.00001289036*T32*T32) + (-0.0000000024780681*T32^3)+(6.5459673*LN(T32))) ) -> 0.72860319 | Z32: =IF(E32="XX", "XX", Y32*2.041772658 ) -> 1.4876421 | AA32: =IF(E32="XX", "XX", (H32*O32)/(0.62198+O32)) -> 0.62014694 | AB32: =IF(E32="XX", "XX", LN(AA32*0.4897705)) -> -1.1916172 | AC32: =IF(E32="XX", "XX", 0.62198*(Y32/(J32-Y32))) -> 0.034414284 | AF32: =B32 -> 43 | AG32: =C32 -> 20 | AH32: =D32 -> 78 | AI32: =E32 -> 1539 | AJ32: =F32 -> 469.0872 | AK32: =IF( (AG32>0),1, 0) -> 1 | AL32: =IF(D32="XX", "XX", E32- $D$2) -> 1039 | AM32: =IF(D32="XX", "XX", $AP$5 * R32 * (T32-$T$5)/$T$5 * $AR$5 * ($H$2-AL32)) -> -0.015057194 | AN32: =IF(D32="XX", "XX", $AT$5 * $AP$6^2 * $AT$6 * R32 * K32^2/2) -> 0.0007554834 | AO32: =IF(D32="XX", "XX", AM32 +AN32) -> -0.01430171 | AP32: =IF(D32="XX", "XX", AO32 +$Z$27) -> -0.0043017103 | AQ32: =IF(D32="XX", 0, 60 * ($AC$27 * $AN$27 * (2 * ABS(AP32)/R32)^0.5)) -> 565.93524 | AR32: =IF(D32="XX", "XX", IF(AP32<0, "Exfl", "Infl")) -> Exfl | AS32: =IF(AR32="Infl", -AQ32, AQ32) -> 565.93524 | AT32: =IF(D32="XX", "XX", AS32/$O$27) -> 0.11899413 | AU32: =IF(D32="XX", "XX", AS32*1.08*(L32-$L$6)) -> 9963.4329 | AV32: =IF(D32="XX", 0, AS32 * 1.08 * 3000/1000) -> 1833.6302
B33: ='Input-Output'!BK28 -> 42 | C33: ='Input-Output'!BL28 -> 18 | D33: ='Input-Output'!BM28 -> 76 | E33: ='Input-Output'!BN28 -> 1519 | F33: ='Input-Output'!BO28 -> 462.9912 | G33: =IF(E33="XX","XX",((101325*(1-2.25577*(10^(-5))*F33)^5.2555)/1000)) -> 95.885618 | H33: =IF(E33="XX", "XX", G33*$AJ$5) -> 28.392214 | I33: =IF(E33="XX", "XX", G33*$AL$5) -> 385.32266 | J33: =IF(E33="XX", "XX",G33*$AN$5) -> 13.907028 | K33: =IF(E33="XX", "XX", ( $K$79 + $U$2 * (E33-$D$2)/$F$2 ) ) -> 12.784568 | L33: =IF(E33="XX", "XX", $L$79 - $AA$2*(E33-$E$79)) -> 91.37236 | M33: =IF(E33="XX","XX ", $M$79-$AC$2*(E33-$E$79)) -> 72.61554 | N33: =IF(E33="XX","XX",100.45+33.193*AB33+2.319*AB33^2+0.17074*AB33^3+1.2063*(AA33*0.4897705)^3) -> 63.975446 | O33: =IF(E33="XX","XX ",((1093-0.556*M33)*X33-0.24*(L33-M33))/(1093+0.444*L33-M33)) -> 0.013909196 | P33: =IF(E33="XX", "XX", ((O33/AC33)/(1-(1-(O33/AC33))*(Y33/J33)))*100) -> 41.658092 | Q33: =IF(E33="XX", "XX", 0.7543*(T33*(1+1.6078*O33))/H33) -> 14.967825 | R33: =IF(E33="XX", "XX", 1/Q33) -> 0.066809976 | S33: =IF(E33="XX", "XX", 0.24*L33+O33*(1061+0.444*L33)) -> 37.25131 | T33: =IF(E33="XX", "XX", L33+459.7) -> 551.07236 | U33: =IF(E33="XX", "XX", M33+459.7) -> 532.31554 | W33: =IF(E33="XX", "XX", EXP((-10440.397/U33)+(-11.29465) + (-0.027022355*U33) + (0.00001289036*U33*U33) + (-0.0000000024780681*U33^3)+(6.5459673*LN(U33))) ) -> 0.39739196 | X33: =IF(E33="XX", "XX", 0.62198*W33/(J33-W33)) -> 0.018295819 | Y33: =IF(E33="XX", "XX", EXP((-10440.397/T33)+(-11.29465) + (-0.027022355*T33) + (0.00001289036*T33*T33) + (-0.0000000024780681*T33^3)+(6.5459673*LN(T33))) ) -> 0.73022301 | Z33: =IF(E33="XX", "XX", Y33*2.041772658 ) -> 1.4909494 | AA33: =IF(E33="XX", "XX", (H33*O33)/(0.62198+O33)) -> 0.62104037 | AB33: =IF(E33="XX", "XX", LN(AA33*0.4897705)) -> -1.1901776 | AC33: =IF(E33="XX", "XX", 0.62198*(Y33/(J33-Y33))) -> 0.034468456 | AF33: =B33 -> 42 | AG33: =C33 -> 18 | AH33: =D33 -> 76 | AI33: =E33 -> 1519 | AJ33: =F33 -> 462.9912 | AK33: =IF( (AG33>0),1, 0) -> 1 | AL33: =IF(D33="XX", "XX", E33- $D$2) -> 1019 | AM33: =IF(D33="XX", "XX", $AP$5 * R33 * (T33-$T$5)/$T$5 * $AR$5 * ($H$2-AL33)) -> -0.014344724 | AN33: =IF(D33="XX", "XX", $AT$5 * $AP$6^2 * $AT$6 * R33 * K33^2/2) -> 0.00073817639 | AO33: =IF(D33="XX", "XX", AM33 +AN33) -> -0.013606548 | AP33: =IF(D33="XX", "XX", AO33 +$Z$27) -> -0.0036065476 | AQ33: =IF(D33="XX", 0, 60 * ($AC$27 * $AN$27 * (2 * ABS(AP33)/R33)^0.5)) -> 518.04191 | AR33: =IF(D33="XX", "XX", IF(AP33<0, "Exfl", "Infl")) -> Exfl | AS33: =IF(AR33="Infl", -AQ33, AQ33) -> 518.04191 | AT33: =IF(D33="XX", "XX", AS33/$O$27) -> 0.10892403 | AU33: =IF(D33="XX", "XX", AS33*1.08*(L33-$L$6)) -> 9160.0941 | AV33: =IF(D33="XX", 0, AS33 * 1.08 * 3000/1000) -> 1678.4558
B34: ='Input-Output'!BK29 -> 41 | C34: ='Input-Output'!BL29 -> 16 | D34: ='Input-Output'!BM29 -> 74 | E34: ='Input-Output'!BN29 -> 1499 | F34: ='Input-Output'!BO29 -> 456.8952 | G34: =IF(E34="XX","XX",((101325*(1-2.25577*(10^(-5))*F34)^5.2555)/1000)) -> 95.955666 | H34: =IF(E34="XX", "XX", G34*$AJ$5) -> 28.412956 | I34: =IF(E34="XX", "XX", G34*$AL$5) -> 385.60416 | J34: =IF(E34="XX", "XX",G34*$AN$5) -> 13.917187 | K34: =IF(E34="XX", "XX", ( $K$79 + $U$2 * (E34-$D$2)/$F$2 ) ) -> 12.63178 | L34: =IF(E34="XX", "XX", $L$79 - $AA$2*(E34-$E$79)) -> 91.44356 | M34: =IF(E34="XX","XX ", $M$79-$AC$2*(E34-$E$79)) -> 72.66234 | N34: =IF(E34="XX","XX",100.45+33.193*AB34+2.319*AB34^2+0.17074*AB34^3+1.2063*(AA34*0.4897705)^3) -> 64.016481 | O34: =IF(E34="XX","XX ",((1093-0.556*M34)*X34-0.24*(L34-M34))/(1093+0.444*L34-M34)) -> 0.013919288 | P34: =IF(E34="XX", "XX", ((O34/AC34)/(1-(1-(O34/AC34))*(Y34/J34)))*100) -> 41.625596 | Q34: =IF(E34="XX", "XX", 0.7543*(T34*(1+1.6078*O34))/H34) -> 14.959068 | R34: =IF(E34="XX", "XX", 1/Q34) -> 0.066849085 | S34: =IF(E34="XX", "XX", 0.24*L34+O34*(1061+0.444*L34)) -> 37.279955 | T34: =IF(E34="XX", "XX", L34+459.7) -> 551.14356 | U34: =IF(E34="XX", "XX", M34+459.7) -> 532.36234 | W34: =IF(E34="XX", "XX", EXP((-10440.397/U34)+(-11.29465) + (-0.027022355*U34) + (0.00001289036*U34*U34) + (-0.0000000024780681*U34^3)+(6.5459673*LN(U34))) ) -> 0.39801983 | X34: =IF(E34="XX", "XX", 0.62198*W34/(J34-W34)) -> 0.018311806 | Y34: =IF(E34="XX", "XX", EXP((-10440.397/T34)+(-11.29465) + (-0.027022355*T34) + (0.00001289036*T34*T34) + (-0.0000000024780681*T34^3)+(6.5459673*LN(T34))) ) -> 0.73184595 | Z34: =IF(E34="XX", "XX", Y34*2.041772658 ) -> 1.494263 | AA34: =IF(E34="XX", "XX", (H34*O34)/(0.62198+O34)) -> 0.62193512 | AB34: =IF(E34="XX", "XX", LN(AA34*0.4897705)) -> -1.1887379 | AC34: =IF(E34="XX", "XX", 0.62198*(Y34/(J34-Y34))) -> 0.034522697 | AF34: =B34 -> 41 | AG34: =C34 -> 16 | AH34: =D34 -> 74 | AI34: =E34 -> 1499 | AJ34: =F34 -> 456.8952 | AK34: =IF( (AG34>0),1, 0) -> 1 | AL34: =IF(D34="XX", "XX", E34- $D$2) -> 999 | AM34: =IF(D34="XX", "XX", $AP$5 * R34 * (T34-$T$5)/$T$5 * $AR$5 * ($H$2-AL34)) -> -0.013624564 | AN34: =IF(D34="XX", "XX", $AT$5 * $AP$6^2 * $AT$6 * R34 * K34^2/2) -> 0.00072105978 | AO34: =IF(D34="XX", "XX", AM34 +AN34) -> -0.012903504 | AP34: =IF(D34="XX", "XX", AO34 +$Z$27) -> -0.0029035039 | AQ34: =IF(D34="XX", 0, 60 * ($AC$27 * $AN$27 * (2 * ABS(AP34)/R34)^0.5)) -> 464.67915 | AR34: =IF(D34="XX", "XX", IF(AP34<0, "Exfl", "Infl")) -> Exfl | AS34: =IF(AR34="Infl", -AQ34, AQ34) -> 464.67915 | AT34: =IF(D34="XX", "XX", AS34/$O$27) -> 0.097703923 | AU34: =IF(D34="XX", "XX", AS34*1.08*(L34-$L$6)) -> 8252.2579 | AV34: =IF(D34="XX", 0, AS34 * 1.08 * 3000/1000) -> 1505.5605
B35: ='Input-Output'!BK30 -> 40 | C35: ='Input-Output'!BL30 -> 13 | D35: ='Input-Output'!BM30 -> 71 | E35: ='Input-Output'!BN30 -> 1469 | F35: ='Input-Output'!BO30 -> 447.7512 | G35: =IF(E35="XX","XX",((101325*(1-2.25577*(10^(-5))*F35)^5.2555)/1000)) -> 96.060816 | H35: =IF(E35="XX", "XX", G35*$AJ$5) -> 28.444091 | I35: =IF(E35="XX", "XX", G35*$AL$5) -> 386.02671 | J35: =IF(E35="XX", "XX",G35*$AN$5) -> 13.932438 | K35: =IF(E35="XX", "XX", ( $K$79 + $U$2 * (E35-$D$2)/$F$2 ) ) -> 12.402597 | L35: =IF(E35="XX", "XX", $L$79 - $AA$2*(E35-$E$79)) -> 91.55036 | M35: =IF(E35="XX","XX ", $M$79-$AC$2*(E35-$E$79)) -> 72.73254 | N35: =IF(E35="XX","XX",100.45+33.193*AB35+2.319*AB35^2+0.17074*AB35^3+1.2063*(AA35*0.4897705)^3) -> 64.078053 | O35: =IF(E35="XX","XX ",((1093-0.556*M35)*X35-0.24*(L35-M35))/(1093+0.444*L35-M35)) -> 0.013934444 | P35: =IF(E35="XX", "XX", ((O35/AC35)/(1-(1-(O35/AC35))*(Y35/J35)))*100) -> 41.576956 | Q35: =IF(E35="XX", "XX", 0.7543*(T35*(1+1.6078*O35))/H35) -> 14.945945 | R35: =IF(E35="XX", "XX", 1/Q35) -> 0.066907779 | S35: =IF(E35="XX", "XX", 0.24*L35+O35*(1061+0.444*L35)) -> 37.322944 | T35: =IF(E35="XX", "XX", L35+459.7) -> 551.25036 | U35: =IF(E35="XX", "XX", M35+459.7) -> 532.43254 | W35: =IF(E35="XX", "XX", EXP((-10440.397/U35)+(-11.29465) + (-0.027022355*U35) + (0.00001289036*U35*U35) + (-0.0000000024780681*U35^3)+(6.5459673*LN(U35))) ) -> 0.39896325 | X35: =IF(E35="XX", "XX", 0.62198*W35/(J35-W35)) -> 0.018335806 | Y35: =IF(E35="XX", "XX", EXP((-10440.397/T35)+(-11.29465) + (-0.027022355*T35) + (0.00001289036*T35*T35) + (-0.0000000024780681*T35^3)+(6.5459673*LN(T35))) ) -> 0.73428622 | Z35: =IF(E35="XX", "XX", Y35*2.041772658 ) -> 1.4992455 | AA35: =IF(E35="XX", "XX", (H35*O35)/(0.62198+O35)) -> 0.62327974 | AB35: =IF(E35="XX", "XX", LN(AA35*0.4897705)) -> -1.1865782 | AC35: =IF(E35="XX", "XX", 0.62198*(Y35/(J35-Y35))) -> 0.03460419 | AF35: =B35 -> 40 | AG35: =C35 -> 13 | AH35: =D35 -> 71 | AI35: =E35 -> 1469 | AJ35: =F35 -> 447.7512 | AK35: =IF( (AG35>0),1, 0) -> 1 | AL35: =IF(D35="XX", "XX", E35- $D$2) -> 969 | AM35: =IF(D35="XX", "XX", $AP$5 * R35 * (T35-$T$5)/$T$5 * $AR$5 * ($H$2-AL35)) -> -0.012529876 | AN35: =IF(D35="XX", "XX", $AT$5 * $AP$6^2 * $AT$6 * R35 * K35^2/2) -> 0.00069574261 | AO35: =IF(D35="XX", "XX", AM35 +AN35) -> -0.011834133 | AP35: =IF(D35="XX", "XX", AO35 +$Z$27) -> -0.0018341333 | AQ35: =IF(D35="XX", 0, 60 * ($AC$27 * $AN$27 * (2 * ABS(AP35)/R35)^0.5)) -> 369.16188 | AR35: =IF(D35="XX", "XX", IF(AP35<0, "Exfl", "Infl")) -> Exfl | AS35: =IF(AR35="Infl", -AQ35, AQ35) -> 369.16188 | AT35: =IF(D35="XX", "XX", AS35/$O$27) -> 0.077620363 | AU35: =IF(D35="XX", "XX", AS35*1.08*(L35-$L$6)) -> 6598.5431 | AV35: =IF(D35="XX", 0, AS35 * 1.08 * 3000/1000) -> 1196.0845
B36: ='Input-Output'!BK31 -> 39 | C36: ='Input-Output'!BL31 -> 10 | D36: ='Input-Output'!BM31 -> 68 | E36: ='Input-Output'!BN31 -> 1439 | F36: ='Input-Output'!BO31 -> 438.6072 | G36: =IF(E36="XX","XX",((101325*(1-2.25577*(10^(-5))*F36)^5.2555)/1000)) -> 96.166059 | H36: =IF(E36="XX", "XX", G36*$AJ$5) -> 28.475254 | I36: =IF(E36="XX", "XX", G36*$AL$5) -> 386.44963 | J36: =IF(E36="XX", "XX",G36*$AN$5) -> 13.947702 | K36: =IF(E36="XX", "XX", ( $K$79 + $U$2 * (E36-$D$2)/$F$2 ) ) -> 12.173415 | L36: =IF(E36="XX", "XX", $L$79 - $AA$2*(E36-$E$79)) -> 91.65716 | M36: =IF(E36="XX","XX ", $M$79-$AC$2*(E36-$E$79)) -> 72.80274 | N36: =IF(E36="XX","XX",100.45+33.193*AB36+2.319*AB36^2+0.17074*AB36^3+1.2063*(AA36*0.4897705)^3) -> 64.139645 | O36: =IF(E36="XX","XX ",((1093-0.556*M36)*X36-0.24*(L36-M36))/(1093+0.444*L36-M36)) -> 0.013949622 | P36: =IF(E36="XX", "XX", ((O36/AC36)/(1-(1-(O36/AC36))*(Y36/J36)))*100) -> 41.528439 | Q36: =IF(E36="XX", "XX", 0.7543*(T36*(1+1.6078*O36))/H36) -> 14.932838 | R36: =IF(E36="XX", "XX", 1/Q36) -> 0.066966509 | S36: =IF(E36="XX", "XX", 0.24*L36+O36*(1061+0.444*L36)) -> 37.365958 | T36: =IF(E36="XX", "XX", L36+459.7) -> 551.35716 | U36: =IF(E36="XX", "XX", M36+459.7) -> 532.50274 | W36: =IF(E36="XX", "XX", EXP((-10440.397/U36)+(-11.29465) + (-0.027022355*U36) + (0.00001289036*U36*U36) + (-0.0000000024780681*U36^3)+(6.5459673*LN(U36))) ) -> 0.39990863 | X36: =IF(E36="XX", "XX", 0.62198*W36/(J36-W36)) -> 0.018359829 | Y36: =IF(E36="XX", "XX", EXP((-10440.397/T36)+(-11.29465) + (-0.027022355*T36) + (0.00001289036*T36*T36) + (-0.0000000024780681*T36^3)+(6.5459673*LN(T36))) ) -> 0.73673355 | Z36: =IF(E36="XX", "XX", Y36*2.041772658 ) -> 1.5042424 | AA36: =IF(E36="XX", "XX", (H36*O36)/(0.62198+O36)) -> 0.62462735 | AB36: =IF(E36="XX", "XX", LN(AA36*0.4897705)) -> -1.1844184 | AC36: =IF(E36="XX", "XX", 0.62198*(Y36/(J36-Y36))) -> 0.034685839 | AF36: =B36 -> 39 | AG36: =C36 -> 10 | AH36: =D36 -> 68 | AI36: =E36 -> 1439 | AJ36: =F36 -> 438.6072 | AK36: =IF( (AG36>0),1, 0) -> 1 | AL36: =IF(D36="XX", "XX", E36- $D$2) -> 939 | AM36: =IF(D36="XX", "XX", $AP$5 * R36 * (T36-$T$5)/$T$5 * $AR$5 * ($H$2-AL36)) -> -0.011417814 | AN36: =IF(D36="XX", "XX", $AT$5 * $AP$6^2 * $AT$6 * R36 * K36^2/2) -> 0.00067085583 | AO36: =IF(D36="XX", "XX", AM36 +AN36) -> -0.010746958 | AP36: =IF(D36="XX", "XX", AO36 +$Z$27) -> -0.00074695779 | AQ36: =IF(D36="XX", 0, 60 * ($AC$27 * $AN$27 * (2 * ABS(AP36)/R36)^0.5)) -> 235.48265 | AR36: =IF(D36="XX", "XX", IF(AP36<0, "Exfl", "Infl")) -> Exfl | AS36: =IF(AR36="Infl", -AQ36, AQ36) -> 235.48265 | AT36: =IF(D36="XX", "XX", AS36/$O$27) -> 0.049512828 | AU36: =IF(D36="XX", "XX", AS36*1.08*(L36-$L$6)) -> 4236.27 | AV36: =IF(D36="XX", 0, AS36 * 1.08 * 3000/1000) -> 762.96379
B37: ='Input-Output'!BK32 -> 38 | C37: ='Input-Output'!BL32 -> 7 | D37: ='Input-Output'!BM32 -> 65 | E37: ='Input-Output'!BN32 -> 1409 | F37: ='Input-Output'!BO32 -> 429.4632 | G37: =IF(E37="XX","XX",((101325*(1-2.25577*(10^(-5))*F37)^5.2555)/1000)) -> 96.271395 | H37: =IF(E37="XX", "XX", G37*$AJ$5) -> 28.506445 | I37: =IF(E37="XX", "XX", G37*$AL$5) -> 386.87293 | J37: =IF(E37="XX", "XX",G37*$AN$5) -> 13.96298 | K37: =IF(E37="XX", "XX", ( $K$79 + $U$2 * (E37-$D$2)/$F$2 ) ) -> 11.944232 | L37: =IF(E37="XX", "XX", $L$79 - $AA$2*(E37-$E$79)) -> 91.76396 | M37: =IF(E37="XX","XX ", $M$79-$AC$2*(E37-$E$79)) -> 72.87294 | N37: =IF(E37="XX","XX",100.45+33.193*AB37+2.319*AB37^2+0.17074*AB37^3+1.2063*(AA37*0.4897705)^3) -> 64.201259 | O37: =IF(E37="XX","XX ",((1093-0.556*M37)*X37-0.24*(L37-M37))/(1093+0.444*L37-M37)) -> 0.013964823 | P37: =IF(E37="XX", "XX", ((O37/AC37)/(1-(1-(O37/AC37))*(Y37/J37)))*100) -> 41.480045 | Q37: =IF(E37="XX", "XX", 0.7543*(T37*(1+1.6078*O37))/H37) -> 14.919745 | R37: =IF(E37="XX", "XX", 1/Q37) -> 0.067025276 | S37: =IF(E37="XX", "XX", 0.24*L37+O37*(1061+0.444*L37)) -> 37.408999 | T37: =IF(E37="XX", "XX", L37+459.7) -> 551.46396 | U37: =IF(E37="XX", "XX", M37+459.7) -> 532.57294 | W37: =IF(E37="XX", "XX", EXP((-10440.397/U37)+(-11.29465) + (-0.027022355*U37) + (0.00001289036*U37*U37) + (-0.0000000024780681*U37^3)+(6.5459673*LN(U37))) ) -> 0.40085597 | X37: =IF(E37="XX", "XX", 0.62198*W37/(J37-W37)) -> 0.018383875 | Y37: =IF(E37="XX", "XX", EXP((-10440.397/T37)+(-11.29465) + (-0.027022355*T37) + (0.00001289036*T37*T37) + (-0.0000000024780681*T37^3)+(6.5459673*LN(T37))) ) -> 0.73918796 | Z37: =IF(E37="XX", "XX", Y37*2.041772658 ) -> 1.5092538 | AA37: =IF(E37="XX", "XX", (H37*O37)/(0.62198+O37)) -> 0.62597796 | AB37: =IF(E37="XX", "XX", LN(AA37*0.4897705)) -> -1.1822585 | AC37: =IF(E37="XX", "XX", 0.62198*(Y37/(J37-Y37))) -> 0.034767647 | AF37: =B37 -> 38 | AG37: =C37 -> 7 | AH37: =D37 -> 65 | AI37: =E37 -> 1409 | AJ37: =F37 -> 429.4632 | AK37: =IF( (AG37>0),1, 0) -> 1 | AL37: =IF(D37="XX", "XX", E37- $D$2) -> 909 | AM37: =IF(D37="XX", "XX", $AP$5 * R37 * (T37-$T$5)/$T$5 * $AR$5 * ($H$2-AL37)) -> -0.010288334 | AN37: =IF(D37="XX", "XX", $AT$5 * $AP$6^2 * $AT$6 * R37 * K37^2/2) -> 0.00064640065 | AO37: =IF(D37="XX", "XX", AM37 +AN37) -> -0.0096419338 | AP37: =IF(D37="XX", "XX", AO37 +$Z$27) -> 0.00035806619 | AQ37: =IF(D37="XX", 0, 60 * ($AC$27 * $AN$27 * (2 * ABS(AP37)/R37)^0.5)) -> 162.9679 | AR37: =IF(D37="XX", "XX", IF(AP37<0, "Exfl", "Infl")) -> Infl | AS37: =IF(AR37="Infl", -AQ37, AQ37) -> -162.9679 | AT37: =IF(D37="XX", "XX", AS37/$O$27) -> -0.0342658 | AU37: =IF(D37="XX", "XX", AS37*1.08*(L37-$L$6)) -> -2950.5463 | AV37: =IF(D37="XX", 0, AS37 * 1.08 * 3000/1000) -> -528.016
B38: ='Input-Output'!BK33 -> 37 | C38: ='Input-Output'!BL33 -> 5 | D38: ='Input-Output'!BM33 -> 63 | E38: ='Input-Output'!BN33 -> 1389 | F38: ='Input-Output'!BO33 -> 423.3672 | G38: =IF(E38="XX","XX",((101325*(1-2.25577*(10^(-5))*F38)^5.2555)/1000)) -> 96.341671 | H38: =IF(E38="XX", "XX", G38*$AJ$5) -> 28.527254 | I38: =IF(E38="XX", "XX", G38*$AL$5) -> 387.15534 | J38: =IF(E38="XX", "XX",G38*$AN$5) -> 13.973172 | K38: =IF(E38="XX", "XX", ( $K$79 + $U$2 * (E38-$D$2)/$F$2 ) ) -> 11.791444 | L38: =IF(E38="XX", "XX", $L$79 - $AA$2*(E38-$E$79)) -> 91.83516 | M38: =IF(E38="XX","XX ", $M$79-$AC$2*(E38-$E$79)) -> 72.91974 | N38: =IF(E38="XX","XX",100.45+33.193*AB38+2.319*AB38^2+0.17074*AB38^3+1.2063*(AA38*0.4897705)^3) -> 64.242347 | O38: =IF(E38="XX","XX ",((1093-0.556*M38)*X38-0.24*(L38-M38))/(1093+0.444*L38-M38)) -> 0.013974968 | P38: =IF(E38="XX", "XX", ((O38/AC38)/(1-(1-(O38/AC38))*(Y38/J38)))*100) -> 41.44785 | Q38: =IF(E38="XX", "XX", 0.7543*(T38*(1+1.6078*O38))/H38) -> 14.911024 | R38: =IF(E38="XX", "XX", 1/Q38) -> 0.067064474 | S38: =IF(E38="XX", "XX", 0.24*L38+O38*(1061+0.444*L38)) -> 37.437707 | T38: =IF(E38="XX", "XX", L38+459.7) -> 551.53516 | U38: =IF(E38="XX", "XX", M38+459.7) -> 532.61974 | W38: =IF(E38="XX", "XX", EXP((-10440.397/U38)+(-11.29465) + (-0.027022355*U38) + (0.00001289036*U38*U38) + (-0.0000000024780681*U38^3)+(6.5459673*LN(U38))) ) -> 0.40148861 | X38: =IF(E38="XX", "XX", 0.62198*W38/(J38-W38)) -> 0.018399919 | Y38: =IF(E38="XX", "XX", EXP((-10440.397/T38)+(-11.29465) + (-0.027022355*T38) + (0.00001289036*T38*T38) + (-0.0000000024780681*T38^3)+(6.5459673*LN(T38))) ) -> 0.74082816 | Z38: =IF(E38="XX", "XX", Y38*2.041772658 ) -> 1.5126027 | AA38: =IF(E38="XX", "XX", (H38*O38)/(0.62198+O38)) -> 0.62688003 | AB38: =IF(E38="XX", "XX", LN(AA38*0.4897705)) -> -1.1808185 | AC38: =IF(E38="XX", "XX", 0.62198*(Y38/(J38-Y38))) -> 0.034822273 | AF38: =B38 -> 37 | AG38: =C38 -> 5 | AH38: =D38 -> 63 | AI38: =E38 -> 1389 | AJ38: =F38 -> 423.3672 | AK38: =IF( (AG38>0),1, 0) -> 1 | AL38: =IF(D38="XX", "XX", E38- $D$2) -> 889 | AM38: =IF(D38="XX", "XX", $AP$5 * R38 * (T38-$T$5)/$T$5 * $AR$5 * ($H$2-AL38)) -> -0.0095256513 | AN38: =IF(D38="XX", "XX", $AT$5 * $AP$6^2 * $AT$6 * R38 * K38^2/2) -> 0.00063033757 | AO38: =IF(D38="XX", "XX", AM38 +AN38) -> -0.0088953137 | AP38: =IF(D38="XX", "XX", AO38 +$Z$27) -> 0.0011046863 | AQ38: =IF(D38="XX", 0, 60 * ($AC$27 * $AN$27 * (2 * ABS(AP38)/R38)^0.5)) -> 286.16264 | AR38: =IF(D38="XX", "XX", IF(AP38<0, "Exfl", "Infl")) -> Infl | AS38: =IF(AR38="Infl", -AQ38, AQ38) -> -286.16264 | AT38: =IF(D38="XX", "XX", AS38/$O$27) -> -0.060168855 | AU38: =IF(D38="XX", "XX", AS38*1.08*(L38-$L$6)) -> -5203.0013 | AV38: =IF(D38="XX", 0, AS38 * 1.08 * 3000/1000) -> -927.16696
B39: ='Input-Output'!BK34 -> 36 | C39: ='Input-Output'!BL34 -> 3 | D39: ='Input-Output'!BM34 -> 61 | E39: ='Input-Output'!BN34 -> 1369 | F39: ='Input-Output'!BO34 -> 417.2712 | G39: =IF(E39="XX","XX",((101325*(1-2.25577*(10^(-5))*F39)^5.2555)/1000)) -> 96.411988 | H39: =IF(E39="XX", "XX", G39*$AJ$5) -> 28.548075 | I39: =IF(E39="XX", "XX", G39*$AL$5) -> 387.43792 | J39: =IF(E39="XX", "XX",G39*$AN$5) -> 13.983371 | K39: =IF(E39="XX", "XX", ( $K$79 + $U$2 * (E39-$D$2)/$F$2 ) ) -> 11.638655 | L39: =IF(E39="XX", "XX", $L$79 - $AA$2*(E39-$E$79)) -> 91.90636 | M39: =IF(E39="XX","XX ", $M$79-$AC$2*(E39-$E$79)) -> 72.96654 | N39: =IF(E39="XX","XX",100.45+33.193*AB39+2.319*AB39^2+0.17074*AB39^3+1.2063*(AA39*0.4897705)^3) -> 64.283444 | O39: =IF(E39="XX","XX ",((1093-0.556*M39)*X39-0.24*(L39-M39))/(1093+0.444*L39-M39)) -> 0.013985124 | P39: =IF(E39="XX", "XX", ((O39/AC39)/(1-(1-(O39/AC39))*(Y39/J39)))*100) -> 41.415709 | Q39: =IF(E39="XX", "XX", 0.7543*(T39*(1+1.6078*O39))/H39) -> 14.90231 | R39: =IF(E39="XX", "XX", 1/Q39) -> 0.067103689 | S39: =IF(E39="XX", "XX", 0.24*L39+O39*(1061+0.444*L39)) -> 37.466426 | T39: =IF(E39="XX", "XX", L39+459.7) -> 551.60636 | U39: =IF(E39="XX", "XX", M39+459.7) -> 532.66654 | W39: =IF(E39="XX", "XX", EXP((-10440.397/U39)+(-11.29465) + (-0.027022355*U39) + (0.00001289036*U39*U39) + (-0.0000000024780681*U39^3)+(6.5459673*LN(U39))) ) -> 0.40212213 | X39: =IF(E39="XX", "XX", 0.62198*W39/(J39-W39)) -> 0.018415973 | Y39: =IF(E39="XX", "XX", EXP((-10440.397/T39)+(-11.29465) + (-0.027022355*T39) + (0.00001289036*T39*T39) + (-0.0000000024780681*T39^3)+(6.5459673*LN(T39))) ) -> 0.74247153 | Z39: =IF(E39="XX", "XX", Y39*2.041772658 ) -> 1.5159581 | AA39: =IF(E39="XX", "XX", (H39*O39)/(0.62198+O39)) -> 0.62778343 | AB39: =IF(E39="XX", "XX", LN(AA39*0.4897705)) -> -1.1793784 | AC39: =IF(E39="XX", "XX", 0.62198*(Y39/(J39-Y39))) -> 0.034876969 | AF39: =B39 -> 36 | AG39: =C39 -> 3 | AH39: =D39 -> 61 | AI39: =E39 -> 1369 | AJ39: =F39 -> 417.2712 | AK39: =IF( (AG39>0),1, 0) -> 1 | AL39: =IF(D39="XX", "XX", E39- $D$2) -> 869 | AM39: =IF(D39="XX", "XX", $AP$5 * R39 * (T39-$T$5)/$T$5 * $AR$5 * ($H$2-AL39)) -> -0.0087551958 | AN39: =IF(D39="XX", "XX", $AT$5 * $AP$6^2 * $AT$6 * R39 * K39^2/2) -> 0.00061446721 | AO39: =IF(D39="XX", "XX", AM39 +AN39) -> -0.0081407286 | AP39: =IF(D39="XX", "XX", AO39 +$Z$27) -> 0.0018592714 | AQ39: =IF(D39="XX", 0, 60 * ($AC$27 * $AN$27 * (2 * ABS(AP39)/R39)^0.5)) -> 371.14013 | AR39: =IF(D39="XX", "XX", IF(AP39<0, "Exfl", "Infl")) -> Infl | AS39: =IF(AR39="Infl", -AQ39, AQ39) -> -371.14013 | AT39: =IF(D39="XX", "XX", AS39/$O$27) -> -0.078036311 | AU39: =IF(D39="XX", "XX", AS39*1.08*(L39-$L$6)) -> -6776.599 | AV39: =IF(D39="XX", 0, AS39 * 1.08 * 3000/1000) -> -1202.494
B40: ='Input-Output'!BK35 -> 35 | C40: ='Input-Output'!BL35 -> 1 | D40: ='Input-Output'!BM35 -> 59 | E40: ='Input-Output'!BN35 -> 1349 | F40: ='Input-Output'!BO35 -> 411.1752 | G40: =IF(E40="XX","XX",((101325*(1-2.25577*(10^(-5))*F40)^5.2555)/1000)) -> 96.482347 | H40: =IF(E40="XX", "XX", G40*$AJ$5) -> 28.568909 | I40: =IF(E40="XX", "XX", G40*$AL$5) -> 387.72066 | J40: =IF(E40="XX", "XX",G40*$AN$5) -> 13.993576 | K40: =IF(E40="XX", "XX", ( $K$79 + $U$2 * (E40-$D$2)/$F$2 ) ) -> 11.485867 | L40: =IF(E40="XX", "XX", $L$79 - $AA$2*(E40-$E$79)) -> 91.97756 | M40: =IF(E40="XX","XX ", $M$79-$AC$2*(E40-$E$79)) -> 73.01334 | N40: =IF(E40="XX","XX",100.45+33.193*AB40+2.319*AB40^2+0.17074*AB40^3+1.2063*(AA40*0.4897705)^3) -> 64.32455 | O40: =IF(E40="XX","XX ",((1093-0.556*M40)*X40-0.24*(L40-M40))/(1093+0.444*L40-M40)) -> 0.013995289 | P40: =IF(E40="XX", "XX", ((O40/AC40)/(1-(1-(O40/AC40))*(Y40/J40)))*100) -> 41.383623 | Q40: =IF(E40="XX", "XX", 0.7543*(T40*(1+1.6078*O40))/H40) -> 14.893603 | R40: =IF(E40="XX", "XX", 1/Q40) -> 0.067142919 | S40: =IF(E40="XX", "XX", 0.24*L40+O40*(1061+0.444*L40)) -> 37.495157 | T40: =IF(E40="XX", "XX", L40+459.7) -> 551.67756 | U40: =IF(E40="XX", "XX", M40+459.7) -> 532.71334 | W40: =IF(E40="XX", "XX", EXP((-10440.397/U40)+(-11.29465) + (-0.027022355*U40) + (0.00001289036*U40*U40) + (-0.0000000024780681*U40^3)+(6.5459673*LN(U40))) ) -> 0.40275652 | X40: =IF(E40="XX", "XX", 0.62198*W40/(J40-W40)) -> 0.018432038 | Y40: =IF(E40="XX", "XX", EXP((-10440.397/T40)+(-11.29465) + (-0.027022355*T40) + (0.00001289036*T40*T40) + (-0.0000000024780681*T40^3)+(6.5459673*LN(T40))) ) -> 0.74411805 | Z40: =IF(E40="XX", "XX", Y40*2.041772658 ) -> 1.5193199 | AA40: =IF(E40="XX", "XX", (H40*O40)/(0.62198+O40)) -> 0.62868818 | AB40: =IF(E40="XX", "XX", LN(AA40*0.4897705)) -> -1.1779383 | AC40: =IF(E40="XX", "XX", 0.62198*(Y40/(J40-Y40))) -> 0.034931735 | AF40: =B40 -> 35 | AG40: =C40 -> 1 | AH40: =D40 -> 59 | AI40: =E40 -> 1349 | AJ40: =F40 -> 411.1752 | AK40: =IF( (AG40>0),1, 0) -> 1 | AL40: =IF(D40="XX", "XX", E40- $D$2) -> 849 | AM40: =IF(D40="XX", "XX", $AP$5 * R40 * (T40-$T$5)/$T$5 * $AR$5 * ($H$2-AL40)) -> -0.0079769553 | AN40: =IF(D40="XX", "XX", $AT$5 * $AP$6^2 * $AT$6 * R40 * K40^2/2) -> 0.00059878993 | AO40: =IF(D40="XX", "XX", AM40 +AN40) -> -0.0073781654 | AP40: =IF(D40="XX", "XX", AO40 +$Z$27) -> 0.0026218346 | AQ40: =IF(D40="XX", 0, 60 * ($AC$27 * $AN$27 * (2 * ABS(AP40)/R40)^0.5)) -> 440.59773 | AR40: =IF(D40="XX", "XX", IF(AP40<0, "Exfl", "Infl")) -> Infl | AS40: =IF(AR40="Infl", -AQ40, AQ40) -> -440.59773 | AT40: =IF(D40="XX", "XX", AS40/$O$27) -> -0.092640538 | AU40: =IF(D40="XX", "XX", AS40*1.08*(L40-$L$6)) -> -8078.6964 | AV40: =IF(D40="XX", 0, AS40 * 1.08 * 3000/1000) -> -1427.5366
B41: ='Input-Output'!BK36 -> Section >> | D41: ='Input-Output'!BM36 -> 5-Srv | E41: Flrs/S | F41: ='Input-Output'!BO36 -> 5 | G41: Section Ht (ft) | I41: ='Input-Output'!BF44 -> 75 | J41: Per-L | K41: ='Input-Output'!BF46 -> 640 | L41: Floor-Envel-Area (ft2) | O41: ='Input-Output'!BF47 -> 9600 | P41: S-Flr-Area (ft2) | R41: ='Input-Output'!BF45 -> 120000 | S41: Wndw Area (%) | U41: ='Input-Output'!BF50 -> 60 | W41: Inside-Outside (PI-PO) | Z41: ='Input-Output'!BF32 -> 0.02 | AA41: Leakg Flow Cf | AC41: ='Input-Output'!BF31 -> 0.65 | AF41: =B41 -> Section >> | AH41: =D41 -> 5-Srv | AI41: =E41 -> Flrs/S | AJ41: =F41 -> 5 | AK41: =SUM(AK42:AK47) -> 5 | AL41: Envel Leakg A | AN41: ='Input-Output'!BF55 -> 9.6576 | AO41: Appr. Sctn-Infltr (cfm) | AR41: =(SUM(AQ42:AQ47)/AK41) * AJ41 -> 1222.4838 | AS41: Appr. Sctn Infltr (tons) | AV41: =(SUM(AV42:AV47)/AK41) * AJ41 -> -3960.8476
