Workbook

Sheet Input-Output
G1: Length (L) | V1: Perimeter Length | AM1: 2.5 | AN1: ROOF | AV1: 2.5 | AX1: 2 | AY1: 10 | AZ1: 10 | BA1: 10 | BB1: 10 | BC1: 10 | BD1: 10 | BE1: 10 | BF1: 10 | BG1: 10 | BH1: 10 | BI1: 10 | BJ1: 3 | BK1: 6 | BL1: 6 | BM1: 6.5 | BN1: 7 | BO1: 6.5 | BP1: 5 | BQ1: 1 | BS1: 6 | BT1: 6 | BU1: 6.5 | BV1: 7 | BW1: 6.5 | BY1: 6.5 | BZ1: 5.5 | CA1: 5.5 | CB1: 5.5 | CC1: 7 | CD1: 7 | CE1: 8 | CF1: 8 | CG1: 7 | CH1: 2 | CI1: 5 | CJ1: 5 | CK1: 5 | CL1: 5 | CM1: 5 | CN1: 5 | CO1: 5 | CP1: 5 | CQ1: 5 | CR1: 2 | CS1: 2 | CT1: 5.5 | CU1: 5.5 | CV1: 6 | CW1: 7 | CX1: 6 | CZ1: 6.5 | DA1: 5.5 | DB1: 5.5 | DC1: 5.5 | DD1: 7 | DE1: 7 | DF1: 8 | DG1: 8 | DH1: 7 | DI1: 5 | DJ1: 5 | DK1: 5 | DL1: 5 | DM1: 5 | DN1: 5 | DO1: 5 | DP1: 5 | DQ1: 5 | DR1: 5
C2: Width (W) | F2: Perimeter Zone (PZ) | AR2: MECHANICAL | AY2: Building Pressurization - | BB2: P = 2 * pi * SQRT( W*L / pi) | BE2: 3.1415927 | BF2: USER INPUT | BH2: CALCULATED | BK2: Calc | BL2: Sctn | BM2: Bldg | BN2: Flr-H + Sea-Lvl | BP2: Floor | BS2: Calc | BT2: Sctn | BU2: Bldg | BV2: Flr-H + Sea-Lvl | BY2: Outdr-Air from Sheet 'SMMR-Calcs' | CE2: SUMMER | CG2: Coolg | CI2: Bldg | CJ2: Summer - Infiltr-Exfiltr - Q cfm - Design-Day | CQ2: Bldg | CT2: Calc | CU2: Sctn | CV2: Bldg | CW2: Flr-H + Sea-Lvl | CZ2: Outdr-Air from Sheet 'WNTR-Calcs' | DF2: WINTER | DH2: Coolg | DJ2: Bldg | DK2: Winter - Infiltr-Exfiltr - Q cfm - Design-Day | DR2: Bldg
AE3: b | AP3: S-8 | AS3: Restaurant | AY3: Stack Effect & Wind Press Infltration | BK3: ID # | BL3: Flr # | BM3: Flr-# | BN3: ft | BO3: m | BP3: Data | BS3: ID # | BT3: Flr # | BU3: Flr-# | BV3: ft | BW3: m | CG3: Load / | CI3: Flr-# | CJ3: Infiltration | CN3: Exfiltration | CQ3: Flr-# | CT3: ID # | CU3: Flr # | CV3: Flr-# | CW3: ft | CX3: m | DH3: Load / | DJ3: Flr-# | DK3: Infiltration | DO3: Exfiltration | DR3: Flr-#
F4: Interior Zone (IZ) | AZ4: PROJECT Data | BA4: Description | BG4: DESIGN Data | BH4: SMMR | BI4: WNTR | CG4: Year | DH4: Year
H5: Core | AZ5: Project Name | BA5: Tall Mixed-Use Building (Description) | BG5: Wnd (mph) Grnd | BH5: 5 | BI5: 10 | BK5: Section >> | BM5: =BI14 -> 8-din | BN5: # flrs >> | BO5: =BI42 -> 3 | BP5: =SUM(BP6:BP8) -> 2 | BS5: =BK5 -> Section >> | BU5: =BM5 -> 8-din | BV5: =BN5 -> # flrs >> | BW5: =BO5 -> 3 | BY5: in.Hg | BZ5: Wnd-V | CA5: Tdb | CB5: Twb | CC5: Enth | CD5: Dens | CE5: Q cfm | CF5: Q/ EnA | CG5: Tons | CI5: =$BM$74 -> 1 | CQ5: =$BM$74 -> 1 | CT5: =BK5 -> Section >> | CV5: =BM5 -> 8-din | CW5: =BN5 -> # flrs >> | CX5: =BO5 -> 3 | CZ5: in.Hg | DA5: Wnd-V | DB5: Tdb | DC5: Twb | DD5: Enth | DE5: Dens | DF5: Q cfm | DG5: Q/ EnA | DH5: Tons | DJ5: =$BM$74 -> 1 | DR5: =$BM$74 -> 1
H6: Zone | AZ6: Project Analyst | BA6: VCT (Description) | BG6: Wnd (mph) Roof | BH6: 15 | BI6: 25 | BK6: =BK7+1 -> 61 | BL6: 0 | BM6: =IF(BL6<=0, "XX", BB$42 + BC$42 + BD$42 + BE$42 + BF$42 + BG$42 + +BL6) -> XX | BN6: =IF(BM6="XX", "XX", $BB$9 + BB$44 + BC$44 + BD$44 +BE$44 + BF$44 +BG$44 + BL6*BH$20) -> XX | BO6: =IF(BM6="XX", "XX", BN6*0.3048) -> XX | BP6: =IF( (BL6>0),1, 0) -> 0 | BS6: =BK6 -> 61 | BT6: =BL6 -> 0 | BU6: =BM6 -> XX | BV6: =BN6 -> XX | BW6: =IF(BU6="XX", "XX", BV6*0.3048) -> XX | BY6: ='SMMR-Calcs'!H11 -> XX | BZ6: ='SMMR-Calcs'!K11 -> XX | CA6: ='SMMR-Calcs'!L11 -> XX | CB6: ='SMMR-Calcs'!M11 -> XX | CC6: ='SMMR-Calcs'!S11 -> XX | CD6: ='SMMR-Calcs'!R11 -> XX | CE6: ='SMMR-Calcs'!AS11 -> 0 | CF6: ='SMMR-Calcs'!AT11 -> XX | CG6: ='SMMR-Calcs'!AV11 -> 0 | CI6: =$BM$73 -> 2 | CQ6: =$BM$73 -> 2 | CT6: =BK6 -> 61 | CU6: =BL6 -> 0 | CV6: =BM6 -> XX | CW6: =BN6 -> XX | CX6: =BO6 -> XX | CZ6: ='WNTR-Calcs'!H11 -> XX | DA6: ='WNTR-Calcs'!K11 -> XX | DB6: ='WNTR-Calcs'!L11 -> XX | DC6: ='WNTR-Calcs'!M11 -> XX | DD6: ='WNTR-Calcs'!S11 -> XX | DE6: ='WNTR-Calcs'!R11 -> XX | DF6: ='WNTR-Calcs'!AS11 -> 0 | DG6: ='WNTR-Calcs'!AT11 -> XX | DH6: ='WNTR-Calcs'!AV11 -> 0 | DJ6: =$BM$73 -> 2 | DR6: =$BM$73 -> 2
AZ7: Building Type | BA7: Mixed Use High Rise (Description) | BG7: Wnd Dir (0-360) | BH7: 180 | BI7: 315 | BK7: =BK8+1 -> 60 | BL7: 2 | BM7: =IF(BL7<=0, "XX", BB$42 + BC$42 + BD$42 + BE$42 + BF$42 + BG$42 + BH$42+BL7) -> 101 | BN7: =IF(BM7="XX", "XX", $BB$9 + BB$44 + BC$44 + BD$44 +BE$44 + BF$44 +BG$44 + BH$44+ BL7*BI$20) -> 1789 | BO7: =IF(BM7="XX", "XX", BN7*0.3048) -> 545.2872 | BP7: =IF( (BL7>0),1, 0) -> 1 | BS7: =BK7 -> 60 | BT7: =BL7 -> 2 | BU7: =BM7 -> 101 | BV7: =BN7 -> 1789 | BW7: =IF(BU7="XX", "XX", BV7*0.3048) -> 545.2872 | BY7: ='SMMR-Calcs'!H12 -> 28.113401 | BZ7: ='SMMR-Calcs'!K12 -> 14.847212 | CA7: ='SMMR-Calcs'!L12 -> 90.41116 | CB7: ='SMMR-Calcs'!M12 -> 71.98374 | CC7: ='SMMR-Calcs'!S12 -> 36.865715 | CD7: ='SMMR-Calcs'!R12 -> 0.066283591 | CE7: ='SMMR-Calcs'!AS12 -> 850.58919 | CF7: ='SMMR-Calcs'!AT12 -> 0.11923051 | CG7: ='SMMR-Calcs'!AV12 -> 2461.9453 | CI7: =$BM$72 -> 1-Grd | CQ7: =$BM$72 -> 1-Grd | CT7: =BK7 -> 60 | CU7: =BL7 -> 2 | CV7: =BM7 -> 101 | CW7: =BN7 -> 1789 | CX7: =BO7 -> 545.2872 | CZ7: ='WNTR-Calcs'!H12 -> 28.113401 | DA7: ='WNTR-Calcs'!K12 -> 24.770817 | DB7: ='WNTR-Calcs'!L12 -> -24.58884 | DC7: ='WNTR-Calcs'!M12 -> -23.01626 | DD7: ='WNTR-Calcs'!S12 -> -5.208755 | DE7: ='WNTR-Calcs'!R12 -> 0.085567487 | DF7: ='WNTR-Calcs'!AS12 -> -4035.9389 | DG7: ='WNTR-Calcs'!AT12 -> -0.56573382 | DH7: ='WNTR-Calcs'!AV12 -> -34787.695 | DJ7: =$BM$72 -> 1-Grd | DR7: =$BM$72 -> 1-Grd
AP8: S-7 | AS8: Apartments | AZ8: Location | BA8: Minneapolis, MN, USA (Description) | BG8: Outdoor DB (F) | BH8: 95 | BI8: -20 | BK8: =BK10+1 -> 59 | BL8: 1 | BM8: =IF(BL8<=0, "XX", BB$42 + BC$42 + BD$42 + BE$42 + BF$42 + BG$42 + BH$42+BL8) -> 100 | BN8: =IF(BM8="XX", "XX", $BB$9 + BB$44 + BC$44 + BD$44 +BE$44 + BF$44 +BG$44 + BH$44+ BL8*BI$20) -> 1774 | BO8: =IF(BM8="XX", "XX", BN8*0.3048) -> 540.7152 | BP8: =IF( (BL8>0),1, 0) -> 1 | BS8: =BK8 -> 59 | BT8: =BL8 -> 1 | BU8: =BM8 -> 100 | BV8: =BN8 -> 1774 | BW8: =IF(BU8="XX", "XX", BV8*0.3048) -> 540.7152 | BY8: ='SMMR-Calcs'!H13 -> 28.128832 | BZ8: ='SMMR-Calcs'!K13 -> 14.73262 | CA8: ='SMMR-Calcs'!L13 -> 90.46456 | CB8: ='SMMR-Calcs'!M13 -> 72.01884 | CC8: ='SMMR-Calcs'!S13 -> 36.887082 | CD8: ='SMMR-Calcs'!R13 -> 0.066312757 | CE8: ='SMMR-Calcs'!AS13 -> 824.03553 | CF8: ='SMMR-Calcs'!AT13 -> 0.11550838 | CG8: ='SMMR-Calcs'!AV13 -> 2385.0884 | CI8: =$BM$71 -> 3 | CQ8: =$BM$71 -> 3 | CT8: =BK8 -> 59 | CU8: =BL8 -> 1 | CV8: =BM8 -> 100 | CW8: =BN8 -> 1774 | CX8: =BO8 -> 540.7152 | CZ8: ='WNTR-Calcs'!H13 -> 28.128832 | DA8: ='WNTR-Calcs'!K13 -> 24.59893 | DB8: ='WNTR-Calcs'!L13 -> -24.53544 | DC8: ='WNTR-Calcs'!M13 -> -22.98116 | DD8: ='WNTR-Calcs'!S13 -> -5.1996623 | DE8: ='WNTR-Calcs'!R13 -> 0.085604438 | DF8: ='WNTR-Calcs'!AS13 -> -3990.6408 | DG8: ='WNTR-Calcs'!AT13 -> -0.5593842 | DH8: ='WNTR-Calcs'!AV13 -> -34397.249 | DJ8: =$BM$71 -> 3 | DR8: =$BM$71 -> 3
BA9: Site Altit (ft) ref Sea Level | BB9: 500 | BD9: Mechan Flr-Flr-H | BE9: 20 | BG9: Outdoor WB (F) | BH9: 75 | BI9: -20 | BK9: Section >> | BM9: =BH14 -> 7-Apt | BN9: # flrs >> | BO9: =BH42+COUNT(BL6:BL8) -> 19 | BP9: =SUM(BP10:BP21) -> 11 | BS9: =BK9 -> Section >> | BU9: =BM9 -> 7-Apt | BV9: =BN9 -> # flrs >> | BW9: =BO9 -> 19 | BY9: in.Hg | BZ9: Wnd-V | CA9: Tdb | CB9: Twb | CC9: Enth | CD9: Dens | CE9: Q cfm | CF9: Q/ EnA | CG9: Tons | CI9: =$BM$70 -> 4 | CQ9: =$BM$70 -> 4 | CT9: =BK9 -> Section >> | CV9: =BM9 -> 7-Apt | CW9: =BN9 -> # flrs >> | CX9: =BO9 -> 19 | CZ9: in.Hg | DA9: Wnd-V | DB9: Tdb | DC9: Twb | DD9: Enth | DE9: Dens | DF9: Q cfm | DG9: Q/ EnA | DH9: Tons | DJ9: =$BM$70 -> 4 | DR9: =$BM$70 -> 4
AB10: a | BA10: Leakage Air Flow Coeff. Cd | BB10: 0.65 | BD10: Core Area (%) | BE10: 10 | BG10: Degree-Days | BH10: 2680 | BI10: 7981 | BK10: =BK11+1 -> 58 | BL10: 0 | BM10: =IF(BL10<=0, "XX", BB$42 + BC$42 + BD$42 + BE$42 + BF$42 + BG$42 + +BL10) -> XX | BN10: =IF(BM10="XX", "XX", $BB$9 + BB$44 + BC$44 + BD$44 +BE$44 + BF$44 +BG$44 + BL10*BH$20) -> XX | BO10: =IF(BM10="XX", "XX", BN10*0.3048) -> XX | BP10: =IF( (BL10>0),1, 0) -> 0 | BS10: =BK10 -> 58 | BT10: =BL10 -> 0 | BU10: =BM10 -> XX | BV10: =BN10 -> XX | BW10: =IF(BU10="XX", "XX", BV10*0.3048) -> XX | BY10: ='SMMR-Calcs'!H15 -> XX | BZ10: ='SMMR-Calcs'!K15 -> XX | CA10: ='SMMR-Calcs'!L15 -> XX | CB10: ='SMMR-Calcs'!M15 -> XX | CC10: ='SMMR-Calcs'!S15 -> XX | CD10: ='SMMR-Calcs'!R15 -> XX | CE10: ='SMMR-Calcs'!AS15 -> 0 | CF10: ='SMMR-Calcs'!AT15 -> XX | CG10: ='SMMR-Calcs'!AV15 -> 0 | CI10: =$BM$69 -> 5 | CQ10: =$BM$69 -> 5 | CT10: =BK10 -> 58 | CU10: =BL10 -> 0 | CV10: =BM10 -> XX | CW10: =BN10 -> XX | CX10: =BO10 -> XX | CZ10: ='WNTR-Calcs'!H15 -> XX | DA10: ='WNTR-Calcs'!K15 -> XX | DB10: ='WNTR-Calcs'!L15 -> XX | DC10: ='WNTR-Calcs'!M15 -> XX | DD10: ='WNTR-Calcs'!S15 -> XX | DE10: ='WNTR-Calcs'!R15 -> XX | DF10: ='WNTR-Calcs'!AS15 -> 0 | DG10: ='WNTR-Calcs'!AT15 -> XX | DH10: ='WNTR-Calcs'!AV15 -> 0 | DJ10: =$BM$69 -> 5 | DR10: =$BM$69 -> 5
C11: Rectangle | L11: Circle | BA11: Avg Envelope Leakage (%) | BB11: 0.6 | BD11: Perim-Zone-D | BE11: 15 | BG11: Indoor DB (F) | BH11: 75 | BI11: 72 | BK11: =BK12+1 -> 57 | BL11: 19 | BM11: =IF(BL11<=0, "XX", BB$42 + BC$42 + BD$42 + BE$42 + BF$42 + BG$42 + +BL11) -> 102 | BN11: =IF(BM11="XX", "XX", $BB$9 + BB$44 + BC$44 + BD$44 +BE$44 + BF$44 +BG$44 + BL11*BH$20) -> 1779 | BO11: =IF(BM11="XX", "XX", BN11*0.3048) -> 542.2392 | BP11: =IF( (BL11>0),1, 0) -> 1 | BS11: =BK11 -> 57 | BT11: =BL11 -> 19 | BU11: =BM11 -> 102 | BV11: =BN11 -> 1779 | BW11: =IF(BU11="XX", "XX", BV11*0.3048) -> 542.2392 | BY11: ='SMMR-Calcs'!H16 -> 28.123688 | BZ11: ='SMMR-Calcs'!K16 -> 14.770817 | CA11: ='SMMR-Calcs'!L16 -> 90.44676 | CB11: ='SMMR-Calcs'!M16 -> 72.00714 | CC11: ='SMMR-Calcs'!S16 -> 36.879959 | CD11: ='SMMR-Calcs'!R16 -> 0.066303034 | CE11: ='SMMR-Calcs'!AS16 -> 1061.637 | CF11: ='SMMR-Calcs'!AT16 -> 0.22322091 | CG11: ='SMMR-Calcs'!AV16 -> 3439.704 | CI11: =$BM$68 -> 2-Rtl | CQ11: =$BM$68 -> 2-Rtl | CT11: =BK11 -> 57 | CU11: =BL11 -> 19 | CV11: =BM11 -> 102 | CW11: =BN11 -> 1779 | CX11: =BO11 -> 542.2392 | CZ11: ='WNTR-Calcs'!H16 -> 28.123688 | DA11: ='WNTR-Calcs'!K16 -> 24.656226 | DB11: ='WNTR-Calcs'!L16 -> -24.55324 | DC11: ='WNTR-Calcs'!M16 -> -22.99286 | DD11: ='WNTR-Calcs'!S16 -> -5.2026932 | DE11: ='WNTR-Calcs'!R16 -> 0.08559212 | DF11: ='WNTR-Calcs'!AS16 -> -3856.3273 | DG11: ='WNTR-Calcs'!AT16 -> -0.8108354 | DH11: ='WNTR-Calcs'!AV16 -> -12494.5 | DJ11: =$BM$68 -> 2-Rtl | DR11: =$BM$68 -> 2-Rtl
C12: Area : A = L * W | L12: Area : A = PI *R^2 | T12: Oval | BA12: Avg Envl Leakg Area (ft2/ft2) | BB12: 0.01 | BD12: Column Dist (ft) | BE12: 31 | BG12: Indoor WB (F) | BH12: 62 | BI12: 55 | BK12: =BK13+1 -> 56 | BL12: 17 | BM12: =IF(BL12<=0, "XX", BB$42 + BC$42 + BD$42 + BE$42 + BF$42 + BG$42 + +BL12) -> 100 | BN12: =IF(BM12="XX", "XX", $BB$9 + BB$44 + BC$44 + BD$44 +BE$44 + BF$44 +BG$44 + BL12*BH$20) -> 1759 | BO12: =IF(BM12="XX", "XX", BN12*0.3048) -> 536.1432 | BP12: =IF( (BL12>0),1, 0) -> 1 | BS12: =BK12 -> 56 | BT12: =BL12 -> 17 | BU12: =BM12 -> 100 | BV12: =BN12 -> 1759 | BW12: =IF(BU12="XX", "XX", BV12*0.3048) -> 536.1432 | BY12: ='SMMR-Calcs'!H17 -> 28.144271 | BZ12: ='SMMR-Calcs'!K17 -> 14.618029 | CA12: ='SMMR-Calcs'!L17 -> 90.51796 | CB12: ='SMMR-Calcs'!M17 -> 72.05394 | CC12: ='SMMR-Calcs'!S17 -> 36.908456 | CD12: ='SMMR-Calcs'!R17 -> 0.066341932 | CE12: ='SMMR-Calcs'!AS17 -> 1034.4563 | CF12: ='SMMR-Calcs'!AT17 -> 0.21750587 | CG12: ='SMMR-Calcs'!AV17 -> 3351.6385 | CI12: =$BM$67 -> 7 | CQ12: =$BM$67 -> 7 | CT12: =BK12 -> 56 | CU12: =BL12 -> 17 | CV12: =BM12 -> 100 | CW12: =BN12 -> 1759 | CX12: =BO12 -> 536.1432 | CZ12: ='WNTR-Calcs'!H17 -> 28.144271 | DA12: ='WNTR-Calcs'!K17 -> 24.427044 | DB12: ='WNTR-Calcs'!L17 -> -24.48204 | DC12: ='WNTR-Calcs'!M17 -> -22.94606 | DD12: ='WNTR-Calcs'!S17 -> -5.1905695 | DE12: ='WNTR-Calcs'!R17 -> 0.085641401 | DF12: ='WNTR-Calcs'!AS17 -> -3796.2681 | DG12: ='WNTR-Calcs'!AT17 -> -0.79820729 | DH12: ='WNTR-Calcs'!AV17 -> -12299.909 | DJ12: =$BM$67 -> 7 | DR12: =$BM$67 -> 7
C13: Perimeter : P = 2 * (L+W) | L13: Perimeter: P = 2 * PI * R | T13: Area (approx) : A = PI * a * b | BK13: =BK14+1 -> 55 | BL13: 15 | BM13: =IF(BL13<=0, "XX", BB$42 + BC$42 + BD$42 + BE$42 + BF$42 + BG$42 + +BL13) -> 98 | BN13: =IF(BM13="XX", "XX", $BB$9 + BB$44 + BC$44 + BD$44 +BE$44 + BF$44 +BG$44 + BL13*BH$20) -> 1739 | BO13: =IF(BM13="XX", "XX", BN13*0.3048) -> 530.0472 | BP13: =IF( (BL13>0),1, 0) -> 1 | BS13: =BK13 -> 55 | BT13: =BL13 -> 15 | BU13: =BM13 -> 98 | BV13: =BN13 -> 1739 | BW13: =IF(BU13="XX", "XX", BV13*0.3048) -> 530.0472 | BY13: ='SMMR-Calcs'!H18 -> 28.164865 | BZ13: ='SMMR-Calcs'!K18 -> 14.465241 | CA13: ='SMMR-Calcs'!L18 -> 90.58916 | CB13: ='SMMR-Calcs'!M18 -> 72.10074 | CC13: ='SMMR-Calcs'!S18 -> 36.936965 | CD13: ='SMMR-Calcs'!R18 -> 0.066380847 | CE13: ='SMMR-Calcs'!AS18 -> 1006.2158 | CF13: ='SMMR-Calcs'!AT18 -> 0.21156799 | CG13: ='SMMR-Calcs'!AV18 -> 3260.1393 | CI13: =$BM$66 -> 8 | CQ13: =$BM$66 -> 8 | CT13: =BK13 -> 55 | CU13: =BL13 -> 15 | CV13: =BM13 -> 98 | CW13: =BN13 -> 1739 | CX13: =BO13 -> 530.0472 | CZ13: ='WNTR-Calcs'!H18 -> 28.164865 | DA13: ='WNTR-Calcs'!K18 -> 24.197861 | DB13: ='WNTR-Calcs'!L18 -> -24.41084 | DC13: ='WNTR-Calcs'!M18 -> -22.89926 | DD13: ='WNTR-Calcs'!S18 -> -5.1784453 | DE13: ='WNTR-Calcs'!R18 -> 0.085690705 | DF13: ='WNTR-Calcs'!AS18 -> -3735.3345 | DG13: ='WNTR-Calcs'!AT18 -> -0.78539531 | DH13: ='WNTR-Calcs'!AV18 -> -12102.484 | DJ13: =$BM$66 -> 8 | DR13: =$BM$66 -> 8
T14: Perimeter : P = 2*PI * { (a2+b2) / 2 }0.5 | BA14: SCTN (max=5 chars) >> | BB14: 1-Grd | BC14: 2-Rtl | BD14: 3-Fin | BE14: 4-Ofc | BF14: 5-Srv | BG14: 6-Htl | BH14: 7-Apt | BI14: 8-din | BK14: =BK15+1 -> 54 | BL14: =BL15+2 -> 13 | BM14: =IF(BL14<=0, "XX", BB$42 + BC$42 + BD$42 + BE$42 + BF$42 + BG$42 + +BL14) -> 96 | BN14: =IF(BM14="XX", "XX", $BB$9 + BB$44 + BC$44 + BD$44 +BE$44 + BF$44 +BG$44 + BL14*BH$20) -> 1719 | BO14: =IF(BM14="XX", "XX", BN14*0.3048) -> 523.9512 | BP14: =IF( (BL14>0),1, 0) -> 1 | BS14: =BK14 -> 54 | BT14: =BL14 -> 13 | BU14: =BM14 -> 96 | BV14: =BN14 -> 1719 | BW14: =IF(BU14="XX", "XX", BV14*0.3048) -> 523.9512 | BY14: ='SMMR-Calcs'!H19 -> 28.185472 | BZ14: ='SMMR-Calcs'!K19 -> 14.312452 | CA14: ='SMMR-Calcs'!L19 -> 90.66036 | CB14: ='SMMR-Calcs'!M19 -> 72.14754 | CC14: ='SMMR-Calcs'!S19 -> 36.965485 | CD14: ='SMMR-Calcs'!R19 -> 0.066419778 | CE14: ='SMMR-Calcs'!AS19 -> 976.82361 | CF14: ='SMMR-Calcs'!AT19 -> 0.20538795 | CG14: ='SMMR-Calcs'!AV19 -> 3164.9085 | CI14: =$BM$65 -> 9 | CQ14: =$BM$65 -> 9 | CT14: =BK14 -> 54 | CU14: =BL14 -> 13 | CV14: =BM14 -> 96 | CW14: =BN14 -> 1719 | CX14: =BO14 -> 523.9512 | CZ14: ='WNTR-Calcs'!H19 -> 28.185472 | DA14: ='WNTR-Calcs'!K19 -> 23.968678 | DB14: ='WNTR-Calcs'!L19 -> -24.33964 | DC14: ='WNTR-Calcs'!M19 -> -22.85246 | DD14: ='WNTR-Calcs'!S19 -> -5.1663208 | DE14: ='WNTR-Calcs'!R19 -> 0.08574003 | DF14: ='WNTR-Calcs'!AS19 -> -3673.4828 | DG14: ='WNTR-Calcs'!AT19 -> -0.77239033 | DH14: ='WNTR-Calcs'!AV19 -> -11902.084 | DJ14: =$BM$65 -> 9 | DR14: =$BM$65 -> 9
BA15: Floor Type | BB15: Lobby | BC15: Retail | BD15: Tradg | BE15: Office | BF15: Htl-Srvc | BG15: Hotel | BH15: Condos | BI15: Dining | BK15: =BK16+1 -> 53 | BL15: =BL16+2 -> 11 | BM15: =IF(BL15<=0, "XX", BB$42 + BC$42 + BD$42 + BE$42 + BF$42 + BG$42 + +BL15) -> 94 | BN15: =IF(BM15="XX", "XX", $BB$9 + BB$44 + BC$44 + BD$44 +BE$44 + BF$44 +BG$44 + BL15*BH$20) -> 1699 | BO15: =IF(BM15="XX", "XX", BN15*0.3048) -> 517.8552 | BP15: =IF( (BL15>0),1, 0) -> 1 | BS15: =BK15 -> 53 | BT15: =BL15 -> 11 | BU15: =BM15 -> 94 | BV15: =BN15 -> 1699 | BW15: =IF(BU15="XX", "XX", BV15*0.3048) -> 517.8552 | BY15: ='SMMR-Calcs'!H20 -> 28.206091 | BZ15: ='SMMR-Calcs'!K20 -> 14.159664 | CA15: ='SMMR-Calcs'!L20 -> 90.73156 | CB15: ='SMMR-Calcs'!M20 -> 72.19434 | CC15: ='SMMR-Calcs'!S20 -> 36.994016 | CD15: ='SMMR-Calcs'!R20 -> 0.066458725 | CE15: ='SMMR-Calcs'!AS20 -> 946.17235 | CF15: ='SMMR-Calcs'!AT20 -> 0.19894318 | CG15: ='SMMR-Calcs'!AV20 -> 3065.5984 | CI15: =$BM$64 -> 10 | CQ15: =$BM$64 -> 10 | CT15: =BK15 -> 53 | CU15: =BL15 -> 11 | CV15: =BM15 -> 94 | CW15: =BN15 -> 1699 | CX15: =BO15 -> 517.8552 | CZ15: ='WNTR-Calcs'!H20 -> 28.206091 | DA15: ='WNTR-Calcs'!K20 -> 23.739496 | DB15: ='WNTR-Calcs'!L20 -> -24.26844 | DC15: ='WNTR-Calcs'!M20 -> -22.80566 | DD15: ='WNTR-Calcs'!S20 -> -5.1541959 | DE15: ='WNTR-Calcs'!R20 -> 0.085789377 | DF15: ='WNTR-Calcs'!AS20 -> -3610.6661 | DG15: ='WNTR-Calcs'!AT20 -> -0.75918241 | DH15: ='WNTR-Calcs'!AV20 -> -11698.558 | DJ15: =$BM$64 -> 10 | DR15: =$BM$64 -> 10
D16: Column Width | K16: Floor Depth | AC16: Panel Width | BA16: Typical Floor Length (ft) | BB16: 320 | BC16: 280 | BD16: 240 | BE16: 220 | BF16: 200 | BG16: 180 | BH16: 180 | BI16: 180 | BK16: =BK17+1 -> 52 | BL16: =BL17+2 -> 9 | BM16: =IF(BL16<=0, "XX", BB$42 + BC$42 + BD$42 + BE$42 + BF$42 + BG$42 + +BL16) -> 92 | BN16: =IF(BM16="XX", "XX", $BB$9 + BB$44 + BC$44 + BD$44 +BE$44 + BF$44 +BG$44 + BL16*BH$20) -> 1679 | BO16: =IF(BM16="XX", "XX", BN16*0.3048) -> 511.7592 | BP16: =IF( (BL16>0),1, 0) -> 1 | BS16: =BK16 -> 52 | BT16: =BL16 -> 9 | BU16: =BM16 -> 92 | BV16: =BN16 -> 1679 | BW16: =IF(BU16="XX", "XX", BV16*0.3048) -> 511.7592 | BY16: ='SMMR-Calcs'!H21 -> 28.226723 | BZ16: ='SMMR-Calcs'!K21 -> 14.006875 | CA16: ='SMMR-Calcs'!L21 -> 90.80276 | CB16: ='SMMR-Calcs'!M21 -> 72.24114 | CC16: ='SMMR-Calcs'!S21 -> 37.022559 | CD16: ='SMMR-Calcs'!R21 -> 0.066497688 | CE16: ='SMMR-Calcs'!AS21 -> 914.1354 | CF16: ='SMMR-Calcs'!AT21 -> 0.19220706 | CG16: ='SMMR-Calcs'!AV21 -> 2961.7987 | CI16: =$BM$63 -> 11 | CQ16: =$BM$63 -> 11 | CT16: =BK16 -> 52 | CU16: =BL16 -> 9 | CV16: =BM16 -> 92 | CW16: =BN16 -> 1679 | CX16: =BO16 -> 511.7592 | CZ16: ='WNTR-Calcs'!H21 -> 28.226723 | DA16: ='WNTR-Calcs'!K21 -> 23.510313 | DB16: ='WNTR-Calcs'!L21 -> -24.19724 | DC16: ='WNTR-Calcs'!M21 -> -22.75886 | DD16: ='WNTR-Calcs'!S21 -> -5.1420707 | DE16: ='WNTR-Calcs'!R21 -> 0.085838746 | DF16: ='WNTR-Calcs'!AS21 -> -3546.8329 | DG16: ='WNTR-Calcs'!AT21 -> -0.74576078 | DH16: ='WNTR-Calcs'!AV21 -> -11491.739 | DJ16: =$BM$63 -> 11 | DR16: =$BM$63 -> 11
BA17: Typical Floor Width (ft) | BB17: 240 | BC17: 200 | BD17: 160 | BE17: 140 | BF17: 120 | BG17: 100 | BH17: 100 | BI17: 100 | BK17: =BK18+1 -> 51 | BL17: =BL18+2 -> 7 | BM17: =IF(BL17<=0, "XX", BB$42 + BC$42 + BD$42 + BE$42 + BF$42 + BG$42 + +BL17) -> 90 | BN17: =IF(BM17="XX", "XX", $BB$9 + BB$44 + BC$44 + BD$44 +BE$44 + BF$44 +BG$44 + BL17*BH$20) -> 1659 | BO17: =IF(BM17="XX", "XX", BN17*0.3048) -> 505.6632 | BP17: =IF( (BL17>0),1, 0) -> 1 | BS17: =BK17 -> 51 | BT17: =BL17 -> 7 | BU17: =BM17 -> 90 | BV17: =BN17 -> 1659 | BW17: =IF(BU17="XX", "XX", BV17*0.3048) -> 505.6632 | BY17: ='SMMR-Calcs'!H22 -> 28.247366 | BZ17: ='SMMR-Calcs'!K22 -> 13.854087 | CA17: ='SMMR-Calcs'!L22 -> 90.87396 | CB17: ='SMMR-Calcs'!M22 -> 72.28794 | CC17: ='SMMR-Calcs'!S22 -> 37.051113 | CD17: ='SMMR-Calcs'!R22 -> 0.066536667 | CE17: ='SMMR-Calcs'!AS22 -> 880.56153 | CF17: ='SMMR-Calcs'!AT22 -> 0.18514779 | CG17: ='SMMR-Calcs'!AV22 -> 2853.0194 | CI17: =$BM$62 -> 12 | CQ17: =$BM$62 -> 12 | CT17: =BK17 -> 51 | CU17: =BL17 -> 7 | CV17: =BM17 -> 90 | CW17: =BN17 -> 1659 | CX17: =BO17 -> 505.6632 | CZ17: ='WNTR-Calcs'!H22 -> 28.247366 | DA17: ='WNTR-Calcs'!K22 -> 23.281131 | DB17: ='WNTR-Calcs'!L22 -> -24.12604 | DC17: ='WNTR-Calcs'!M22 -> -22.71206 | DD17: ='WNTR-Calcs'!S22 -> -5.129945 | DE17: ='WNTR-Calcs'!R22 -> 0.085888137 | DF17: ='WNTR-Calcs'!AS22 -> -3481.9274 | DG17: ='WNTR-Calcs'!AT22 -> -0.73211368 | DH17: ='WNTR-Calcs'!AV22 -> -11281.445 | DJ17: =$BM$62 -> 12 | DR17: =$BM$62 -> 12
AS18: Hotel | BA18: OR Non-Rectg Floor-A (ft2) | BB18: =BB16*BB17 -> 76800 | BC18: =BC16*BC17 -> 56000 | BG18: =BG16*BG17 -> 18000 | BH18: =BH16*BH17 -> 18000 | BI18: =BI16*BI17 -> 18000 | BK18: =BK19+1 -> 50 | BL18: =BL19+2 -> 5 | BM18: =IF(BL18<=0, "XX", BB$42 + BC$42 + BD$42 + BE$42 + BF$42 + BG$42 + +BL18) -> 88 | BN18: =IF(BM18="XX", "XX", $BB$9 + BB$44 + BC$44 + BD$44 +BE$44 + BF$44 +BG$44 + BL18*BH$20) -> 1639 | BO18: =IF(BM18="XX", "XX", BN18*0.3048) -> 499.5672 | BP18: =IF( (BL18>0),1, 0) -> 1 | BS18: =BK18 -> 50 | BT18: =BL18 -> 5 | BU18: =BM18 -> 88 | BV18: =BN18 -> 1639 | BW18: =IF(BU18="XX", "XX", BV18*0.3048) -> 499.5672 | BY18: ='SMMR-Calcs'!H23 -> 28.268022 | BZ18: ='SMMR-Calcs'!K23 -> 13.701299 | CA18: ='SMMR-Calcs'!L23 -> 90.94516 | CB18: ='SMMR-Calcs'!M23 -> 72.33474 | CC18: ='SMMR-Calcs'!S23 -> 37.079678 | CD18: ='SMMR-Calcs'!R23 -> 0.066575663 | CE18: ='SMMR-Calcs'!AS23 -> 845.26764 | CF18: ='SMMR-Calcs'!AT23 -> 0.17772685 | CG18: ='SMMR-Calcs'!AV23 -> 2738.6671 | CI18: =$BM$62 -> 12 | CQ18: =$BM$62 -> 12 | CT18: =BK18 -> 50 | CU18: =BL18 -> 5 | CV18: =BM18 -> 88 | CW18: =BN18 -> 1639 | CX18: =BO18 -> 499.5672 | CZ18: ='WNTR-Calcs'!H23 -> 28.268022 | DA18: ='WNTR-Calcs'!K23 -> 23.051948 | DB18: ='WNTR-Calcs'!L23 -> -24.05484 | DC18: ='WNTR-Calcs'!M23 -> -22.66526 | DD18: ='WNTR-Calcs'!S23 -> -5.117819 | DE18: ='WNTR-Calcs'!R23 -> 0.08593755 | DF18: ='WNTR-Calcs'!AS23 -> -3415.8884 | DG18: ='WNTR-Calcs'!AT23 -> -0.71822826 | DH18: ='WNTR-Calcs'!AV23 -> -11067.479 | DJ18: =$BM$62 -> 12 | DR18: =$BM$62 -> 12
AG19: Prefabricated (manuf.) | BA19: OR Non-Rectg Flr Perm (ft) | BB19: =2*$BE$2*SQRT(BB16*BB17/$BE$2) -> 982.39365 | BC19: =2*$BE$2*SQRT(BC16*BC17/$BE$2) -> 838.87828 | BG19: =2*$BE$2*SQRT(BG16*BG17/$BE$2) -> 475.59928 | BH19: =2*$BE$2*SQRT(BH16*BH17/$BE$2) -> 475.59928 | BI19: =2*$BE$2*SQRT(BI16*BI17/$BE$2) -> 475.59928 | BK19: =BK20+1 -> 49 | BL19: =BL21+2 -> 3 | BM19: =IF(BL19<=0, "XX", BB$42 + BC$42 + BD$42 + BE$42 + BF$42 + BG$42 + +BL19) -> 86 | BN19: =IF(BM19="XX", "XX", $BB$9 + BB$44 + BC$44 + BD$44 +BE$44 + BF$44 +BG$44 + BL19*BH$20) -> 1619 | BO19: =IF(BM19="XX", "XX", BN19*0.3048) -> 493.4712 | BP19: =IF( (BL19>0),1, 0) -> 1 | BS19: =BK19 -> 49 | BT19: =BL19 -> 3 | BU19: =BM19 -> 86 | BV19: =BN19 -> 1619 | BW19: =IF(BU19="XX", "XX", BV19*0.3048) -> 493.4712 | BY19: ='SMMR-Calcs'!H24 -> 28.28869 | BZ19: ='SMMR-Calcs'!K24 -> 13.54851 | CA19: ='SMMR-Calcs'!L24 -> 91.01636 | CB19: ='SMMR-Calcs'!M24 -> 72.38154 | CC19: ='SMMR-Calcs'!S24 -> 37.108255 | CD19: ='SMMR-Calcs'!R24 -> 0.066614675 | CE19: ='SMMR-Calcs'!AS24 -> 808.02835 | CF19: ='SMMR-Calcs'!AT24 -> 0.16989688 | CG19: ='SMMR-Calcs'!AV24 -> 2618.0119 | CI19: =$BM$61 -> 3-Fin | CQ19: =$BM$61 -> 3-Fin | CT19: =BK19 -> 49 | CU19: =BL19 -> 3 | CV19: =BM19 -> 86 | CW19: =BN19 -> 1619 | CX19: =BO19 -> 493.4712 | CZ19: ='WNTR-Calcs'!H24 -> 28.28869 | DA19: ='WNTR-Calcs'!K24 -> 22.822765 | DB19: ='WNTR-Calcs'!L24 -> -23.98364 | DC19: ='WNTR-Calcs'!M24 -> -22.61846 | DD19: ='WNTR-Calcs'!S24 -> -5.1056926 | DE19: ='WNTR-Calcs'!R24 -> 0.085986984 | DF19: ='WNTR-Calcs'!AS24 -> -3348.649 | DG19: ='WNTR-Calcs'!AT24 -> -0.70409042 | DH19: ='WNTR-Calcs'!AV24 -> -10849.623 | DJ19: =$BM$61 -> 3-Fin | DR19: =$BM$61 -> 3-Fin
S20: Flr-Flr-H | W20: Flr-Celg-H | AG20: Curtain Wall Panel | BA20: Floor-Floor Height (ft) | BB20: 20 | BC20: 18 | BD20: 15 | BE20: 13.5 | BF20: 15 | BG20: 10 | BH20: 10 | BI20: 15 | BK20: =BK21+1 -> 48 | BL20: 2 | BM20: =IF(BL20<=0, "XX", BB$42 + BC$42 + BD$42 + BE$42 + BF$42 + BG$42 + +BL20) -> 85 | BN20: =IF(BM20="XX", "XX", $BB$9 + BB$44 + BC$44 + BD$44 +BE$44 + BF$44 +BG$44 + BL20*BH$20) -> 1609 | BO20: =IF(BM20="XX", "XX", BN20*0.3048) -> 490.4232 | BP20: =IF( (BL20>0),1, 0) -> 1 | BS20: =BK20 -> 48 | BT20: =BL20 -> 2 | BU20: =BM20 -> 85 | BV20: =BN20 -> 1609 | BW20: =IF(BU20="XX", "XX", BV20*0.3048) -> 490.4232 | BY20: ='SMMR-Calcs'!H25 -> 28.299029 | BZ20: ='SMMR-Calcs'!K25 -> 13.472116 | CA20: ='SMMR-Calcs'!L25 -> 91.05196 | CB20: ='SMMR-Calcs'!M25 -> 72.40494 | CC20: ='SMMR-Calcs'!S25 -> 37.122548 | CD20: ='SMMR-Calcs'!R25 -> 0.066634186 | CE20: ='SMMR-Calcs'!AS25 -> 788.59363 | CF20: ='SMMR-Calcs'!AT25 -> 0.16581052 | CG20: ='SMMR-Calcs'!AV25 -> 2555.0434 | CI20: =$BM$60 -> 13 | CQ20: =$BM$60 -> 13 | CT20: =BK20 -> 48 | CU20: =BL20 -> 2 | CV20: =BM20 -> 85 | CW20: =BN20 -> 1609 | CX20: =BO20 -> 490.4232 | CZ20: ='WNTR-Calcs'!H25 -> 28.299029 | DA20: ='WNTR-Calcs'!K25 -> 22.708174 | DB20: ='WNTR-Calcs'!L25 -> -23.94804 | DC20: ='WNTR-Calcs'!M25 -> -22.59506 | DD20: ='WNTR-Calcs'!S25 -> -5.0996292 | DE20: ='WNTR-Calcs'!R25 -> 0.08601171 | DF20: ='WNTR-Calcs'!AS25 -> -3314.5563 | DG20: ='WNTR-Calcs'!AT25 -> -0.69692206 | DH20: ='WNTR-Calcs'!AV25 -> -10739.162 | DJ20: =$BM$60 -> 13 | DR20: =$BM$60 -> 13
AN21: S-6 | AQ21: MECHANICAL Flr | BA21: Floor-Ceiling Height (ft) | BB21: 15 | BC21: 14 | BD21: 13 | BE21: 10 | BF21: 11 | BG21: 9.5 | BH21: 9.5 | BI21: 11 | BK21: =BK23+1 -> 47 | BL21: 1 | BM21: =IF(BL21<=0, "XX", BB$42 + BC$42 + BD$42 + BE$42 + BF$42 + BG$42 + +BL21) -> 84 | BN21: =IF(BM21="XX", "XX", $BB$9 + BB$44 + BC$44 + BD$44 +BE$44 + BF$44 +BG$44 + BL21*BH$20) -> 1599 | BO21: =IF(BM21="XX", "XX", BN21*0.3048) -> 487.3752 | BP21: =IF( (BL21>0),1, 0) -> 1 | BS21: =BK21 -> 47 | BT21: =BL21 -> 1 | BU21: =BM21 -> 84 | BV21: =BN21 -> 1599 | BW21: =IF(BU21="XX", "XX", BV21*0.3048) -> 487.3752 | BY21: ='SMMR-Calcs'!H26 -> 28.309371 | BZ21: ='SMMR-Calcs'!K26 -> 13.395722 | CA21: ='SMMR-Calcs'!L26 -> 91.08756 | CB21: ='SMMR-Calcs'!M26 -> 72.42834 | CC21: ='SMMR-Calcs'!S26 -> 37.136843 | CD21: ='SMMR-Calcs'!R26 -> 0.066653702 | CE21: ='SMMR-Calcs'!AS26 -> 768.56094 | CF21: ='SMMR-Calcs'!AT26 -> 0.16159842 | CG21: ='SMMR-Calcs'!AV26 -> 2490.1375 | CI21: =$BM$59 -> 15 | CQ21: =$BM$59 -> 15 | CT21: =BK21 -> 47 | CU21: =BL21 -> 1 | CV21: =BM21 -> 84 | CW21: =BN21 -> 1599 | CX21: =BO21 -> 487.3752 | CZ21: ='WNTR-Calcs'!H26 -> 28.309371 | DA21: ='WNTR-Calcs'!K26 -> 22.593583 | DB21: ='WNTR-Calcs'!L26 -> -23.91244 | DC21: ='WNTR-Calcs'!M26 -> -22.57166 | DD21: ='WNTR-Calcs'!S26 -> -5.0935658 | DE21: ='WNTR-Calcs'!R26 -> 0.086036441 | DF21: ='WNTR-Calcs'!AS26 -> -3280.1352 | DG21: ='WNTR-Calcs'!AT26 -> -0.68968464 | DH21: ='WNTR-Calcs'!AV26 -> -10627.638 | DJ21: =$BM$59 -> 15 | DR21: =$BM$59 -> 15
BA22: Number of Section Floors | BB22: 2 | BC22: 3 | BD22: 6 | BE22: 40 | BF22: 5 | BG22: 25 | BH22: 15 | BI22: 2 | BK22: Section >> | BM22: =BG14 -> 6-Htl | BN22: # flrs >> | BO22: =BG42 -> 25 | BP22: =SUM(BP23:BP35) -> 13 | BS22: =BK22 -> Section >> | BU22: =BM22 -> 6-Htl | BV22: =BN22 -> # flrs >> | BW22: =BO22 -> 25 | BY22: in.Hg | BZ22: Wnd-V | CA22: Tdb | CB22: Twb | CC22: Enth | CD22: Dens | CE22: Q cfm | CF22: Q/ EnA | CG22: Tons | CI22: =$BM$58 -> 17 | CQ22: =$BM$58 -> 17 | CT22: =BK22 -> Section >> | CV22: =BM22 -> 6-Htl | CW22: =BN22 -> # flrs >> | CX22: =BO22 -> 25 | CZ22: in.Hg | DA22: Wnd-V | DB22: Tdb | DC22: Twb | DD22: Enth | DE22: Dens | DF22: Q cfm | DG22: Q/ EnA | DH22: Tons | DJ22: =$BM$58 -> 17 | DR22: =$BM$58 -> 17
F23: Distance between Columns (Bay) | Q23: Elevation View of Envelope | BA23: Mech Floor in Section (Y/N) | BB23: N | BC23: Y | BD23: N | BE23: Y | BF23: N | BG23: N | BH23: Y | BI23: Y | BK23: =BK25+1 -> 46 | BL23: 25 | BM23: =IF(BL23<=0, "XX", BB$42 + BC$42 + BD$42 + BE$42 + BF$42 +BL23) -> 83 | BN23: =IF(BM23="XX", "XX", $BB$9 + BB$44 + BC$44 + BD$44 +BE$44 + BF$44 + BL23*BG$20) -> 1589 | BO23: =IF(BM23="XX", "XX", BN23*0.3048) -> 484.3272 | BP23: =IF( (BL23>0),1, 0) -> 1 | BS23: =BK23 -> 46 | BT23: =BL23 -> 25 | BU23: =BM23 -> 83 | BV23: =BN23 -> 1589 | BW23: =IF(BU23="XX", "XX", BV23*0.3048) -> 484.3272 | BY23: ='SMMR-Calcs'!H28 -> 28.319715 | BZ23: ='SMMR-Calcs'!K28 -> 13.319328 | CA23: ='SMMR-Calcs'!L28 -> 91.12316 | CB23: ='SMMR-Calcs'!M28 -> 72.45174 | CC23: ='SMMR-Calcs'!S28 -> 37.151141 | CD23: ='SMMR-Calcs'!R28 -> 0.066673222 | CE23: ='SMMR-Calcs'!AS28 -> 669.1578 | CF23: ='SMMR-Calcs'!AT28 -> 0.14069782 | CG23: ='SMMR-Calcs'!AV28 -> 2168.0713 | CI23: =$BM$57 -> 19 | CQ23: =$BM$57 -> 19 | CT23: =BK23 -> 46 | CU23: =BL23 -> 25 | CV23: =BM23 -> 83 | CW23: =BN23 -> 1589 | CX23: =BO23 -> 484.3272 | CZ23: ='WNTR-Calcs'!H28 -> 28.319715 | DA23: ='WNTR-Calcs'!K28 -> 22.478992 | DB23: ='WNTR-Calcs'!L28 -> -23.87684 | DC23: ='WNTR-Calcs'!M28 -> -22.54826 | DD23: ='WNTR-Calcs'!S28 -> -5.0875022 | DE23: ='WNTR-Calcs'!R28 -> 0.086061177 | DF23: ='WNTR-Calcs'!AS28 -> -2903.7568 | DG23: ='WNTR-Calcs'!AT28 -> -0.61054693 | DH23: ='WNTR-Calcs'!AV28 -> -9408.1721 | DJ23: =$BM$57 -> 19 | DR23: =$BM$57 -> 19
AA24: Q = Cd * A * ( 2 * ∆P/d ) ^ 0.5 | BA24: No. of Windows per Bay | BB24: 5 | BC24: 6 | BD24: 7 | BE24: 7 | BF24: 3 | BG24: 6 | BH24: 6 | BI24: 5 | BK24: =BK25+1 -> 46 | BL24: 24 | BM24: =IF(BL24<=0, "XX", BB$42 + BC$42 + BD$42 + BE$42 + BF$42 +BL24) -> 82 | BN24: =IF(BM24="XX", "XX", $BB$9 + BB$44 + BC$44 + BD$44 +BE$44 + BF$44 + BL24*BG$20) -> 1579 | BO24: =IF(BM24="XX", "XX", BN24*0.3048) -> 481.2792 | BP24: =IF( (BL24>0),1, 0) -> 1 | BS24: =BK24 -> 46 | BT24: =BL24 -> 24 | BU24: =BM24 -> 82 | BV24: =BN24 -> 1579 | BW24: =IF(BU24="XX", "XX", BV24*0.3048) -> 481.2792 | BY24: ='SMMR-Calcs'!H29 -> 28.330063 | BZ24: ='SMMR-Calcs'!K29 -> 13.242934 | CA24: ='SMMR-Calcs'!L29 -> 91.15876 | CB24: ='SMMR-Calcs'!M29 -> 72.47514 | CC24: ='SMMR-Calcs'!S29 -> 37.165443 | CD24: ='SMMR-Calcs'!R29 -> 0.066692747 | CE24: ='SMMR-Calcs'!AS29 -> 650.02845 | CF24: ='SMMR-Calcs'!AT29 -> 0.13667566 | CG24: ='SMMR-Calcs'!AV29 -> 2106.0922 | CI24: =$BM$56 -> 22 | CQ24: =$BM$56 -> 22 | CT24: =BK24 -> 46 | CU24: =BL24 -> 24 | CV24: =BM24 -> 82 | CW24: =BN24 -> 1579 | CX24: =BO24 -> 481.2792 | CZ24: ='WNTR-Calcs'!H29 -> 28.330063 | DA24: ='WNTR-Calcs'!K29 -> 22.3644 | DB24: ='WNTR-Calcs'!L29 -> -23.84124 | DC24: ='WNTR-Calcs'!M29 -> -22.52486 | DD24: ='WNTR-Calcs'!S29 -> -5.0814386 | DE24: ='WNTR-Calcs'!R29 -> 0.086085919 | DF24: ='WNTR-Calcs'!AS29 -> -2872.3428 | DG24: ='WNTR-Calcs'!AT29 -> -0.60394179 | DH24: ='WNTR-Calcs'!AV29 -> -9306.3907 | DJ24: =$BM$56 -> 22 | DR24: =$BM$56 -> 22
BA25: Window Unit Width (ft) | BB25: 5.5 | BC25: 4.5 | BD25: 4 | BE25: 4 | BF25: 9 | BG25: 5 | BH25: 5 | BI25: 5.5 | BK25: =BK26+1 -> 45 | BL25: 23 | BM25: =IF(BL25<=0, "XX", BB$42 + BC$42 + BD$42 + BE$42 + BF$42 +BL25) -> 81 | BN25: =IF(BM25="XX", "XX", $BB$9 + BB$44 + BC$44 + BD$44 +BE$44 + BF$44 + BL25*BG$20) -> 1569 | BO25: =IF(BM25="XX", "XX", BN25*0.3048) -> 478.2312 | BP25: =IF( (BL25>0),1, 0) -> 1 | BS25: =BK25 -> 45 | BT25: =BL25 -> 23 | BU25: =BM25 -> 81 | BV25: =BN25 -> 1569 | BW25: =IF(BU25="XX", "XX", BV25*0.3048) -> 478.2312 | BY25: ='SMMR-Calcs'!H30 -> 28.340414 | BZ25: ='SMMR-Calcs'!K30 -> 13.166539 | CA25: ='SMMR-Calcs'!L30 -> 91.19436 | CB25: ='SMMR-Calcs'!M30 -> 72.49854 | CC25: ='SMMR-Calcs'!S30 -> 37.179747 | CD25: ='SMMR-Calcs'!R30 -> 0.066712275 | CE25: ='SMMR-Calcs'!AS30 -> 630.2146 | CF25: ='SMMR-Calcs'!AT30 -> 0.13250958 | CG25: ='SMMR-Calcs'!AV30 -> 2041.8953 | CI25: =$BM$55 -> 25 | CQ25: =$BM$55 -> 25 | CT25: =BK25 -> 45 | CU25: =BL25 -> 23 | CV25: =BM25 -> 81 | CW25: =BN25 -> 1569 | CX25: =BO25 -> 478.2312 | CZ25: ='WNTR-Calcs'!H30 -> 28.340414 | DA25: ='WNTR-Calcs'!K30 -> 22.249809 | DB25: ='WNTR-Calcs'!L30 -> -23.80564 | DC25: ='WNTR-Calcs'!M30 -> -22.50146 | DD25: ='WNTR-Calcs'!S30 -> -5.0753749 | DE25: ='WNTR-Calcs'!R30 -> 0.086110667 | DF25: ='WNTR-Calcs'!AS30 -> -2840.6054 | DG25: ='WNTR-Calcs'!AT30 -> -0.59726865 | DH25: ='WNTR-Calcs'!AV30 -> -9203.5614 | DJ25: =$BM$55 -> 25 | DR25: =$BM$55 -> 25
B26: Appendix C: Commercial & Institutional Building Airtightness Data | AA26: A = Q / ( Cd * ( 2 * ∆P/d ) ^ 0.5 ) | BA26: Window Unit Height (ft) | BB26: 11 | BC26: 10 | BD26: 8 | BE26: 8 | BF26: 10 | BG26: 7 | BH26: 7 | BI26: 8 | BK26: =BK27+1 -> 44 | BL26: 21 | BM26: =IF(BL26<=0, "XX", BB$42 + BC$42 + BD$42 + BE$42 + BF$42 +BL26) -> 79 | BN26: =IF(BM26="XX", "XX", $BB$9 + BB$44 + BC$44 + BD$44 +BE$44 + BF$44 + BL26*BG$20) -> 1549 | BO26: =IF(BM26="XX", "XX", BN26*0.3048) -> 472.1352 | BP26: =IF( (BL26>0),1, 0) -> 1 | BS26: =BK26 -> 44 | BT26: =BL26 -> 21 | BU26: =BM26 -> 79 | BV26: =BN26 -> 1549 | BW26: =IF(BU26="XX", "XX", BV26*0.3048) -> 472.1352 | BY26: ='SMMR-Calcs'!H31 -> 28.361125 | BZ26: ='SMMR-Calcs'!K31 -> 13.013751 | CA26: ='SMMR-Calcs'!L31 -> 91.26556 | CB26: ='SMMR-Calcs'!M31 -> 72.54534 | CC26: ='SMMR-Calcs'!S31 -> 37.208363 | CD26: ='SMMR-Calcs'!R31 -> 0.066751343 | CE26: ='SMMR-Calcs'!AS31 -> 588.25445 | CF26: ='SMMR-Calcs'!AT31 -> 0.12368699 | CG26: ='SMMR-Calcs'!AV31 -> 1905.9444 | CI26: =$BM$54 -> 28 | CQ26: =$BM$54 -> 28 | CT26: =BK26 -> 44 | CU26: =BL26 -> 21 | CV26: =BM26 -> 79 | CW26: =BN26 -> 1549 | CX26: =BO26 -> 472.1352 | CZ26: ='WNTR-Calcs'!H31 -> 28.361125 | DA26: ='WNTR-Calcs'!K31 -> 22.020626 | DB26: ='WNTR-Calcs'!L31 -> -23.73444 | DC26: ='WNTR-Calcs'!M31 -> -22.45466 | DD26: ='WNTR-Calcs'!S31 -> -5.0632471 | DE26: ='WNTR-Calcs'!R31 -> 0.086160178 | DF26: ='WNTR-Calcs'!AS31 -> -2776.1158 | DG26: ='WNTR-Calcs'!AT31 -> -0.58370901 | DH26: ='WNTR-Calcs'!AV31 -> -8994.6153 | DJ26: =$BM$54 -> 28 | DR26: =$BM$54 -> 28
B27: National Institute of Standards & Technology - CONTAM Library - | BA27: OR Window Area (%) | BB27: 60 | BC27: 50 | BD27: 65 | BE27: 65 | BF27: 60 | BG27: 45 | BH27: 45 | BI27: 60 | BK27: =BK28+1 -> 43 | BL27: 20 | BM27: =IF(BL27<=0, "XX", BB$42 + BC$42 + BD$42 + BE$42 + BF$42 +BL27) -> 78 | BN27: =IF(BM27="XX", "XX", $BB$9 + BB$44 + BC$44 + BD$44 +BE$44 + BF$44 + BL27*BG$20) -> 1539 | BO27: =IF(BM27="XX", "XX", BN27*0.3048) -> 469.0872 | BP27: =IF( (BL27>0),1, 0) -> 1 | BS27: =BK27 -> 43 | BT27: =BL27 -> 20 | BU27: =BM27 -> 78 | BV27: =BN27 -> 1539 | BW27: =IF(BU27="XX", "XX", BV27*0.3048) -> 469.0872 | BY27: ='SMMR-Calcs'!H32 -> 28.371485 | BZ27: ='SMMR-Calcs'!K32 -> 12.937357 | CA27: ='SMMR-Calcs'!L32 -> 91.30116 | CB27: ='SMMR-Calcs'!M32 -> 72.56874 | CC27: ='SMMR-Calcs'!S32 -> 37.222676 | CD27: ='SMMR-Calcs'!R32 -> 0.066770883 | CE27: ='SMMR-Calcs'!AS32 -> 565.93524 | CF27: ='SMMR-Calcs'!AT32 -> 0.11899413 | CG27: ='SMMR-Calcs'!AV32 -> 1833.6302 | CI27: =$BM$53 -> 31 | CQ27: =$BM$53 -> 31 | CT27: =BK27 -> 43 | CU27: =BL27 -> 20 | CV27: =BM27 -> 78 | CW27: =BN27 -> 1539 | CX27: =BO27 -> 469.0872 | CZ27: ='WNTR-Calcs'!H32 -> 28.371485 | DA27: ='WNTR-Calcs'!K32 -> 21.906035 | DB27: ='WNTR-Calcs'!L32 -> -23.69884 | DC27: ='WNTR-Calcs'!M32 -> -22.43126 | DD27: ='WNTR-Calcs'!S32 -> -5.0571831 | DE27: ='WNTR-Calcs'!R32 -> 0.086184942 | DF27: ='WNTR-Calcs'!AS32 -> -2743.3399 | DG27: ='WNTR-Calcs'!AT32 -> -0.5768175 | DH27: ='WNTR-Calcs'!AV32 -> -8888.4212 | DJ27: =$BM$53 -> 31 | DR27: =$BM$53 -> 31
B28: 0.0001 | E28: 0.035 | H28: Pi-Po = PD | M28: 0.0741 | P28: OA Air Dens | U28: 0.65 | X28: Cd | BA28: OR Lkg-A % Envl (0.01-0.15) | BB28: 0.95 | BC28: 0.75 | BG28: 0.85 | BH28: 0.95 | BI28: 0.65 | BK28: =BK29+1 -> 42 | BL28: 18 | BM28: =IF(BL28<=0, "XX", BB$42 + BC$42 + BD$42 + BE$42 + BF$42 +BL28) -> 76 | BN28: =IF(BM28="XX", "XX", $BB$9 + BB$44 + BC$44 + BD$44 +BE$44 + BF$44 + BL28*BG$20) -> 1519 | BO28: =IF(BM28="XX", "XX", BN28*0.3048) -> 462.9912 | BP28: =IF( (BL28>0),1, 0) -> 1 | BS28: =BK28 -> 42 | BT28: =BL28 -> 18 | BU28: =BM28 -> 76 | BV28: =BN28 -> 1519 | BW28: =IF(BU28="XX", "XX", BV28*0.3048) -> 462.9912 | BY28: ='SMMR-Calcs'!H33 -> 28.392214 | BZ28: ='SMMR-Calcs'!K33 -> 12.784568 | CA28: ='SMMR-Calcs'!L33 -> 91.37236 | CB28: ='SMMR-Calcs'!M33 -> 72.61554 | CC28: ='SMMR-Calcs'!S33 -> 37.25131 | CD28: ='SMMR-Calcs'!R33 -> 0.066809976 | CE28: ='SMMR-Calcs'!AS33 -> 518.04191 | CF28: ='SMMR-Calcs'!AT33 -> 0.10892403 | CG28: ='SMMR-Calcs'!AV33 -> 1678.4558 | CI28: =$BM$52 -> 34 | CQ28: =$BM$52 -> 34 | CT28: =BK28 -> 42 | CU28: =BL28 -> 18 | CV28: =BM28 -> 76 | CW28: =BN28 -> 1519 | CX28: =BO28 -> 462.9912 | CZ28: ='WNTR-Calcs'!H33 -> 28.392214 | DA28: ='WNTR-Calcs'!K33 -> 21.676853 | DB28: ='WNTR-Calcs'!L33 -> -23.62764 | DC28: ='WNTR-Calcs'!M33 -> -22.38446 | DD28: ='WNTR-Calcs'!S33 -> -5.0450547 | DE28: ='WNTR-Calcs'!R33 -> 0.086234486 | DF28: ='WNTR-Calcs'!AS33 -> -2676.6605 | DG28: ='WNTR-Calcs'!AT33 -> -0.56279742 | DH28: ='WNTR-Calcs'!AV33 -> -8672.3799 | DJ28: =$BM$52 -> 34 | DR28: =$BM$52 -> 34
B29: Element ID | G29: Description | P29: Mean | R29: Max | T29: Mean | W29: Max | AA29: A = Infltr cfm / ft2 Envel Area | BA29: Wall Leakage Area (ft2 / ft2) | BB29: 0.00199 | BC29: 0.00199 | BD29: 0.00199 | BE29: 0.00199 | BF29: 0.00199 | BG29: 0.00199 | BH29: 0.00199 | BI29: 0.00199 | BK29: =BK30+1 -> 41 | BL29: 16 | BM29: =IF(BL29<=0, "XX", BB$42 + BC$42 + BD$42 + BE$42 + BF$42 +BL29) -> 74 | BN29: =IF(BM29="XX", "XX", $BB$9 + BB$44 + BC$44 + BD$44 +BE$44 + BF$44 + BL29*BG$20) -> 1499 | BO29: =IF(BM29="XX", "XX", BN29*0.3048) -> 456.8952 | BP29: =IF( (BL29>0),1, 0) -> 1 | BS29: =BK29 -> 41 | BT29: =BL29 -> 16 | BU29: =BM29 -> 74 | BV29: =BN29 -> 1499 | BW29: =IF(BU29="XX", "XX", BV29*0.3048) -> 456.8952 | BY29: ='SMMR-Calcs'!H34 -> 28.412956 | BZ29: ='SMMR-Calcs'!K34 -> 12.63178 | CA29: ='SMMR-Calcs'!L34 -> 91.44356 | CB29: ='SMMR-Calcs'!M34 -> 72.66234 | CC29: ='SMMR-Calcs'!S34 -> 37.279955 | CD29: ='SMMR-Calcs'!R34 -> 0.066849085 | CE29: ='SMMR-Calcs'!AS34 -> 464.67915 | CF29: ='SMMR-Calcs'!AT34 -> 0.097703923 | CG29: ='SMMR-Calcs'!AV34 -> 1505.5605 | CI29: =$BM$51 -> 37 | CQ29: =$BM$51 -> 37 | CT29: =BK29 -> 41 | CU29: =BL29 -> 16 | CV29: =BM29 -> 74 | CW29: =BN29 -> 1499 | CX29: =BO29 -> 456.8952 | CZ29: ='WNTR-Calcs'!H34 -> 28.412956 | DA29: ='WNTR-Calcs'!K34 -> 21.44767 | DB29: ='WNTR-Calcs'!L34 -> -23.55644 | DC29: ='WNTR-Calcs'!M34 -> -22.33766 | DD29: ='WNTR-Calcs'!S34 -> -5.032926 | DE29: ='WNTR-Calcs'!R34 -> 0.086284053 | DF29: ='WNTR-Calcs'!AS34 -> -2608.3815 | DG29: ='WNTR-Calcs'!AT34 -> -0.54844101 | DH29: ='WNTR-Calcs'!AV34 -> -8451.156 | DJ29: =$BM$51 -> 37 | DR29: =$BM$51 -> 37
B30: Exterior Wall (EW) | M30: Leakg ( cm2 / m2 ) | T30: Leakg ( ft2 / ft2 ) | AA30: B = ft2 / ft2 Leakage Area | BA30: Wndw Leakg Area (ft2 / ft2) | BB30: 0.00065 | BC30: 0.00025 | BD30: 0.00017 | BE30: 0.00017 | BF30: 0.00035 | BG30: 0.00035 | BH30: 0.00035 | BI30: 0.00025 | BK30: =BK31+1 -> 40 | BL30: 13 | BM30: =IF(BL30<=0, "XX", BB$42 + BC$42 + BD$42 + BE$42 + BF$42 +BL30) -> 71 | BN30: =IF(BM30="XX", "XX", $BB$9 + BB$44 + BC$44 + BD$44 +BE$44 + BF$44 + BL30*BG$20) -> 1469 | BO30: =IF(BM30="XX", "XX", BN30*0.3048) -> 447.7512 | BP30: =IF( (BL30>0),1, 0) -> 1 | BS30: =BK30 -> 40 | BT30: =BL30 -> 13 | BU30: =BM30 -> 71 | BV30: =BN30 -> 1469 | BW30: =IF(BU30="XX", "XX", BV30*0.3048) -> 447.7512 | BY30: ='SMMR-Calcs'!H35 -> 28.444091 | BZ30: ='SMMR-Calcs'!K35 -> 12.402597 | CA30: ='SMMR-Calcs'!L35 -> 91.55036 | CB30: ='SMMR-Calcs'!M35 -> 72.73254 | CC30: ='SMMR-Calcs'!S35 -> 37.322944 | CD30: ='SMMR-Calcs'!R35 -> 0.066907779 | CE30: ='SMMR-Calcs'!AS35 -> 369.16188 | CF30: ='SMMR-Calcs'!AT35 -> 0.077620363 | CG30: ='SMMR-Calcs'!AV35 -> 1196.0845 | CI30: =$BM$50 -> 36 | CQ30: =$BM$50 -> 36 | CT30: =BK30 -> 40 | CU30: =BL30 -> 13 | CV30: =BM30 -> 71 | CW30: =BN30 -> 1469 | CX30: =BO30 -> 447.7512 | CZ30: ='WNTR-Calcs'!H35 -> 28.444091 | DA30: ='WNTR-Calcs'!K35 -> 21.103896 | DB30: ='WNTR-Calcs'!L35 -> -23.44964 | DC30: ='WNTR-Calcs'!M35 -> -22.26746 | DD30: ='WNTR-Calcs'!S35 -> -5.0147322 | DE30: ='WNTR-Calcs'!R35 -> 0.086358443 | DF30: ='WNTR-Calcs'!AS35 -> -2502.6765 | DG30: ='WNTR-Calcs'!AT35 -> -0.52621536 | DH30: ='WNTR-Calcs'!AV35 -> -8108.6718 | DJ30: =$BM$50 -> 36 | DR30: =$BM$50 -> 36
B31: WLEXMA | G31: EW, masonry | P31: 4.2 | R31: 11.4 | T31: =P31*$B$28 -> 0.00042 | W31: =R31*$B$28 -> 0.00114 | AA31: A | AD31: B | BA31: Envel Leakage Flow Coeff | BB31: 0.65 | BC31: 0.65 | BD31: 0.65 | BE31: 0.65 | BF31: 0.65 | BG31: 0.65 | BH31: 0.65 | BI31: 0.65 | BK31: =BK32+1 -> 39 | BL31: 10 | BM31: =IF(BL31<=0, "XX", BB$42 + BC$42 + BD$42 + BE$42 + BF$42 +BL31) -> 68 | BN31: =IF(BM31="XX", "XX", $BB$9 + BB$44 + BC$44 + BD$44 +BE$44 + BF$44 + BL31*BG$20) -> 1439 | BO31: =IF(BM31="XX", "XX", BN31*0.3048) -> 438.6072 | BP31: =IF( (BL31>0),1, 0) -> 1 | BS31: =BK31 -> 39 | BT31: =BL31 -> 10 | BU31: =BM31 -> 68 | BV31: =BN31 -> 1439 | BW31: =IF(BU31="XX", "XX", BV31*0.3048) -> 438.6072 | BY31: ='SMMR-Calcs'!H36 -> 28.475254 | BZ31: ='SMMR-Calcs'!K36 -> 12.173415 | CA31: ='SMMR-Calcs'!L36 -> 91.65716 | CB31: ='SMMR-Calcs'!M36 -> 72.80274 | CC31: ='SMMR-Calcs'!S36 -> 37.365958 | CD31: ='SMMR-Calcs'!R36 -> 0.066966509 | CE31: ='SMMR-Calcs'!AS36 -> 235.48265 | CF31: ='SMMR-Calcs'!AT36 -> 0.049512828 | CG31: ='SMMR-Calcs'!AV36 -> 762.96379 | CI31: =$BM$49 -> 38 | CQ31: =$BM$49 -> 38 | CT31: =BK31 -> 39 | CU31: =BL31 -> 10 | CV31: =BM31 -> 68 | CW31: =BN31 -> 1439 | CX31: =BO31 -> 438.6072 | CZ31: ='WNTR-Calcs'!H36 -> 28.475254 | DA31: ='WNTR-Calcs'!K36 -> 20.760122 | DB31: ='WNTR-Calcs'!L36 -> -23.34284 | DC31: ='WNTR-Calcs'!M36 -> -22.19726 | DD31: ='WNTR-Calcs'!S36 -> -4.9965375 | DE31: ='WNTR-Calcs'!R36 -> 0.086432883 | DF31: ='WNTR-Calcs'!AS36 -> -2392.5617 | DG31: ='WNTR-Calcs'!AT36 -> -0.50306251 | DH31: ='WNTR-Calcs'!AV36 -> -7751.8998 | DJ31: =$BM$49 -> 38 | DR31: =$BM$49 -> 38
B32: WLEXCP | G32: EW, concrete panel | P32: 4 | R32: 10 | T32: =P32*$B$28 -> 0.0004 | W32: =R32*$B$28 -> 0.001 | AA32: cfm/ft2 | AD32: ft2/ft2 | BA32: Indr-Outdr PD (in.wg) PI - PO | BB32: 0.005 | BC32: 0.015 | BD32: 0.025 | BE32: 0.025 | BF32: 0.02 | BG32: 0.01 | BH32: 0.01 | BI32: 0.015 | BK32: =BK33+1 -> 38 | BL32: 7 | BM32: =IF(BL32<=0, "XX", BB$42 + BC$42 + BD$42 + BE$42 + BF$42 +BL32) -> 65 | BN32: =IF(BM32="XX", "XX", $BB$9 + BB$44 + BC$44 + BD$44 +BE$44 + BF$44 + BL32*BG$20) -> 1409 | BO32: =IF(BM32="XX", "XX", BN32*0.3048) -> 429.4632 | BP32: =IF( (BL32>0),1, 0) -> 1 | BS32: =BK32 -> 38 | BT32: =BL32 -> 7 | BU32: =BM32 -> 65 | BV32: =BN32 -> 1409 | BW32: =IF(BU32="XX", "XX", BV32*0.3048) -> 429.4632 | BY32: ='SMMR-Calcs'!H37 -> 28.506445 | BZ32: ='SMMR-Calcs'!K37 -> 11.944232 | CA32: ='SMMR-Calcs'!L37 -> 91.76396 | CB32: ='SMMR-Calcs'!M37 -> 72.87294 | CC32: ='SMMR-Calcs'!S37 -> 37.408999 | CD32: ='SMMR-Calcs'!R37 -> 0.067025276 | CE32: ='SMMR-Calcs'!AS37 -> -162.9679 | CF32: ='SMMR-Calcs'!AT37 -> -0.0342658 | CG32: ='SMMR-Calcs'!AV37 -> -528.016 | CI32: =$BM$48 -> 40 | CQ32: =$BM$48 -> 40 | CT32: =BK32 -> 38 | CU32: =BL32 -> 7 | CV32: =BM32 -> 65 | CW32: =BN32 -> 1409 | CX32: =BO32 -> 429.4632 | CZ32: ='WNTR-Calcs'!H37 -> 28.506445 | DA32: ='WNTR-Calcs'!K37 -> 20.416348 | DB32: ='WNTR-Calcs'!L37 -> -23.23604 | DC32: ='WNTR-Calcs'!M37 -> -22.12706 | DD32: ='WNTR-Calcs'!S37 -> -4.978342 | DE32: ='WNTR-Calcs'!R37 -> 0.086507372 | DF32: ='WNTR-Calcs'!AS37 -> -2277.3975 | DG32: ='WNTR-Calcs'!AT37 -> -0.47884796 | DH32: ='WNTR-Calcs'!AV37 -> -7378.7678 | DJ32: =$BM$48 -> 40 | DR32: =$BM$48 -> 40
B33: WLEXFRMA | G33: EW, frame/masonry | P33: 9.1 | R33: 19.9 | T33: =P33*$B$28 -> 0.00091 | W33: =R33*$B$28 -> 0.00199 | AA33: 0 | AD33: =AA33/($U$28*(2*$E$28)^0.5) -> 0 | AQ33: Offices | BA33: Occup / Floor Area (P / ft2) | BB33: 50 | BC33: 30 | BD33: 100 | BE33: 150 | BF33: 150 | BG33: 250 | BH33: 250 | BI33: 75 | BK33: =BK34+1 -> 37 | BL33: 5 | BM33: =IF(BL33<=0, "XX", BB$42 + BC$42 + BD$42 + BE$42 + BF$42 +BL33) -> 63 | BN33: =IF(BM33="XX", "XX", $BB$9 + BB$44 + BC$44 + BD$44 +BE$44 + BF$44 + BL33*BG$20) -> 1389 | BO33: =IF(BM33="XX", "XX", BN33*0.3048) -> 423.3672 | BP33: =IF( (BL33>0),1, 0) -> 1 | BS33: =BK33 -> 37 | BT33: =BL33 -> 5 | BU33: =BM33 -> 63 | BV33: =BN33 -> 1389 | BW33: =IF(BU33="XX", "XX", BV33*0.3048) -> 423.3672 | BY33: ='SMMR-Calcs'!H38 -> 28.527254 | BZ33: ='SMMR-Calcs'!K38 -> 11.791444 | CA33: ='SMMR-Calcs'!L38 -> 91.83516 | CB33: ='SMMR-Calcs'!M38 -> 72.91974 | CC33: ='SMMR-Calcs'!S38 -> 37.437707 | CD33: ='SMMR-Calcs'!R38 -> 0.067064474 | CE33: ='SMMR-Calcs'!AS38 -> -286.16264 | CF33: ='SMMR-Calcs'!AT38 -> -0.060168855 | CG33: ='SMMR-Calcs'!AV38 -> -927.16696 | CI33: =$BM$47 -> 43 | CQ33: =$BM$47 -> 43 | CT33: =BK33 -> 37 | CU33: =BL33 -> 5 | CV33: =BM33 -> 63 | CW33: =BN33 -> 1389 | CX33: =BO33 -> 423.3672 | CZ33: ='WNTR-Calcs'!H38 -> 28.527254 | DA33: ='WNTR-Calcs'!K38 -> 20.187166 | DB33: ='WNTR-Calcs'!L38 -> -23.16484 | DC33: ='WNTR-Calcs'!M38 -> -22.08026 | DD33: ='WNTR-Calcs'!S38 -> -4.9662111 | DE33: ='WNTR-Calcs'!R38 -> 0.086557059 | DF33: ='WNTR-Calcs'!AS38 -> -2197.4255 | DG33: ='WNTR-Calcs'!AT38 -> -0.46203298 | DH33: ='WNTR-Calcs'!AV38 -> -7119.6587 | DJ33: =$BM$47 -> 43 | DR33: =$BM$47 -> 43
B34: WLEXFR | G34: EW, frame | P34: 8.6 | R34: 15.6 | T34: =P34*$B$28 -> 0.00086 | W34: =R34*$B$28 -> 0.00156 | AA34: =AA33 + 0.005 -> 0.005 | AD34: =AA34/($U$28*(2*$E$28)^0.5) -> 0.02907419 | BA34: Outdr Air / Person (cfm / P) | BB34: 15 | BC34: 10 | BD34: 20 | BE34: 20 | BF34: 15 | BG34: 30 | BH34: 30 | BI34: 25 | BK34: =BK35+1 -> 36 | BL34: 3 | BM34: =IF(BL34<=0, "XX", BB$42 + BC$42 + BD$42 + BE$42 + BF$42 +BL34) -> 61 | BN34: =IF(BM34="XX", "XX", $BB$9 + BB$44 + BC$44 + BD$44 +BE$44 + BF$44 + BL34*BG$20) -> 1369 | BO34: =IF(BM34="XX", "XX", BN34*0.3048) -> 417.2712 | BP34: =IF( (BL34>0),1, 0) -> 1 | BS34: =BK34 -> 36 | BT34: =BL34 -> 3 | BU34: =BM34 -> 61 | BV34: =BN34 -> 1369 | BW34: =IF(BU34="XX", "XX", BV34*0.3048) -> 417.2712 | BY34: ='SMMR-Calcs'!H39 -> 28.548075 | BZ34: ='SMMR-Calcs'!K39 -> 11.638655 | CA34: ='SMMR-Calcs'!L39 -> 91.90636 | CB34: ='SMMR-Calcs'!M39 -> 72.96654 | CC34: ='SMMR-Calcs'!S39 -> 37.466426 | CD34: ='SMMR-Calcs'!R39 -> 0.067103689 | CE34: ='SMMR-Calcs'!AS39 -> -371.14013 | CF34: ='SMMR-Calcs'!AT39 -> -0.078036311 | CG34: ='SMMR-Calcs'!AV39 -> -1202.494 | CI34: =$BM$46 -> 47 | CQ34: =$BM$46 -> 47 | CT34: =BK34 -> 36 | CU34: =BL34 -> 3 | CV34: =BM34 -> 61 | CW34: =BN34 -> 1369 | CX34: =BO34 -> 417.2712 | CZ34: ='WNTR-Calcs'!H39 -> 28.548075 | DA34: ='WNTR-Calcs'!K39 -> 19.957983 | DB34: ='WNTR-Calcs'!L39 -> -23.09364 | DC34: ='WNTR-Calcs'!M39 -> -22.03346 | DD34: ='WNTR-Calcs'!S39 -> -4.9540798 | DE34: ='WNTR-Calcs'!R39 -> 0.086606768 | DF34: ='WNTR-Calcs'!AS39 -> -2114.5599 | DG34: ='WNTR-Calcs'!AT39 -> -0.44460957 | DH34: ='WNTR-Calcs'!AV39 -> -6851.1742 | DJ34: =$BM$46 -> 47 | DR34: =$BM$46 -> 47
B35: WLEXMN | G35: EW, manufactured | P35: 4.3 | R35: 8.7 | T35: =P35*$B$28 -> 0.00043 | W35: =R35*$B$28 -> 0.00087 | AA35: =AA34 + 0.005 -> 0.01 | AD35: =AA35/($U$28*(2*$E$28)^0.5) -> 0.05814838 | BA35: Exhaust (cfm/ft2 Core-Zn) | BB35: 1.5 | BC35: 1.5 | BD35: 1.5 | BE35: 1.5 | BF35: 1.5 | BG35: 1.5 | BH35: 1.5 | BI35: 1.5 | BK35: =BK37+1 -> 35 | BL35: 1 | BM35: =IF(BL35<=0, "XX", BB$42 + BC$42 + BD$42 + BE$42 + BF$42 +BL35) -> 59 | BN35: =IF(BM35="XX", "XX", $BB$9 + BB$44 + BC$44 + BD$44 +BE$44 + BF$44 + BL35*BG$20) -> 1349 | BO35: =IF(BM35="XX", "XX", BN35*0.3048) -> 411.1752 | BP35: =IF( (BL35>0),1, 0) -> 1 | BS35: =BK35 -> 35 | BT35: =BL35 -> 1 | BU35: =BM35 -> 59 | BV35: =BN35 -> 1349 | BW35: =IF(BU35="XX", "XX", BV35*0.3048) -> 411.1752 | BY35: ='SMMR-Calcs'!H40 -> 28.568909 | BZ35: ='SMMR-Calcs'!K40 -> 11.485867 | CA35: ='SMMR-Calcs'!L40 -> 91.97756 | CB35: ='SMMR-Calcs'!M40 -> 73.01334 | CC35: ='SMMR-Calcs'!S40 -> 37.495157 | CD35: ='SMMR-Calcs'!R40 -> 0.067142919 | CE35: ='SMMR-Calcs'!AS40 -> -440.59773 | CF35: ='SMMR-Calcs'!AT40 -> -0.092640538 | CG35: ='SMMR-Calcs'!AV40 -> -1427.5366 | CI35: =$BM$45 -> 51 | CQ35: =$BM$45 -> 51 | CT35: =BK35 -> 35 | CU35: =BL35 -> 1 | CV35: =BM35 -> 59 | CW35: =BN35 -> 1349 | CX35: =BO35 -> 411.1752 | CZ35: ='WNTR-Calcs'!H40 -> 28.568909 | DA35: ='WNTR-Calcs'!K40 -> 19.728801 | DB35: ='WNTR-Calcs'!L40 -> -23.02244 | DC35: ='WNTR-Calcs'!M40 -> -21.98666 | DD35: ='WNTR-Calcs'!S40 -> -4.9419482 | DE35: ='WNTR-Calcs'!R40 -> 0.086656499 | DF35: ='WNTR-Calcs'!AS40 -> -2028.446 | DG35: ='WNTR-Calcs'!AT40 -> -0.42650318 | DH35: ='WNTR-Calcs'!AV40 -> -6572.1652 | DJ35: =$BM$45 -> 51 | DR35: =$BM$45 -> 51
B36: WLEXME | G36: EW, metal | P36: 4.6 | R36: 8 | T36: =P36*$B$28 -> 0.00046 | W36: =R36*$B$28 -> 0.0008 | AA36: =AA35 + 0.005 -> 0.015 | AD36: =AA36/($U$28*(2*$E$28)^0.5) -> 0.087222571 | AM36: S-5 | AP36: MECHANICAL Flr | BA36: OR Exhaust / floor (cfm) | BB36: =BB16*BB17 * $BE$10/100 *2 -> 15360 | BC36: =BC16*BC17 * $BE$10/100 *2 -> 11200 | BG36: =BG16*BG17 * $BE$10/100 *2 -> 3600 | BH36: =BH16*BH17 * $BE$10/100 *2 -> 3600 | BI36: =BI16*BI17 * $BE$10/100 *2 -> 3600 | BK36: Section >> | BM36: =BF14 -> 5-Srv | BN36: # flrs >> | BO36: =BF42 -> 5 | BP36: =SUM(BP37:BP42) -> 5 | BS36: =BK36 -> Section >> | BU36: =BM36 -> 5-Srv | BV36: =BN36 -> # flrs >> | BW36: =BO36 -> 5 | BY36: in.Hg | BZ36: Wnd-V | CA36: Tdb | CB36: Twb | CC36: Enth | CD36: Dens | CE36: Q cfm | CF36: Q/ EnA | CG36: Tons | CI36: =$BM$44 -> 53 | CQ36: =$BM$44 -> 53 | CT36: =BK36 -> Section >> | CV36: =BM36 -> 5-Srv | CW36: =BN36 -> # flrs >> | CX36: =BO36 -> 5 | CZ36: in.Hg | DA36: Wnd-V | DB36: Tdb | DC36: Twb | DD36: Enth | DE36: Dens | DF36: Q cfm | DG36: Q/ EnA | DH36: Tons | DJ36: =$BM$44 -> 53 | DR36: =$BM$44 -> 53
B37: WLEXCW | G37: EW, curtain wall | P37: 2.7 | R37: 6.9 | T37: =P37*$B$28 -> 0.00027 | W37: =R37*$B$28 -> 0.00069 | AA37: =AA36 + 0.005 -> 0.02 | AD37: =AA37/($U$28*(2*$E$28)^0.5) -> 0.11629676 | BA37: Perm-Zone Sup Air (cfm / ft2) | BB37: 2.1 | BC37: 2.1 | BD37: 2.1 | BE37: 2.1 | BF37: 2.1 | BG37: 2.1 | BH37: 2.1 | BI37: 2.1 | BK37: =BK38+1 -> 34 | BL37: 0 | BM37: =IF(BL37<=0, "XX", BB$42 + BC$42 + BD$42 + BE$42 + BF$42 +BL37) -> XX | BN37: =IF(BM37="XX", "XX", $BB$9 + BB$44 + BC$44 + BD$44 +BE$44 + BF$44 + BL37*BG$20) -> XX | BO37: =IF(BM37="XX", "XX", BN37*0.3048) -> XX | BP37: =IF( (BL37>0),1, 0) -> 0 | BS37: =BK37 -> 34 | BT37: =BL37 -> 0 | BU37: =BM37 -> XX | BV37: =BN37 -> XX | BW37: =IF(BU37="XX", "XX", BV37*0.3048) -> XX | BY37: ='SMMR-Calcs'!H42 -> XX | BZ37: ='SMMR-Calcs'!K42 -> XX | CA37: ='SMMR-Calcs'!L42 -> XX | CB37: ='SMMR-Calcs'!M42 -> XX | CC37: ='SMMR-Calcs'!S42 -> XX | CD37: ='SMMR-Calcs'!R42 -> XX | CE37: ='SMMR-Calcs'!AS42 -> 0 | CF37: ='SMMR-Calcs'!AT42 -> XX | CG37: ='SMMR-Calcs'!AV42 -> 0 | CI37: =$BM$43 -> 4-Ofc | CQ37: =$BM$43 -> 4-Ofc | CT37: =BK37 -> 34 | CU37: =BL37 -> 0 | CV37: =BM37 -> XX | CW37: =BN37 -> XX | CX37: =BO37 -> XX | CZ37: ='WNTR-Calcs'!H42 -> XX | DA37: ='WNTR-Calcs'!K42 -> XX | DB37: ='WNTR-Calcs'!L42 -> XX | DC37: ='WNTR-Calcs'!M42 -> XX | DD37: ='WNTR-Calcs'!S42 -> XX | DE37: ='WNTR-Calcs'!R42 -> XX | DF37: ='WNTR-Calcs'!AS42 -> 0 | DG37: ='WNTR-Calcs'!AT42 -> XX | DH37: ='WNTR-Calcs'!AV42 -> 0 | DJ37: =$BM$43 -> 4-Ofc | DR37: =$BM$43 -> 4-Ofc
B38: WLEXOF | G38: EW, office bldg | P38: 4.1 | R38: 19.9 | T38: =P38*$B$28 -> 0.00041 | W38: =R38*$B$28 -> 0.00199 | AA38: =AA37 + 0.005 -> 0.025 | AD38: =AA38/($U$28*(2*$E$28)^0.5) -> 0.14537095 | BA38: Core-Zone Sup Air (cfm / ft2) | BB38: 1.5 | BC38: 1.5 | BD38: 1.5 | BE38: 1.5 | BF38: 1.5 | BG38: 1.5 | BH38: 1.5 | BI38: 1.5 | BK38: =BK39+1 -> 33 | BL38: 5 | BM38: =IF(BL38<=0, "XX", BB$42 + BC$42 + BD$42 + BE$42+BL38) -> 58 | BN38: =IF(BM38="XX", "XX", $BB$9 + BB$44 + BC$44 + BD$44 +BE$44 + BL38*BF$20) -> 1339 | BO38: =IF(BM38="XX", "XX", BN38*0.3048) -> 408.1272 | BP38: =IF( (BL38>0),1, 0) -> 1 | BS38: =BK38 -> 33 | BT38: =BL38 -> 5 | BU38: =BM38 -> 58 | BV38: =BN38 -> 1339 | BW38: =IF(BU38="XX", "XX", BV38*0.3048) -> 408.1272 | BY38: ='SMMR-Calcs'!H43 -> 28.57933 | BZ38: ='SMMR-Calcs'!K43 -> 11.409473 | CA38: ='SMMR-Calcs'!L43 -> 92.01316 | CB38: ='SMMR-Calcs'!M43 -> 73.03674 | CC38: ='SMMR-Calcs'!S43 -> 37.509526 | CD38: ='SMMR-Calcs'!R43 -> 0.067162541 | CE38: ='SMMR-Calcs'!AS43 -> -234.40076 | CF38: ='SMMR-Calcs'!AT43 -> -0.024416745 | CG38: ='SMMR-Calcs'!AV43 -> -759.45845 | CI38: =$BM$42 -> 54 | CQ38: =$BM$42 -> 54 | CT38: =BK38 -> 33 | CU38: =BL38 -> 5 | CV38: =BM38 -> 58 | CW38: =BN38 -> 1339 | CX38: =BO38 -> 408.1272 | CZ38: ='WNTR-Calcs'!H43 -> 28.57933 | DA38: ='WNTR-Calcs'!K43 -> 19.614209 | DB38: ='WNTR-Calcs'!L43 -> -22.98684 | DC38: ='WNTR-Calcs'!M43 -> -21.96326 | DD38: ='WNTR-Calcs'!S43 -> -4.9358822 | DE38: ='WNTR-Calcs'!R43 -> 0.086681373 | DF38: ='WNTR-Calcs'!AS43 -> -507.33456 | DG38: ='WNTR-Calcs'!AT43 -> -0.05284735 | DH38: ='WNTR-Calcs'!AV43 -> -1643.764 | DJ38: =$BM$42 -> 54 | DR38: =$BM$42 -> 54
B39: WLEXSC | G39: EW, school | P39: 3.1 | R39: 8.6 | T39: =P39*$B$28 -> 0.00031 | W39: =R39*$B$28 -> 0.00086 | AA39: =AA38 + 0.005 -> 0.03 | AD39: =AA39/($U$28*(2*$E$28)^0.5) -> 0.17444514 | BA39: Inter-Zone Sup Air (cfm / ft2) | BB39: 1.1 | BC39: 1.1 | BD39: 1.1 | BE39: 1.1 | BF39: 1.1 | BG39: 1.1 | BH39: 1.1 | BI39: 1.1 | BK39: =BK40+1 -> 32 | BL39: 4 | BM39: =IF(BL39<=0, "XX", BB$42 + BC$42 + BD$42 + BE$42+BL39) -> 57 | BN39: =IF(BM39="XX", "XX", $BB$9 + BB$44 + BC$44 + BD$44 +BE$44 + BL39*BF$20) -> 1324 | BO39: =IF(BM39="XX", "XX", BN39*0.3048) -> 403.5552 | BP39: =IF( (BL39>0),1, 0) -> 1 | BS39: =BK39 -> 32 | BT39: =BL39 -> 4 | BU39: =BM39 -> 57 | BV39: =BN39 -> 1324 | BW39: =IF(BU39="XX", "XX", BV39*0.3048) -> 403.5552 | BY39: ='SMMR-Calcs'!H44 -> 28.594968 | BZ39: ='SMMR-Calcs'!K44 -> 11.294882 | CA39: ='SMMR-Calcs'!L44 -> 92.06656 | CB39: ='SMMR-Calcs'!M44 -> 73.07184 | CC39: ='SMMR-Calcs'!S44 -> 37.531086 | CD39: ='SMMR-Calcs'!R44 -> 0.06719198 | CE39: ='SMMR-Calcs'!AS44 -> -239.5192 | CF39: ='SMMR-Calcs'!AT44 -> -0.024949917 | CG39: ='SMMR-Calcs'!AV44 -> -776.04222 | CI39: =$BM$41 -> 55 | CQ39: =$BM$41 -> 55 | CT39: =BK39 -> 32 | CU39: =BL39 -> 4 | CV39: =BM39 -> 57 | CW39: =BN39 -> 1324 | CX39: =BO39 -> 403.5552 | CZ39: ='WNTR-Calcs'!H44 -> 28.594968 | DA39: ='WNTR-Calcs'!K44 -> 19.442322 | DB39: ='WNTR-Calcs'!L44 -> -22.93344 | DC39: ='WNTR-Calcs'!M44 -> -21.92816 | DD39: ='WNTR-Calcs'!S44 -> -4.926783 | DE39: ='WNTR-Calcs'!R44 -> 0.086718694 | DF39: ='WNTR-Calcs'!AS44 -> -492.07247 | DG39: ='WNTR-Calcs'!AT44 -> -0.051257549 | DH39: ='WNTR-Calcs'!AV44 -> -1594.3148 | DJ39: =$BM$41 -> 55 | DR39: =$BM$41 -> 55
B40: WLEXID | G40: EW, industrial bldg | P40: 3.8 | R40: 15.6 | T40: =P40*$B$28 -> 0.00038 | W40: =R40*$B$28 -> 0.00156 | AA40: =AA39 + 0.005 -> 0.035 | AD40: =AA40/($U$28*(2*$E$28)^0.5) -> 0.20351933 | BK40: =BK41+1 -> 31 | BL40: 3 | BM40: =IF(BL40<=0, "XX", BB$42 + BC$42 + BD$42 + BE$42+BL40) -> 56 | BN40: =IF(BM40="XX", "XX", $BB$9 + BB$44 + BC$44 + BD$44 +BE$44 + BL40*BF$20) -> 1309 | BO40: =IF(BM40="XX", "XX", BN40*0.3048) -> 398.9832 | BP40: =IF( (BL40>0),1, 0) -> 1 | BS40: =BK40 -> 31 | BT40: =BL40 -> 3 | BU40: =BM40 -> 56 | BV40: =BN40 -> 1309 | BW40: =IF(BU40="XX", "XX", BV40*0.3048) -> 398.9832 | BY40: ='SMMR-Calcs'!H45 -> 28.610613 | BZ40: ='SMMR-Calcs'!K45 -> 11.18029 | CA40: ='SMMR-Calcs'!L45 -> 92.11996 | CB40: ='SMMR-Calcs'!M45 -> 73.10694 | CC40: ='SMMR-Calcs'!S45 -> 37.552652 | CD40: ='SMMR-Calcs'!R45 -> 0.067221429 | CE40: ='SMMR-Calcs'!AS45 -> -244.56505 | CF40: ='SMMR-Calcs'!AT45 -> -0.025475526 | CG40: ='SMMR-Calcs'!AV45 -> -792.39075 | CI40: =$BM$40 -> 56 | CQ40: =$BM$40 -> 56 | CT40: =BK40 -> 31 | CU40: =BL40 -> 3 | CV40: =BM40 -> 56 | CW40: =BN40 -> 1309 | CX40: =BO40 -> 398.9832 | CZ40: ='WNTR-Calcs'!H45 -> 28.610613 | DA40: ='WNTR-Calcs'!K45 -> 19.270435 | DB40: ='WNTR-Calcs'!L45 -> -22.88004 | DC40: ='WNTR-Calcs'!M45 -> -21.89306 | DD40: ='WNTR-Calcs'!S45 -> -4.9176837 | DE40: ='WNTR-Calcs'!R45 -> 0.086756027 | DF40: ='WNTR-Calcs'!AS45 -> -476.33998 | DG40: ='WNTR-Calcs'!AT45 -> -0.049618748 | DH40: ='WNTR-Calcs'!AV45 -> -1543.3415 | DJ40: =$BM$40 -> 56 | DR40: =$BM$40 -> 56
...

Sheet SMMR-Calcs
A1: 1 | B1: 5 | C1: 5 | D1: 5 | E1: 6 | F1: 6 | G1: 6 | H1: 6 | I1: 6.5 | J1: 6 | K1: 6 | L1: 6 | M1: 6 | N1: 6 | O1: 7 | P1: 6 | Q1: 6 | R1: 7.5 | S1: 7 | T1: 6 | U1: 6 | V1: 7 | W1: 6.5 | X1: 6.5 | Y1: 6.5 | Z1: 6.5 | AA1: 6.5 | AB1: 7.5 | AC1: 6.5 | AD1: 2 | AE1: 2 | AF1: 5 | AG1: 5 | AH1: 5 | AI1: 6 | AJ1: 6 | AL1: 6.5 | AM1: 6.5 | AN1: 6.5 | AO1: 6.5 | AP1: 6.5 | AQ1: 6.5 | AR1: 9 | AS1: 6.5 | AT1: 6.5 | AU1: 7 | AV1: 9
B2: Site Altit | D2: ='Input-Output'!BB9 -> 500 | E2: Bldg-H | F2: ='Input-Output'!AZ68 -> 1309 | G2: NPL-H | H2: ='Input-Output'!BA68 -> 654.5 | I2: Total Bldg Area | K2: ='Input-Output'!BC68 -> 2782800 | M2: Total Envel Area | O2: ='Input-Output'!BE68 -> 834612.65 | Q2: Leakg-A | R2: ='Input-Output'!BG68 -> 3126.9737 | S2: Wnd-Vel Diff | U2: ='Input-Output'!BH6 - 'Input-Output'!BH5 -> 10 | W2: Temp Drop with Altitude | Z2: DB | AA2: 0.00356 | AB2: WB | AC2: 0.00234 | AF2: ∆PS = C1*ρO* [ (TO - TI) / TI ] * g * (HNPL - H) | AL2: ∆PS = | AM2: Stack Effect Press Diff (in.wg) | AQ2: PI - PO | AR2: Bldg Pressuriz (Indr Press - Outdr Press)
E3: Alt ref Sea-Lvl | G3: Outdr Std. Atm. Press. @ Altit | K3: Wnd V | L3: DB | M3: WB | N3: DP | O3: W | P3: RH | Q3: V | R3: d | S3: H | T3: Tdb | U3: Twb | W3: Psychrometric Calculations for DP, RH, V, W, H, TR | AF3: Q = Cd * A * ( 2 * ∆P/d )0.5 | AJ3: TO (OR) , Ti (OR) | AL3: ∆PW = | AM3: Wind Press (in.wg) | AP3: UH = mph | AR3: ρO = OA dens | AT3: Coolg/yr = CFM*1.08*CDD
E4: feet | F4: meters | G4: K-Pa | H4: in.Hg | I4: in.H2O | J4: psi | K4: mph | L4: F | M4: F | N4: F | O4: lbs/b | P4: % | Q4: ft3/lb | R4: lbs/ft3 | S4: btu/lb | T4: R | U4: R | W4: PWSwb | X4: WSwb | Y4: PWSdb | Z4: VPs | AA4: VPa | AB4: a | AC4: WSdb | AF4: ∆PW = C2 * s2 * CP * ρO * (UH)2 / 2 | AL4: Q = | AM4: Airflow Rate (ft3/sec) | AP4: A = Leakg-A | AR4: Iniltr SHG/hr = CFM * 1.08 (To-Ti))
B5: At Sea-Level | E5: 0 | F5: 0 | G5: =( 101325*(1-2.25577*(10^(-5))*F5)^5.2555 ) /1000 -> 101.325 | H5: =G5*0.2953 -> 29.921273 | I5: =J5*27.7070465550844 -> 406.03448 | J5: =H5/2.041772658 -> 14.654556 | K5: =('Input-Output'!BH5+'Input-Output'!BH6)/2 -> 10 | L5: ='Input-Output'!BH11 -> 75 | M5: ='Input-Output'!BH12 -> 62 | N5: =100.45+33.193*AB5+2.319*AB5^2+0.17074*AB5^3+1.2063*(AA5*0.4897705)^3 -> 53.291934 | O5: =((1093-0.556*M5)*X5 - 0.24*(L5-M5))/(1093 + 0.444*L5-M5) -> 0.0089200822 | P5: =((O5/AC5)/(1-(1-(O5/AC5))*(Y5/J5)))*100 -> 48.128472 | Q5: =0.7543*(T5*(1+1.6078*O5))/H5 -> 13.672833 | R5: =1/Q5 -> 0.073137731 | S5: =0.24*L5+O5*(1061+0.444*L5) -> 27.761246 | T5: =L5+459.7 -> 534.7 | U5: =M5+459.7 -> 521.7 | W5: =EXP((-10440.397/U5)+(-11.29465) + (-0.027022355*U5) + (0.00001289036*U5*U5) + (-0.0000000024780681*U5^3)+(6.5459673*LN(U5))) -> 0.27548168 | X5: =0.62198*W5/(J5-W5) -> 0.011916211 | Y5: =EXP((-10440.397/T5)+(-11.29465) + (-0.027022355*T5) + (0.00001289036*T5*T5) + (-0.0000000024780681*T5^3)+(6.5459673*LN(T5))) -> 0.43050567 | Z5: =Y5*2.041772658 -> 0.8789947 | AA5: =(H5*O5)/(0.62198+O5) -> 0.42304672 | AB5: =LN(AA5*0.4897705) -> -1.574091 | AC5: =0.62198*(Y5/(J5-Y5)) -> 0.018824871 | AF5: Convert K-Pa to | AI5: In.Hg | AJ5: 0.29610503 | AK5: in.wg | AL5: 4.0185658 | AM5: PSI | AN5: 0.14503768 | AO5: C1 = | AP5: 0.000598 | AQ5: g = | AR5: 32.17 | AS5: C2 = | AT5: 0.013 | AU5: Clg-DD | AV5: ='Input-Output'!BH10 -> 2680
B6: Indoor Conditions | E6: =E79 -> 500 | F6: =F79 -> 152.4 | G6: =( 101325*(1-2.25577*(10^(-5))*F6)^5.2555 ) /1000 -> 99.50767 | H6: =G6*0.2953 -> 29.384615 | I6: =J6*27.7070465550844 -> 398.75198 | J6: =H6/2.041772658 -> 14.391717 | K6: =K79 -> 5 | L6: ='Input-Output'!BH11 -> 75 | M6: ='Input-Output'!BH12 -> 62 | N6: =N79 -> 66.078058 | O6: =O79 -> 0.014435891 | P6: =P79 -> 40.069938 | Q6: =Q79 -> 14.52997 | R6: =R79 -> 0.068823267 | S6: =S79 -> 38.725386 | T6: =T79 -> 554.7 | U6: =U79 -> 534.7 | W6: =IF(E6="XX", "XX", EXP((-10440.397/U6)+(-11.29465) + (-0.027022355*U6) + (0.00001289036*U6*U6) + (-0.0000000024780681*U6^3)+(6.5459673*LN(U6))) ) -> 0.43050567 | X6: =IF(E6="XX", "XX", 0.62198*W6/(J6-W6)) -> 0.019179275 | Y6: =IF(E6="XX", "XX", EXP((-10440.397/T6)+(-11.29465) + (-0.027022355*T6) + (0.00001289036*T6*T6) + (-0.0000000024780681*T6^3)+(6.5459673*LN(T6))) ) -> 0.81699856 | Z6: =IF(E6="XX", "XX", Y6*2.041772658 ) -> 1.6681253 | AA6: =IF(E6="XX", "XX", (H6*O6)/(0.62198+O6)) -> 0.6665344 | AB6: =IF(E6="XX", "XX", LN(AA6*0.4897705)) -> -1.1194819 | AC6: =IF(E6="XX", "XX", 0.62198*(Y6/(J6-Y6))) -> 0.037434055 | AF6: Convert in.H20 to | AI6: In.Hg | AJ6: 0.073684257 | AK6: K-Pa | AL6: 0.248845 | AM6: PSI | AN6: 0.036091902 | AO6: s = | AP6: 0.4 | AQ6: CF = | AR6: 0.65 | AS6: CP = | AT6: 0.065 | AU6: SpHt-A | AV6: 0.24
B8: Level | C8: Sctn | D8: Bldg | E8: Alt ref Sea-Lvl | G8: Outdr Std. Atm. Press. @ Altit | K8: Wnd V | L8: DB | M8: WB | N8: DP | O8: W | P8: RH | Q8: V | R8: d | S8: H | T8: Tdb | U8: Twb | W8: Psychrometric Calculations for DP, RH, V, W, H, TR | AF8: Level | AG8: Sctn | AH8: Bldg | AI8: Alt ref Sea-Lvl | AK8: Floor | AL8: Floor | AM8: ∆PS | AN8: ∆PW | AO8: ∆P = | AP8: ∆P + | AQ8: Leakg Q | AR8: Exfl - | AS8: Leakage | AT8: Q / | AU8: SHG | AV8: SHG/yr
