Workbook

Sheet Hi-Rise-Multiuse
H2: =H3 + G3 -> 600 | K2: Top of Cooling Towers = 600 feet | AQ2: =AQ3 + G3 -> 600
F3: RF | G3: 30 | H3: =H4 + G4 -> 570 | R3: RF-L52 | Z3: Cooling Towers | AF3: Roof : 160 x 120 : (80,50,570) | AQ3: =AQ4 + G4 -> 570 | AR3: RF | AS3: RF
F4: =F5 + 1 -> 45 | G4: 20 | H4: =H5 + G5 -> 550 | R4: MER-L45 | V4: H&V | Y4: Mechanical Equipment Room : 160 x 120 x 20 : (80,50,550) | AQ4: =AQ5 + G5 -> 550 | AR4: 20 | AS4: =AS5 + 1 -> 45
F5: =F6 + 1 -> 44 | G5: 15 | H5: =H6 + G6 -> 535 | R5: RST-L44 | V5: VAVS | Y5: Restaurant : 160 x 100 x 15 : (80,50,535) | AQ5: =AQ6 + G6 -> 535 | AR5: 15 | AS5: =AS6 + 1 -> 44
F6: =F7 + 1 -> 43 | G6: 10 | H6: =H7 + G7 -> 525 | J6: Pressure | AQ6: =AQ7 + G7 -> 525 | AR6: 10 | AS6: =AS7 + 1 -> 43
F7: =F8 + 1 -> 42 | G7: 10 | H7: =H8 + G8 -> 515 | J7: Feet x 0.433 = psi | AA7: with partially inset balconies | AQ7: =AQ8 + G8 -> 515 | AR7: 10 | AS7: =AS8 + 1 -> 42
F8: =F9 + 1 -> 41 | G8: 10 | H8: =H9 + G9 -> 505 | S8: 5 floors | AQ8: =AQ9 + G9 -> 505 | AR8: 10 | AS8: =AS9 + 1 -> 41
F9: =F10 + 1 -> 40 | G9: 10 | H9: =H10 + G10 -> 495 | J9: Pipe Height from | S9: PTAC | AL9: Balcony | AQ9: =AQ10 + G10 -> 495 | AR9: 10 | AS9: =AS10 + 1 -> 40
F10: =F11 + 1 -> 39 | G10: 10 | H10: =H11 + G11 -> 485 | J10: B3 (-40') to the Top | R10: Apartments-L34-L48 | AB10: 160 x 120 x 10 : (80,50,485) | AQ10: =AQ11 + G11 -> 485 | AR10: 10 | AS10: =AS11 + 1 -> 39
F11: =F12 + 1 -> 38 | G11: 10 | H11: =H12 + G12 -> 475 | J11: of Cooling Towers = | AQ11: =AQ12 + G12 -> 475 | AR11: 10 | AS11: =AS12 + 1 -> 38
F12: =F13 + 1 -> 37 | G12: 10 | H12: =H13 + G13 -> 465 | J12: 640 feet (277 psi) | AJ12: OPERABLE | AQ12: =AQ13 + G13 -> 465 | AR12: 10 | AS12: =AS13 + 1 -> 37
F13: =F14 + 1 -> 36 | G13: 10 | H13: =H14 + G14 -> 455 | AJ13: WINDOWS | AQ13: =AQ14 + G14 -> 455 | AR13: 10 | AS13: =AS14 + 1 -> 36
F14: =F15 + 1 -> 35 | G14: 10 | H14: =H15 + G15 -> 445 | AQ14: =AQ15 + G15 -> 445 | AR14: 10 | AS14: =AS15 + 1 -> 35
F15: =F16 + 1 -> 34 | G15: 10 | H15: =H16 + G16 -> 435 | AQ15: =AQ16 + G16 -> 435 | AR15: 10 | AS15: =AS16 + 1 -> 34
F16: =F17 + 1 -> 33 | G16: 10 | H16: =H17 + G17 -> 425 | AQ16: =AQ17 + G17 -> 425 | AR16: 10 | AS16: =AS17 + 1 -> 33
F17: =F18 + 1 -> 32 | G17: 10 | H17: =H18 + G18 -> 415 | AQ17: =AQ18 + G18 -> 415 | AR17: 10 | AS17: =AS18 + 1 -> 32
F18: =F19 + 1 -> 31 | G18: 10 | H18: =H19 + G19 -> 405 | AQ18: =AQ19 + G19 -> 405 | AR18: 10 | AS18: =AS19 + 1 -> 31
F19: =F20 + 1 -> 30 | G19: 10 | H19: =H20 + G20 -> 395 | S19: 4-Pipe FCU | AQ19: =AQ20 + G20 -> 395 | AR19: 10 | AS19: =AS20 + 1 -> 30
F20: =F21 + 1 -> 29 | G20: 10 | H20: =H21 + G21 -> 385 | R20: HTL-Rms-L29-L38 | Z20: 10 floors | AD20: 160 x 120 x 10 : (80,50,385) | AQ20: =AQ21 + G21 -> 385 | AR20: 10 | AS20: =AS21 + 1 -> 29
F21: =F22 + 1 -> 28 | G21: 15 | H21: =H22 + G22 -> 370 | P21: Reception - Lobby | W21: Gymnasium | AB21: Health Spa | AF21: Swimming Pool | AQ21: =AQ22 + G22 -> 370 | AR21: 15 | AS21: =AS22 + 1 -> 28
F22: =F23 + 1 -> 27 | G22: 15 | H22: =H23 + G23 -> 355 | P22: Laundry Dry Cleaners | W22: Dance Club / Disc | AB22: Coctail Bar | AF22: Wedding Hall | AQ22: =AQ23 + G23 -> 355 | AR22: 15 | AS22: =AS23 + 1 -> 27
F23: =F24 + 1 -> 26 | G23: 15 | H23: =H24 + G24 -> 340 | P23: Housekeeping - Storage | W23: Meeting Rooms | AB23: Conference Centers | AQ23: =AQ24 + G24 -> 340 | AR23: 15 | AS23: =AS24 + 1 -> 26
F24: =F25 + 1 -> 25 | G24: 15 | H24: =H25 + G25 -> 325 | O24: HTL-Fns-L25-L28 | V24: 4 floors | Z24: 220 x 120 x 15 : (50,40,325) | AQ24: =AQ25 + G25 -> 325 | AR24: 15 | AS24: =AS25 + 1 -> 25
F25: =F26 + 1 -> 24 | G25: 20 | H25: =H26 + G26 -> 305 | O25: MER-L24 | S25: H&V | V25: Mechanical Equipment Room : 220 x 120 x 20 : (50,40,305) | AQ25: =AQ26 + G26 -> 305 | AR25: 20 | AS25: =AS26 + 1 -> 24
C26: ADJACENT BUILDING | F26: =F27 + 1 -> 23 | G26: 13 | H26: =H27 + G27 -> 292 | V26: Toilets, M-E Closets, Shafts | AQ26: =AQ27 + G27 -> 292 | AR26: 13 | AS26: =AS27 + 1 -> 23 | AU26: ADJACENT BUILDING
F27: =F28 + 1 -> 22 | G27: 13 | H27: =H28 + G28 -> 279 | V27: Elevators, Stairs, Lobby, Storage | AH27: ATR-SE | AQ27: =AQ28 + G28 -> 279 | AR27: 13 | AS27: =AS28 + 1 -> 22
F28: =F29 + 1 -> 21 | G28: 13 | H28: =H29 + G29 -> 266 | J28: ATRIUMS | V28: CORE B3-L52 | AH28: Level 19 | AL28: SOUTH | AQ28: =AQ29 + G29 -> 266 | AR28: 13 | AS28: =AS29 + 1 -> 21
F29: =F30 + 1 -> 20 | G29: 13 | H29: =H30 + G30 -> 253 | J29: 30' x 30' x | V29: 80 x 60 (120,70,Z) | AL29: ELEVATION | AQ29: =AQ30 + G30 -> 253 | AR29: 13 | AS29: =AS30 + 1 -> 20
F30: =F31 + 1 -> 19 | G30: 13 | H30: =H31 + G31 -> 240 | J30: 5 levels high | AQ30: =AQ31 + G31 -> 240 | AR30: 13 | AS30: =AS31 + 1 -> 19
F31: =F32 + 1 -> 18 | G31: 13 | H31: =H32 + G32 -> 227 | J31: located on the | AM31: OFFICE | AQ31: =AQ32 + G32 -> 227 | AR31: 13 | AS31: =AS32 + 1 -> 18
F32: =F33 + 1 -> 17 | G32: 13 | H32: =H33 + G33 -> 214 | J32: SE and NW | AH32: ATR-SE | AM32: ATRIUMS | AQ32: =AQ33 + G33 -> 214 | AR32: 13 | AS32: =AS33 + 1 -> 17
F33: =F34 + 1 -> 16 | G33: 13 | H33: =H34 + G34 -> 201 | J33: corners of | AH33: Level 14 | AM33: 5 Flrs High | AQ33: =AQ34 + G34 -> 201 | AR33: 13 | AS33: =AS34 + 1 -> 16
F34: =F35 + 1 -> 15 | G34: 13 | H34: =H35 + G35 -> 188 | J34: Office Floors | AM34: FIXED | AQ34: =AQ35 + G35 -> 188 | AR34: 13 | AS34: =AS35 + 1 -> 15
F35: =F36 + 1 -> 14 | G35: 13 | H35: =H36 + G36 -> 175 | J35: (See Plan View) | AM35: WINDOWS | AQ35: =AQ36 + G36 -> 175 | AR35: 13 | AS35: =AS36 + 1 -> 14
F36: =F37 + 1 -> 13 | G36: 13 | H36: =H37 + G37 -> 162 | AQ36: =AQ37 + G37 -> 162 | AR36: 13 | AS36: =AS37 + 1 -> 13
F37: =F38 + 1 -> 12 | G37: 13 | H37: =H38 + G38 -> 149 | AH37: ATR-SE | AQ37: =AQ38 + G38 -> 149 | AR37: 13 | AS37: =AS38 + 1 -> 12
F38: =F39 + 1 -> 11 | G38: 13 | H38: =H39 + G39 -> 136 | AH38: Level 9 | AQ38: =AQ39 + G39 -> 136 | AR38: 13 | AS38: =AS39 + 1 -> 11
F39: =F40 + 1 -> 10 | G39: 13 | H39: =H40 + G40 -> 123 | P39: VAVS-PIU | AQ39: =AQ40 + G40 -> 123 | AR39: 13 | AS39: =AS40 + 1 -> 10
F40: =F41 + 1 -> 9 | G40: 13 | H40: =H41 + G41 -> 110 | O40: OFC-L9-L23 | U40: 20 floors | Y40: Office : 220 x 120 x 13 : (50,40,110) | AQ40: =AQ41 + G41 -> 110 | AR40: 13 | AS40: =AS41 + 1 -> 9
F41: =F42 + 1 -> 8 | G41: 20 | H41: =H42 + G42 -> 90 | L41: MER-L8 | Q41: Mechanical Equipment Room : 280 x 160 x 20 : (20,20,90) | AQ41: =AQ42 + G42 -> 90 | AR41: 20 | AS41: =AS42 + 1 -> 8
...

Sheet Input-Output
A1: 2 | B1: 6 | C1: 6 | D1: 2 | E1: 7.5 | F1: 7.5 | G1: 7.5 | H1: 7.5 | I1: 7.5 | J1: 7.5 | K1: 7.5 | L1: 7.5 | M1: 7.5 | N1: 7.5 | O1: 7.5 | P1: 2 | Q1: 5.5 | R1: 5.5 | S1: 5.5 | T1: 5.5 | U1: 2 | V1: 2 | W1: 8 | X1: 8 | Y1: 8 | Z1: 8.6 | AA1: 8.6 | AB1: 8.6 | AC1: 8.6 | AD1: 8.6 | AE1: 8.6 | AF1: 8.6 | AG1: 8.6 | AH1: 2 | AI1: 5.5 | AJ1: 5.5 | AK1: 5.5 | AL1: 5.5 | AM1: 5.5 | AN1: 2 | AO1: 2 | AP1: 5 | AQ1: 5 | AR1: 5 | AS1: 5 | AT1: 2 | AU1: 7.5 | AV1: 7.5 | AW1: 7.5 | AX1: 7.5 | AY1: 7.5 | AZ1: 7.5 | BA1: 8 | BB1: 8 | BC1: 8 | BD1: 8 | BE1: 8 | BF1: 8 | BG1: 8 | BH1: 2 | BI1: 2 | BJ1: 5 | BK1: 5 | BL1: 5 | BM1: 5 | BO1: 7.5 | BP1: 7.5 | BQ1: 7.5 | BR1: 7.5 | BS1: 7.5 | BT1: 7.5 | BU1: 8 | BV1: 8 | BW1: 8 | BX1: 8 | BY1: 8 | BZ1: 8 | CA1: 8 | CB1: 2 | CC1: 2 | CD1: 5 | CE1: 5 | CF1: 5 | CG1: 5 | CH1: 2 | CI1: 6 | CJ1: 6 | CK1: 6 | CL1: 6 | CM1: 6 | CN1: 7.5 | CO1: 7.5 | CP1: 2 | CQ1: 6 | CR1: 6 | CS1: 6 | CT1: 6 | CU1: 6 | CV1: 7.5 | CW1: 7.5 | CX1: 7.5
B2: Infltr | C2: Pi-Po= | F2: Pi-Po | G2: Inside to Outside Pressure Difference for Building Pressurization = | N2: 0.02 | Q2: Calc | R2: EX-1 | S2: EX-2 | T2: EX-3 | W2: Bldg Pressurization - Stack Effect & Wind Press Infltr | AD2: USER INPUT | AF2: descriptions | AI2: Calc | AJ2: Sctn | AK2: Bldg | AL2: Flr-H + Sea-Lvl | AP2: Calc | AQ2: Floor | AR2: Floor | AS2: Flr | AU2: From Sheet 'SMMR-Calcs' | AY2: SUMMER | BA2: Annual | BJ2: Calc | BK2: Floor | BL2: Floor | BM2: Flr | BO2: From Sheet 'WNTR-Calcs' | BS2: WINTER | BU2: Annual | CD2: =AP2 -> Calc | CE2: =AQ2 -> Floor | CF2: =AR2 -> Floor | CG2: =AS2 -> Flr | CI2: From Sheet 'SMMR-Calcs' | CN2: Infltr | CO2: Cooling | CQ2: From Sheet 'WNTR-Calcs' | CV2: Infltr | CW2: Heating
B3: cfm/ft2 | C3: =N2 -> 0.02 | E3: Q = Cd * A * ( 2 * ∆P/d )0.5 | H3: A = Q / ( Cd * ( 2 * ∆P/d )0.5 ) | K3: Cd = | L3: 0.65 | M3: dens = | N3: 0.071 | Q3: ID # | R3: S-Flr | S3: S-Flr | T3: S-Flr | AF3: CALCULATED | AI3: ID # | AJ3: Flr # | AK3: Flr-# | AL3: feet | AM3: meters | AP3: ID # | AQ3: Lvl # | AR3: Hgt | AS3: Lk-A | BA3: Tons | BJ3: ID # | BK3: Lvl # | BL3: Hgt | BM3: Lk-A | BU3: KWH | CD3: =AP3 -> ID # | CE3: =AQ3 -> Lvl # | CF3: =AR3 -> Hgt | CG3: =AS3 -> Lk-A | CN3: SHG | CO3: Energy/Yr | CV3: SHL | CW3: Energy/Yr
B4: Envlp | C4: Infl-A | E4: INPUT DATA Preparation Sheet | I4: Prepare your Input Data offline here (up to 3 examples) | BA4: Cooling | BU4: Heating
B5: Area | C5: ft2 | K5: and Copy and Paste into next sheet >> | Y5: P R O J E C T D A T A | Z5: Description | AE5: DESIGN (INPUT) | AF5: SMMR | AG5: WNTR | AI5: Section >> | AK5: =AG17 -> 8 | AL5: # flrs >> | AM5: =AG29 -> 3 | AP5: =AI5 -> Section >> | AR5: =AK5 -> 8 | AS5: =AG33 -> 25.2 | AU5: Alt psi | AV5: Wnd-V | AW5: OA-DB | AX5: OA-d | AY5: Q cfm | AZ5: Q/Env-A | BA5: Tons | BJ5: =AI5 -> Section >> | BL5: =AR5 -> 8 | BM5: =AS5 -> 25.2 | BO5: Alt psi | BP5: Wnd-V | BQ5: OA-DB | BR5: OA-d | BS5: Q cfm | BT5: Q/Env-A | BU5: KWH | CF5: =AR5 -> 8 | CG5: =AS5 -> 25.2 | CI5: OA-DB | CJ5: Vo ft3/lb | CK5: Ho bu/lb | CL5: Q ft3/min | CM5: Q lbs/hr | CN5: btuh | CO5: K-btu/yr | CQ5: OA-DB | CR5: Vo ft3/lb | CS5: Ho bu/lb | CT5: Q ft3/min | CU5: Q lbs/hr | CV5: btuh | CW5: K-btuh/yr
E6: EX-1 | G6: SECTION No. | H6: 1 | I6: 2-A | J6: 3 | K6: 4-k | L6: 5 | M6: 6 (x) | N6: 7 | O6: 8 | Q6: =Q7+1 -> 24 | R6: 2 | S6: 2 | T6: 2 | Y6: Project Name | Z6: Very Tall Mixed-Use Building (Description) | AE6: Wnd (mph) Grnd | AF6: 5 | AG6: 15 | AI6: =AI7+1 -> 24 | AJ6: 2 | AK6: =IF(AJ6<=0, "XX", Z$29 + AA$29 + AB$29 + AC$29 + AD$29 + AE$29 + AF$29+AJ6) -> 101 | AL6: =IF(AK6="XX", "XX", $Z$11 + Z$34 + AA$34 + AB$34 +AC$34 + AD$34 +AE$34 + AF$34+ AJ6*AG$21) -> 1789 | AM6: =IF(AK6="XX", "XX", AL6*0.3048) -> 545.2872 | AP6: =AI6 -> 24 | AQ6: =AK6 -> 101 | AR6: ='SMMR-Calcs'!AH13 -> 1289 | AU6: ='SMMR-Calcs'!J13 -> 13.77046 | AV6: ='SMMR-Calcs'!K13 -> 9.9236058 | AW6: ='SMMR-Calcs'!L13 -> 90.41116 | AX6: ='SMMR-Calcs'!R13 -> 0.066421316 | AY6: ='SMMR-Calcs'!AO13 -> 722.0424 | AZ6: ='SMMR-Calcs'!AP13 -> 0.085957429 | BA6: =IF(AK6="XX", "XX", AY6*1.08*$AF$10/12000) -> 174.15663 | BJ6: =AP6 -> 24 | BK6: =AQ6 -> 101 | BL6: =AR6 -> 1289 | BO6: ='WNTR-Calcs'!J13 -> 13.77046 | BP6: ='WNTR-Calcs'!K13 -> 19.923606 | BQ6: ='WNTR-Calcs'!L13 -> -20.58884 | BR6: ='WNTR-Calcs'!R13 -> 0.084828727 | BS6: ='WNTR-Calcs'!AO13 -> -2093.1136 | BT6: ='WNTR-Calcs'!AP13 -> -0.24918019 | BU6: =IF(BK6="XX", "XX", BS6*1.08*$AG$10/1000) -> -18041.551 | CD6: =AP6 -> 24 | CE6: =AQ6 -> 101 | CF6: =AR6 -> 1289 | CI6: ='SMMR-Calcs'!L13 -> 90.41116 | CJ6: ='SMMR-Calcs'!Q13 -> 15.055408 | CK6: ='SMMR-Calcs'!S13 -> 35.414167 | CL6: =IF(AK6="XX", "XX", AY6) -> 722.0424 | CM6: =IF(AK6="XX", "XX", CL6*60/CJ6) -> 2877.5404 | CN6: ='SMMR-Calcs'!AQ13 -> 12017.712 | CO6: ='SMMR-Calcs'!AR13 -> 2089.8795 | CQ6: ='WNTR-Calcs'!L13 -> -20.58884 | CR6: ='WNTR-Calcs'!Q13 -> 11.788459 | CS6: ='WNTR-Calcs'!S13 -> -4.5618116 | CT6: =IF(AR6="XX", "XX", BS6) -> -2093.1136 | CU6: =IF(AR6="XX", "XX", CT6*60/CR6) -> -10653.37 | CV6: ='WNTR-Calcs'!AQ13 -> 209302.88 | CW6: ='WNTR-Calcs'!AR13 -> -18041.551
B7: 0 | C7: =B7 / ($L$3 * SQRT(2*$C$3/$N$3)) -> 0 | G7: Flr Type (Retl, Offc, ) | H7: Lobby | I7: Retail | J7: Tradg | K7: Office | L7: Htl-Srvc | M7: Hotel | N7: Condos | O7: Dining | Q7: =Q9+1 -> 23 | R7: 1 | S7: 1 | T7: 1 | Y7: Project Analyst | Z7: VCT (Description) | AE7: Wnd (mph) Roof | AF7: 10 | AG7: 20 | AI7: =AI9+1 -> 23 | AJ7: 1 | AK7: =IF(AJ7<=0, "XX", Z$29 + AA$29 + AB$29 + AC$29 + AD$29 + AE$29 + AF$29+AJ7) -> 100 | AL7: =IF(AK7="XX", "XX", $Z$11 + Z$34 + AA$34 + AB$34 +AC$34 + AD$34 +AE$34 + AF$34+ AJ7*AG$21) -> 1774 | AM7: =IF(AK7="XX", "XX", AL7*0.3048) -> 540.7152 | AP7: =AI7 -> 23 | AQ7: =AK7 -> 100 | AR7: ='SMMR-Calcs'!AH14 -> 1274 | AU7: ='SMMR-Calcs'!J14 -> 13.778018 | AV7: ='SMMR-Calcs'!K14 -> 9.8663102 | AW7: ='SMMR-Calcs'!L14 -> 90.46456 | AX7: ='SMMR-Calcs'!R14 -> 0.066449017 | AY7: ='SMMR-Calcs'!AO14 -> 712.59132 | AZ7: ='SMMR-Calcs'!AP14 -> 0.0848323 | BA7: =IF(AK7="XX", "XX", AY7*1.08*$AF$10/12000) -> 171.87703 | BJ7: =AP7 -> 23 | BK7: =AQ7 -> 100 | BL7: =AR7 -> 1274 | BO7: ='WNTR-Calcs'!J14 -> 13.778018 | BP7: ='WNTR-Calcs'!K14 -> 19.86631 | BQ7: ='WNTR-Calcs'!L14 -> -20.53544 | BR7: ='WNTR-Calcs'!R14 -> 0.084864859 | BS7: ='WNTR-Calcs'!AO14 -> -2068.5318 | BT7: ='WNTR-Calcs'!AP14 -> -0.24625379 | BU7: =IF(BK7="XX", "XX", BS7*1.08*$AG$10/1000) -> -17829.669 | CD7: =AP7 -> 23 | CE7: =AQ7 -> 100 | CF7: =AR7 -> 1274 | CI7: ='SMMR-Calcs'!L14 -> 90.46456 | CJ7: ='SMMR-Calcs'!Q14 -> 15.049132 | CK7: ='SMMR-Calcs'!S14 -> 35.451533 | CL7: =IF(AK7="XX", "XX", AY7) -> 712.59132 | CM7: =IF(AK7="XX", "XX", CL7*60/CJ7) -> 2841.0595 | CN7: ='SMMR-Calcs'!AQ14 -> 11901.504 | CO7: ='SMMR-Calcs'!AR14 -> 2308.7959 | CQ7: ='WNTR-Calcs'!L14 -> -20.53544 | CR7: ='WNTR-Calcs'!Q14 -> 11.78344 | CS7: ='WNTR-Calcs'!S14 -> -4.5481418 | CT7: =IF(AR7="XX", "XX", BS7) -> -2068.5318 | CU7: =IF(AR7="XX", "XX", CT7*60/CR7) -> -10532.74 | CV7: ='WNTR-Calcs'!AQ14 -> 206725.5 | CW7: ='WNTR-Calcs'!AR14 -> -6702.0431
B8: =B7+0.02 -> 0.02 | C8: =B8 / ($L$3 * SQRT(2*$C$3/$N$3)) -> 0.040993577 | G8: Typical Floor Length (ft) | H8: 320 | I8: 280 | J8: 240 | K8: 220 | L8: 200 | M8: 180 | N8: 180 | O8: 180 | Y8: Bldg Type (Office, Hotel) | Z8: Mixed Use High Rise (Description) | AE8: Outdoor DB (F) | AF8: 95 | AG8: -16 | AI8: Section >> | AK8: =AF17 -> 7 | AL8: # flrs >> | AM8: =AF29 -> 16 | AP8: =AI8 -> Section >> | AR8: =AK8 -> 7 | AS8: =AF33 -> 22.4 | AU8: Alt psi | AV8: Wnd-V | AW8: OA-DB | AX8: OA-d | AY8: Q cfm | AZ8: Q/Env-A | BA8: Tons | BJ8: =AI8 -> Section >> | BL8: =AR8 -> 7 | BM8: =AS8 -> 22.4 | BO8: Alt psi | BP8: Wnd-V | BQ8: OA-DB | BR8: OA-d | BS8: Q cfm | BT8: Q/Env-A | BU8: KWH | CF8: =AR8 -> 7 | CG8: =AS8 -> 22.4 | CI8: OA-DB | CJ8: Vo ft3/lb | CK8: Ho bu/lb | CL8: Q ft3/min | CM8: Q lbs/hr | CN8: btuh | CO8: K-btu/yr | CQ8: OA-DB | CR8: Vo ft3/lb | CS8: Ho bu/lb | CT8: Q ft3/min | CU8: Q lbs/hr | CV8: btuh | CW8: K-btu/yr
B9: =B8+0.02 -> 0.04 | C9: =B9 / ($L$3 * SQRT(2*$C$3/$N$3)) -> 0.081987154 | G9: Typical Floor Width (ft) | H9: 240 | I9: 200 | J9: 160 | K9: 140 | L9: 120 | M9: 100 | N9: 100 | O9: 100 | Q9: 22 | R9: 0 | S9: 3 | T9: 15 | Y9: Location (City, State) | Z9: Minneapolis, MN, USA (Description) | AE9: Outdoor WB (F) | AF9: 75 | AG9: -16 | AI9: 22 | AJ9: 0 | AK9: =IF(AJ9<=0, "XX", Z$29 + AA$29 + AB$29 + AC$29 + AD$29 + AE$29 + +AJ9) -> XX | AL9: =IF(AK9="XX", "XX", $Z$11 + Z$34 + AA$34 + AB$34 +AC$34 + AD$34 +AE$34 + AJ9*AF$21) -> XX | AM9: =IF(AK9="XX", "XX", AL9*0.3048) -> XX | AP9: =AI9 -> 22 | AQ9: =AK9 -> XX | AR9: ='SMMR-Calcs'!AH19 -> XX | AU9: ='SMMR-Calcs'!J19 -> XX | AV9: ='SMMR-Calcs'!K19 -> XX | AW9: ='SMMR-Calcs'!L19 -> XX | AX9: ='SMMR-Calcs'!R19 -> XX | AY9: ='SMMR-Calcs'!AO19 -> XX | AZ9: ='SMMR-Calcs'!AP19 -> XX | BA9: =IF(AK9="XX", "XX", AY9*1.08*$AF$10/12000) -> XX | BJ9: =AP9 -> 22 | BK9: =AQ9 -> XX | BL9: =AR9 -> XX | BO9: ='WNTR-Calcs'!J19 -> XX | BP9: ='WNTR-Calcs'!K19 -> XX | BQ9: ='WNTR-Calcs'!L12 -> F | BR9: ='WNTR-Calcs'!R19 -> XX | BS9: ='WNTR-Calcs'!AO19 -> XX | BT9: ='WNTR-Calcs'!AP19 -> XX | BU9: =IF(BK9="XX", "XX", BS9*1.08*$AG$10/1000) -> XX | CD9: =AP9 -> 22 | CE9: =AQ9 -> XX | CF9: =AR9 -> XX | CI9: ='SMMR-Calcs'!L19 -> XX | CJ9: ='SMMR-Calcs'!Q19 -> XX | CK9: ='SMMR-Calcs'!S19 -> XX | CL9: =IF(AK9="XX", "XX", AY9) -> XX | CM9: =IF(AK9="XX", "XX", CL9*60/CJ9) -> XX | CN9: ='SMMR-Calcs'!AQ19 -> XX | CO9: ='SMMR-Calcs'!AR19 -> XX | CQ9: ='WNTR-Calcs'!L19 -> XX | CR9: ='SMMR-Calcs'!Q19 -> XX | CS9: ='WNTR-Calcs'!S19 -> XX | CT9: =IF(AR9="XX", "XX", BS9) -> XX | CU9: =IF(AR9="XX", "XX", CT9*60/CR9) -> XX | CV9: ='WNTR-Calcs'!AQ19 -> XX | CW9: ='WNTR-Calcs'!AR19 -> XX
B10: =B9+0.02 -> 0.06 | C10: =B10 / ($L$3 * SQRT(2*$C$3/$N$3)) -> 0.12298073 | G10: Floor-Floor Height (ft) | H10: 20 | I10: 18 | J10: 15 | K10: 13.5 | L10: 15 | M10: 10 | N10: 10 | O10: 15 | Q10: 21 | R10: 10 | S10: 2 | T10: 10 | AE10: Degree-Days | AF10: 2680 | AG10: 7981 | AI10: 21 | AJ10: 10 | AK10: =IF(AJ10<=0, "XX", Z$29 + AA$29 + AB$29 + AC$29 + AD$29 + AE$29 + +AJ10) -> 93 | AL10: =IF(AK10="XX", "XX", $Z$11 + Z$34 + AA$34 + AB$34 +AC$34 + AD$34 +AE$34 + AJ10*AF$21) -> 1689 | AM10: =IF(AK10="XX", "XX", AL10*0.3048) -> 514.8072 | AP10: =AI10 -> 21 | AQ10: =AK10 -> 93 | AR10: ='SMMR-Calcs'!AH20 -> 1189 | AU10: ='SMMR-Calcs'!J20 -> 13.820913 | AV10: ='SMMR-Calcs'!K20 -> 9.5416348 | AW10: ='SMMR-Calcs'!L20 -> 90.76716 | AX10: ='SMMR-Calcs'!R20 -> 0.0666061 | AY10: ='SMMR-Calcs'!AO20 -> 582.09183 | AZ10: ='SMMR-Calcs'!AP20 -> 0.069296647 | BA10: =IF(AK10="XX", "XX", AY10*1.08*$AF$10/12000) -> 140.40055 | BJ10: =AP10 -> 21 | BK10: =AQ10 -> 93 | BL10: =AR10 -> 1189 | BO10: ='WNTR-Calcs'!J19 -> XX | BP10: ='WNTR-Calcs'!K19 -> XX | BQ10: ='WNTR-Calcs'!L13 -> -20.58884 | BR10: ='WNTR-Calcs'!R19 -> XX | BS10: ='WNTR-Calcs'!AO20 -> -1710.0982 | BT10: ='WNTR-Calcs'!AP20 -> -0.20358312 | BU10: =IF(BK10="XX", "XX", BS10*1.08*$AG$10/1000) -> -14740.157 | CD10: =AP10 -> 21 | CE10: =AQ10 -> 93 | CF10: =AR10 -> 1189 | CI10: ='SMMR-Calcs'!L20 -> 90.76716 | CJ10: ='SMMR-Calcs'!Q20 -> 15.01364 | CK10: ='SMMR-Calcs'!S20 -> 35.663779 | CL10: =IF(AK10="XX", "XX", AY10) -> 582.09183 | CM10: =IF(AK10="XX", "XX", CL10*60/CJ10) -> 2326.252 | CN10: ='SMMR-Calcs'!AQ20 -> 9912.1699 | CO10: ='SMMR-Calcs'!AR20 -> 1885.9775 | CQ10: ='WNTR-Calcs'!L20 -> -20.23284 | CR10: ='SMMR-Calcs'!Q20 -> 15.01364 | CS10: ='WNTR-Calcs'!S20 -> -4.4706483 | CT10: =IF(AR10="XX", "XX", BS10) -> -1710.0982 | CU10: =IF(AR10="XX", "XX", CT10*60/CR10) -> -6834.1782 | CV10: ='WNTR-Calcs'!AQ20 -> 170345.39 | CW10: ='WNTR-Calcs'!AR20 -> -5540.7181
B11: =B10+0.02 -> 0.08 | C11: =B11 / ($L$3 * SQRT(2*$C$3/$N$3)) -> 0.16397431 | G11: Number of Typical Floors | H11: 2 | I11: 3 | J11: 6 | K11: 40 | L11: 5 | M11: 25 | N11: 15 | O11: 2 | Q11: 20 | R11: 5 | S11: 1 | T11: 5 | Y11: Site Altit. (ft) ref Sea Level | Z11: 500 | AB11: Mech/Grd Flr-Flr-H | AC11: 20 | AE11: Indoor DB (F) | AF11: 75 | AG11: 72 | AI11: 20 | AJ11: 5 | AK11: =IF(AJ11<=0, "XX", Z$29 + AA$29 + AB$29 + AC$29 + AD$29 + AE$29 + +AJ11) -> 88 | AL11: =IF(AK11="XX", "XX", $Z$11 + Z$34 + AA$34 + AB$34 +AC$34 + AD$34 +AE$34 + AJ11*AF$21) -> 1639 | AM11: =IF(AK11="XX", "XX", AL11*0.3048) -> 499.5672 | AP11: =AI11 -> 20 | AQ11: =AK11 -> 88 | AR11: ='SMMR-Calcs'!AH21 -> 1139 | AU11: ='SMMR-Calcs'!J21 -> 13.846196 | AV11: ='SMMR-Calcs'!K21 -> 9.3506494 | AW11: ='SMMR-Calcs'!L21 -> 90.94516 | AX11: ='SMMR-Calcs'!R21 -> 0.066698592 | AY11: ='SMMR-Calcs'!AO21 -> 548.45672 | AZ11: ='SMMR-Calcs'!AP21 -> 0.065292467 | BA11: =IF(AK11="XX", "XX", AY11*1.08*$AF$10/12000) -> 132.28776 | BJ11: =AP11 -> 20 | BK11: =AQ11 -> 88 | BL11: =AR11 -> 1139 | BO11: ='WNTR-Calcs'!J20 -> 13.820913 | BP11: ='WNTR-Calcs'!K20 -> 19.541635 | BQ11: ='WNTR-Calcs'!L14 -> -20.53544 | BR11: ='WNTR-Calcs'!R20 -> 0.085069825 | BS11: ='WNTR-Calcs'!AO21 -> -1630.1279 | BT11: ='WNTR-Calcs'!AP21 -> -0.19406284 | BU11: =IF(BK11="XX", "XX", BS11*1.08*$AG$10/1000) -> -14050.854 | CD11: =AP11 -> 20 | CE11: =AQ11 -> 88 | CF11: =AR11 -> 1139 | CI11: ='SMMR-Calcs'!L21 -> 90.94516 | CJ11: ='SMMR-Calcs'!Q21 -> 14.99282 | CK11: ='SMMR-Calcs'!S21 -> 35.789034 | CL11: =IF(AK11="XX", "XX", AY11) -> 548.45672 | CM11: =IF(AK11="XX", "XX", CL11*60/CJ11) -> 2194.8774 | CN11: ='SMMR-Calcs'!AQ21 -> 9444.8485 | CO11: ='SMMR-Calcs'!AR21 -> 1776.9998 | CQ11: ='WNTR-Calcs'!L21 -> -20.05484 | CR11: ='SMMR-Calcs'!Q21 -> 14.99282 | CS11: ='WNTR-Calcs'!S21 -> -4.4250388 | CT11: =IF(AR11="XX", "XX", BS11) -> -1630.1279 | CU11: =IF(AR11="XX", "XX", CT11*60/CR11) -> -6523.6339 | CV11: ='WNTR-Calcs'!AQ21 -> 162066.05 | CW11: ='WNTR-Calcs'!AR21 -> -5281.6142
B12: =B11+0.02 -> 0.1 | C12: =B12 / ($L$3 * SQRT(2*$C$3/$N$3)) -> 0.20496789 | G12: Mech Flr above Sctn (Y/N) | H12: N | I12: Y | J12: N | K12: Y | L12: N | M12: N | N12: Y | O12: Y | Y12: Mech/Grd % Envel Leakg | Z12: 0.6 | AB12: Mech/Grd Flow C | AC12: 0.6 | AE12: Indoor WB (F) | AF12: 62 | AG12: 55 | AI12: Section >> | AK12: =AE17 -> 6 (x) | AL12: # flrs >> | AM12: =AE29 -> 25 | AP12: =AI12 -> Section >> | AR12: =AK12 -> 6 (x) | AS12: =AE33 -> 19.6 | AU12: Alt psi | AV12: Wnd-V | AW12: OA-DB | AX12: OA-d | AY12: Q cfm | AZ12: Q/Env-A | BA12: Tons | BJ12: =AI12 -> Section >> | BL12: =AR12 -> 6 (x) | BM12: =AS12 -> 19.6 | BO12: Alt psi | BP12: Wnd-V | BQ12: OA-DB | BR12: OA-d | BS12: Q cfm | BT12: Q/Env-A | BU12: KWH | CF12: =AR12 -> 6 (x) | CG12: =AS12 -> 19.6 | CI12: OA-DB | CJ12: Vo ft3/lb | CK12: Ho bu/lb | CL12: Q ft3/min | CM12: Q lbs/hr | CN12: btuh | CO12: K-btu/yr | CQ12: OA-DB | CR12: Vo ft3/lb | CS12: Ho bu/lb | CT12: Q ft3/min | CU12: Q lbs/hr | CV12: btuh | CW12: K-btu/yr
B13: =B12+0.02 -> 0.12 | C13: =B13 / ($L$3 * SQRT(2*$C$3/$N$3)) -> 0.24596146 | G13: Leakage Area as % of Envel | H13: 0.4 | I13: 0.4 | J13: 0.4 | K13: 0.4 | L13: 0.4 | M13: 0.4 | N13: 0.4 | O13: 0.4 | Q13: =Q14+1 -> 19 | R13: 0 | S13: 4 | T13: 20 | AI13: =AI14+1 -> 19 | AJ13: 0 | AK13: =IF(AJ13<=0, "XX", Z$29 + AA$29 + AB$29 + AC$29 + AD$29 +AJ13) -> XX | AL13: =IF(AK13="XX", "XX", $Z$11 + Z$34 + AA$34 + AB$34 +AC$34 + AD$34 + AJ13*AE$21) -> XX | AM13: =IF(AK13="XX", "XX", AL13*0.3048) -> XX | AP13: =AI13 -> 19 | AQ13: =AK13 -> XX | AR13: ='SMMR-Calcs'!AH26 -> XX | AU13: ='SMMR-Calcs'!J26 -> XX | AV13: ='SMMR-Calcs'!K26 -> XX | AW13: ='SMMR-Calcs'!L26 -> XX | AX13: ='SMMR-Calcs'!R26 -> XX | AY13: ='SMMR-Calcs'!AO26 -> XX | AZ13: ='SMMR-Calcs'!AP26 -> XX | BA13: =IF(AK13="XX", "XX", AY13*1.08*$AF$10/12000) -> XX | BJ13: =AP13 -> 19 | BK13: =AQ13 -> XX | BL13: =AR13 -> XX | BO13: ='WNTR-Calcs'!J26 -> XX | BP13: ='WNTR-Calcs'!K26 -> XX | BQ13: ='WNTR-Calcs'!L26 -> XX | BR13: ='WNTR-Calcs'!R26 -> XX | BS13: ='WNTR-Calcs'!AO26 -> XX | BT13: ='WNTR-Calcs'!AP26 -> XX | BU13: =IF(BK13="XX", "XX", BS13*1.08*$AG$10/1000) -> XX | CD13: =AP13 -> 19 | CE13: =AQ13 -> XX | CF13: =AR13 -> XX | CI13: ='SMMR-Calcs'!L26 -> XX | CJ13: ='SMMR-Calcs'!Q26 -> XX | CK13: ='SMMR-Calcs'!S26 -> XX | CL13: =IF(AK13="XX", "XX", AY13) -> XX | CM13: =IF(AK13="XX", "XX", CL13*60/CJ13) -> XX | CN13: ='SMMR-Calcs'!AQ26 -> XX | CO13: ='SMMR-Calcs'!AR26 -> XX | CQ13: ='WNTR-Calcs'!L26 -> XX | CR13: ='WNTR-Calcs'!Q26 -> XX | CS13: ='WNTR-Calcs'!S26 -> XX | CT13: =IF(AR13="XX", "XX", BS13) -> XX | CU13: =IF(AR13="XX", "XX", CT13*60/CR13) -> XX | CV13: ='WNTR-Calcs'!AQ26 -> XX | CW13: ='WNTR-Calcs'!AR26 -> XX
B14: =B13+0.02 -> 0.14 | C14: =B14 / ($L$3 * SQRT(2*$C$3/$N$3)) -> 0.28695504 | G14: Envel Leakage Flow Coeff | H14: 0.6 | I14: 0.6 | J14: 0.6 | K14: 0.6 | L14: 0.6 | M14: 0.6 | N14: 0.6 | O14: 0.6 | Q14: =Q15+1 -> 18 | R14: 25 | S14: 3 | T14: 15 | W14: # Flrs | X14: Bldg-H | Y14: Ntrl-H | Z14: Site-Alt | AB14: Total Bldg-Area | AD14: Total Envel-Area | AF14: Total Leakg-Area | AG14: % Avg Lkg | AI14: =AI15+1 -> 18 | AJ14: 25 | AK14: =IF(AJ14<=0, "XX", Z$29 + AA$29 + AB$29 + AC$29 + AD$29 +AJ14) -> 83 | AL14: =IF(AK14="XX", "XX", $Z$11 + Z$34 + AA$34 + AB$34 +AC$34 + AD$34 + AJ14*AE$21) -> 1589 | AM14: =IF(AK14="XX", "XX", AL14*0.3048) -> 484.3272 | AP14: =AI14 -> 18 | AQ14: =AK14 -> 83 | AR14: ='SMMR-Calcs'!AH27 -> 1089 | AU14: ='SMMR-Calcs'!J27 -> 13.871516 | AV14: ='SMMR-Calcs'!K27 -> 9.1596639 | AW14: ='SMMR-Calcs'!L27 -> 91.12316 | AX14: ='SMMR-Calcs'!R27 -> 0.06679115 | AY14: ='SMMR-Calcs'!AO27 -> 447.70022 | AZ14: ='SMMR-Calcs'!AP27 -> 0.053297645 | BA14: =IF(AK14="XX", "XX", AY14*1.08*$AF$10/12000) -> 107.98529 | BJ14: =AP14 -> 18 | BK14: =AQ14 -> 83 | BL14: =AR14 -> 1089 | BO14: ='WNTR-Calcs'!J26 -> XX | BP14: ='WNTR-Calcs'!K26 -> XX | BQ14: ='WNTR-Calcs'!L26 -> XX | BR14: ='WNTR-Calcs'!R26 -> XX | BS14: ='WNTR-Calcs'!AO27 -> -1353.052 | BT14: ='WNTR-Calcs'!AP27 -> -0.16107761 | BU14: =IF(BK14="XX", "XX", BS14*1.08*$AG$10/1000) -> -11662.604 | CD14: =AP14 -> 18 | CE14: =AQ14 -> 83 | CF14: =AR14 -> 1089 | CI14: ='SMMR-Calcs'!L27 -> 91.12316 | CJ14: ='SMMR-Calcs'!Q27 -> 14.972044 | CK14: ='SMMR-Calcs'!S27 -> 35.914589 | CL14: =IF(AK14="XX", "XX", AY14) -> 447.70022 | CM14: =IF(AK14="XX", "XX", CL14*60/CJ14) -> 1794.1447 | CN14: ='SMMR-Calcs'!AQ27 -> 7795.8096 | CO14: ='SMMR-Calcs'!AR27 -> 1450.5487 | CQ14: ='WNTR-Calcs'!L27 -> -19.87684 | CR14: ='WNTR-Calcs'!Q27 -> 11.721758 | CS14: ='WNTR-Calcs'!S27 -> -4.3794106 | CT14: =IF(AR14="XX", "XX", BS14) -> -1353.052 | CU14: =IF(AR14="XX", "XX", CT14*60/CR14) -> -6925.8484 | CV14: ='WNTR-Calcs'!AQ27 -> 134259.27 | CW14: ='WNTR-Calcs'!AR27 -> -4383.8883
B15: =B14+0.02 -> 0.16 | C15: =B15 / ($L$3 * SQRT(2*$C$3/$N$3)) -> 0.32794862 | G15: In-Out PD (in.wg) PI - PO | H15: 0 | I15: 0.005 | J15: 0.005 | K15: 0.005 | L15: 0.005 | M15: 0.005 | N15: 0.005 | O15: 0.005 | Q15: =Q16+1 -> 17 | R15: 15 | S15: 2 | T15: 10 | W15: =+SUM(Z29:AG29) -> 102 | X15: =SUM(Z34:AG34) -> 1309 | Y15: =X15/2 -> 654.5 | Z15: =Z11 -> 500 | AA15: =SUM(Z35:AG35) -> 2782800 | AC15: =SUM(Z36:AC36) -> 584440 | AE15: =SUM(Z37:AC37) -> 1633.42 | AG15: =100*AE15/AC15 -> 0.27948463 | AI15: =AI16+1 -> 17 | AJ15: 15 | AK15: =IF(AJ15<=0, "XX", Z$29 + AA$29 + AB$29 + AC$29 + AD$29 +AJ15) -> 73 | AL15: =IF(AK15="XX", "XX", $Z$11 + Z$34 + AA$34 + AB$34 +AC$34 + AD$34 + AJ15*AE$21) -> 1489 | AM15: =IF(AK15="XX", "XX", AL15*0.3048) -> 453.8472 | AP15: =AI15 -> 17 | AQ15: =AK15 -> 73 | AR15: ='SMMR-Calcs'!AH28 -> 989 | AU15: ='SMMR-Calcs'!J28 -> 13.922269 | AV15: ='SMMR-Calcs'!K28 -> 8.7776929 | AW15: ='SMMR-Calcs'!L28 -> 91.47916 | AX15: ='SMMR-Calcs'!R28 -> 0.066976464 | AY15: ='SMMR-Calcs'!AO28 -> 372.06977 | AZ15: ='SMMR-Calcs'!AP28 -> 0.04429402 | BA15: =IF(AK15="XX", "XX", AY15*1.08*$AF$10/12000) -> 89.743228 | BJ15: =AP15 -> 17 | BK15: =AQ15 -> 73 | BL15: =AR15 -> 989 | BO15: ='WNTR-Calcs'!J27 -> 13.871516 | BP15: ='WNTR-Calcs'!K27 -> 19.159664 | BQ15: ='WNTR-Calcs'!L27 -> -19.87684 | BR15: ='WNTR-Calcs'!R27 -> 0.085311437 | BS15: ='WNTR-Calcs'!AO28 -> -1193.9411 | BT15: ='WNTR-Calcs'!AP28 -> -0.14213585 | BU15: =IF(BK15="XX", "XX", BS15*1.08*$AG$10/1000) -> -10291.152 | CD15: =AP15 -> 17 | CE15: =AQ15 -> 73 | CF15: =AR15 -> 989 | CI15: ='SMMR-Calcs'!L28 -> 91.47916 | CJ15: ='SMMR-Calcs'!Q28 -> 14.930618 | CK15: ='SMMR-Calcs'!S28 -> 36.166605 | CL15: =IF(AK15="XX", "XX", AY15) -> 372.06977 | CM15: =IF(AK15="XX", "XX", CL15*60/CJ15) -> 1495.195 | CN15: ='SMMR-Calcs'!AQ28 -> 6621.909 | CO15: ='SMMR-Calcs'!AR28 -> 1205.506 | CQ15: ='WNTR-Calcs'!L28 -> -19.52084 | CR15: ='WNTR-Calcs'!Q28 -> 11.688584 | CS15: ='WNTR-Calcs'!S28 -> -4.2880977 | CT15: =IF(AR15="XX", "XX", BS15) -> -1193.9411 | CU15: =IF(AR15="XX", "XX", CT15*60/CR15) -> -6128.7551 | CV15: ='WNTR-Calcs'!AQ28 -> 118012.13 | CW15: ='WNTR-Calcs'!AR28 -> -3868.3692
B16: =B15+0.02 -> 0.18 | C16: =B16 / ($L$3 * SQRT(2*$C$3/$N$3)) -> 0.36894219 | Q16: =Q18+1 -> 16 | R16: 5 | S16: 1 | T16: 5 | AI16: =AI18+1 -> 16 | AJ16: 5 | AK16: =IF(AJ16<=0, "XX", Z$29 + AA$29 + AB$29 + AC$29 + AD$29 +AJ16) -> 63 | AL16: =IF(AK16="XX", "XX", $Z$11 + Z$34 + AA$34 + AB$34 +AC$34 + AD$34 + AJ16*AE$21) -> 1389 | AM16: =IF(AK16="XX", "XX", AL16*0.3048) -> 423.3672 | AP16: =AI16 -> 16 | AQ16: =AK16 -> 63 | AR16: ='SMMR-Calcs'!AH29 -> 889 | AU16: ='SMMR-Calcs'!J29 -> 13.973172 | AV16: ='SMMR-Calcs'!K29 -> 8.3957219 | AW16: ='SMMR-Calcs'!L29 -> 91.83516 | AX16: ='SMMR-Calcs'!R29 -> 0.067162042 | AY16: ='SMMR-Calcs'!AO29 -> 270.95884 | AZ16: ='SMMR-Calcs'!AP29 -> 0.032257005 | BA16: =IF(AK16="XX", "XX", AY16*1.08*$AF$10/12000) -> 65.355273 | BJ16: =AP16 -> 16 | BK16: =AQ16 -> 63 | BL16: =AR16 -> 889 | BO16: ='WNTR-Calcs'!J28 -> 13.922269 | BP16: ='WNTR-Calcs'!K28 -> 18.777693 | BQ16: ='WNTR-Calcs'!L28 -> -19.52084 | BR16: ='WNTR-Calcs'!R28 -> 0.085553565 | BS16: ='WNTR-Calcs'!AO29 -> -1011.5624 | BT16: ='WNTR-Calcs'!AP29 -> -0.1204241 | BU16: =IF(BK16="XX", "XX", BS16*1.08*$AG$10/1000) -> -8719.142 | CD16: =AP16 -> 16 | CE16: =AQ16 -> 63 | CF16: =AR16 -> 889 | CI16: ='SMMR-Calcs'!L29 -> 91.83516 | CJ16: ='SMMR-Calcs'!Q29 -> 14.889363 | CK16: ='SMMR-Calcs'!S29 -> 36.419832 | CL16: =IF(AK16="XX", "XX", AY16) -> 270.95884 | CM16: =IF(AK16="XX", "XX", CL16*60/CJ16) -> 1091.8889 | CN16: ='SMMR-Calcs'!AQ29 -> 4926.5663 | CO16: ='SMMR-Calcs'!AR29 -> 877.90665 | CQ16: ='WNTR-Calcs'!L29 -> -19.16484 | CR16: ='WNTR-Calcs'!Q29 -> 11.655527 | CS16: ='WNTR-Calcs'!S29 -> -4.1967088 | CT16: =IF(AR16="XX", "XX", BS16) -> -1011.5624 | CU16: =IF(AR16="XX", "XX", CT16*60/CR16) -> -5207.2932 | CV16: ='WNTR-Calcs'!AQ29 -> 99596.44 | CW16: ='WNTR-Calcs'!AR29 -> -3277.4622
B17: =B16+0.02 -> 0.2 | C17: =B17 / ($L$3 * SQRT(2*$C$3/$N$3)) -> 0.40993577 | E17: EX-2 | G17: SECTION No. | H17: A | I17: B | J17: C | K17: D | L17: E | M17: F | N17: G | O17: H | Y17: SECTION (max = 5 chars) >> | Z17: 1 | AA17: 2-A | AB17: 3 | AC17: 4-k | AD17: 5 | AE17: 6 (x) | AF17: 7 | AG17: 8 | AI17: Section >> | AK17: =AD17 -> 5 | AL17: # flrs >> | AM17: =AD29 -> 5 | AP17: =AI17 -> Section >> | AR17: =AK17 -> 5 | AS17: =AD33 -> 28.8 | AU17: Alt psi | AV17: Wnd-V | AW17: OA-DB | AX17: OA-d | AY17: Q cfm | AZ17: Q/Env-A | BA17: Tons | BJ17: =AI17 -> Section >> | BL17: =AR17 -> 5 | BM17: =AS17 -> 28.8 | BO17: Alt psi | BP17: Wnd-V | BQ17: OA-DB | BR17: OA-d | BS17: Q cfm | BT17: Q/Env-A | BU17: KWH | CF17: =AR17 -> 5 | CG17: =AS17 -> 28.8 | CI17: OA-DB | CJ17: Vo ft3/lb | CK17: Ho bu/lb | CL17: Q ft3/min | CM17: Q lbs/hr | CN17: btuh | CO17: K-btu/yr | CQ17: OA-DB | CR17: Vo ft3/lb | CS17: Ho bu/lb | CT17: Q ft3/min | CU17: Q lbs/hr | CV17: btuh | CW17: K-btu/yr
B18: =B17+0.02 -> 0.22 | C18: =B18 / ($L$3 * SQRT(2*$C$3/$N$3)) -> 0.45092935 | G18: Flr Type (Retl, Offc, ) | H18: Office | I18: Office | J18: Office | K18: Office | L18: Office | M18: Office | N18: Office | O18: Office | Q18: =Q19+1 -> 15 | R18: 5 | S18: 3 | T18: 5 | Y18: Flr Type (Retl, Offc, ) | Z18: Lobby | AA18: Retail | AB18: Tradg | AC18: Office | AD18: Htl-Srvc | AE18: Hotel | AF18: Condos | AG18: Dining | AI18: =AI19+1 -> 15 | AJ18: 5 | AK18: =IF(AJ18<=0, "XX", Z$29 + AA$29 + AB$29 + AC$29+AJ18) -> 58 | AL18: =IF(AK18="XX", "XX", $Z$11 + Z$34 + AA$34 + AB$34 +AC$34 + AJ18*AD$21) -> 1339 | AM18: =IF(AK18="XX", "XX", AL18*0.3048) -> 408.1272 | AP18: =AI18 -> 15 | AQ18: =AK18 -> 58 | AR18: ='SMMR-Calcs'!AH34 -> 839 | AU18: ='SMMR-Calcs'!J34 -> 13.998681 | AV18: ='SMMR-Calcs'!K34 -> 8.2047364 | AW18: ='SMMR-Calcs'!L34 -> 92.01316 | AX18: ='SMMR-Calcs'!R34 -> 0.06725493 | AY18: ='SMMR-Calcs'!AO34 -> 293.06264 | AZ18: ='SMMR-Calcs'!AP34 -> 0.034888409 | BA18: =IF(AK18="XX", "XX", AY18*1.08*$AF$10/12000) -> 70.686708 | BJ18: =AP18 -> 15 | BK18: =AQ18 -> 58 | BL18: =AR18 -> 839 | BO18: ='WNTR-Calcs'!J34 -> 13.998681 | BP18: ='WNTR-Calcs'!K34 -> 18.204736 | BQ18: ='WNTR-Calcs'!L34 -> -18.98684 | BR18: ='WNTR-Calcs'!R34 -> 0.085917724 | BS18: ='WNTR-Calcs'!AO34 -> -1333.2389 | BT18: ='WNTR-Calcs'!AP34 -> -0.15871892 | BU18: =IF(BK18="XX", "XX", BS18*1.08*$AG$10/1000) -> -11491.826 | CD18: =AP18 -> 15 | CE18: =AQ18 -> 58 | CF18: =AR18 -> 839 | CI18: ='SMMR-Calcs'!L34 -> 92.01316 | CJ18: ='SMMR-Calcs'!Q34 -> 14.868799 | CK18: ='SMMR-Calcs'!S34 -> 36.546903 | CL18: =IF(AK18="XX", "XX", AY18) -> 293.06264 | CM18: =IF(AK18="XX", "XX", CL18*60/CJ18) -> 1182.5944 | CN18: ='SMMR-Calcs'!AQ34 -> 5384.7953 | CO18: ='SMMR-Calcs'!AR34 -> 949.52295 | CQ18: ='WNTR-Calcs'!L34 -> -18.98684 | CR18: ='WNTR-Calcs'!Q34 -> 11.639042 | CS18: ='WNTR-Calcs'!S34 -> -4.1509855 | CT18: =IF(AR18="XX", "XX", BS18) -> -1333.2389 | CU18: =IF(AR18="XX", "XX", CT18*60/CR18) -> -6872.9312 | CV18: ='WNTR-Calcs'!AQ34 -> 131011.77 | CW18: ='WNTR-Calcs'!AR34 -> -4319.6941
B19: =B18+0.02 -> 0.24 | C19: =B19 / ($L$3 * SQRT(2*$C$3/$N$3)) -> 0.49192293 | G19: Typical Floor Length (ft) | H19: 220 | I19: 220 | J19: 220 | K19: 220 | L19: 220 | M19: 220 | N19: 220 | O19: 220 | Q19: =Q20+1 -> 14 | R19: 3 | S19: 2 | T19: 3 | Y19: Typical Floor Length (ft) | Z19: 320 | AA19: 280 | AB19: 240 | AC19: 220 | AD19: 200 | AE19: 180 | AF19: 180 | AG19: 180 | AI19: =AI20+1 -> 14 | AJ19: 3 | AK19: =IF(AJ19<=0, "XX", Z$29 + AA$29 + AB$29 + AC$29+AJ19) -> 56 | AL19: =IF(AK19="XX", "XX", $Z$11 + Z$34 + AA$34 + AB$34 +AC$34 + AJ19*AD$21) -> 1309 | AM19: =IF(AK19="XX", "XX", AL19*0.3048) -> 398.9832 | AP19: =AI19 -> 14 | AQ19: =AK19 -> 56 | AR19: ='SMMR-Calcs'!AH35 -> 809 | AU19: ='SMMR-Calcs'!J35 -> 14.014003 | AV19: ='SMMR-Calcs'!K35 -> 8.0901451 | AW19: ='SMMR-Calcs'!L35 -> 92.11996 | AX19: ='SMMR-Calcs'!R35 -> 0.067310694 | AY19: ='SMMR-Calcs'!AO35 -> 203.7751 | AZ19: ='SMMR-Calcs'!AP35 -> 0.024258941 | BA19: =IF(AK19="XX", "XX", AY19*1.08*$AF$10/12000) -> 49.150555 | BJ19: =AP19 -> 14 | BK19: =AQ19 -> 56 | BL19: =AR19 -> 809 | BO19: ='WNTR-Calcs'!J34 -> 13.998681 | BP19: ='WNTR-Calcs'!K34 -> 18.204736 | BQ19: ='WNTR-Calcs'!L34 -> -18.98684 | BR19: ='WNTR-Calcs'!R34 -> 0.085917724 | BS19: ='WNTR-Calcs'!AO35 -> -1232.5716 | BT19: ='WNTR-Calcs'!AP35 -> -0.14673471 | BU19: =IF(BK19="XX", "XX", BS19*1.08*$AG$10/1000) -> -10624.126 | CD19: =AP19 -> 14 | CE19: =AQ19 -> 56 | CF19: =AR19 -> 809 | CI19: ='SMMR-Calcs'!L35 -> 92.11996 | CJ19: ='SMMR-Calcs'!Q35 -> 14.85648 | CK19: ='SMMR-Calcs'!S35 -> 36.623291 | CL19: =IF(AK19="XX", "XX", AY19) -> 203.7751 | CM19: =IF(AK19="XX", "XX", CL19*60/CJ19) -> 822.97461 | CN19: ='SMMR-Calcs'!AQ35 -> 3767.7113 | CO19: ='SMMR-Calcs'!AR35 -> 660.23133 | CQ19: ='WNTR-Calcs'!L35 -> -18.88004 | CR19: ='WNTR-Calcs'!Q35 -> 11.629165 | CS19: ='WNTR-Calcs'!S35 -> -4.1235423 | CT19: =IF(AR19="XX", "XX", BS19) -> -1232.5716 | CU19: =IF(AR19="XX", "XX", CT19*60/CR19) -> -6359.3811 | CV19: ='WNTR-Calcs'!AQ35 -> 120977.44 | CW19: ='WNTR-Calcs'!AR35 -> -3993.5318
B20: =B19+0.02 -> 0.26 | C20: =B20 / ($L$3 * SQRT(2*$C$3/$N$3)) -> 0.5329165 | G20: Typical Floor Width (ft) | H20: 140 | I20: 140 | J20: 140 | K20: 140 | L20: 140 | M20: 140 | N20: 140 | O20: 140 | Q20: =Q22+1 -> 13 | R20: 1 | S20: 1 | T20: 1 | Y20: Typical Floor Width (ft) | Z20: 240 | AA20: 200 | AB20: 160 | AC20: 140 | AD20: 120 | AE20: 100 | AF20: 100 | AG20: 100 | AI20: =AI22+1 -> 13 | AJ20: 1 | AK20: =IF(AJ20<=0, "XX", Z$29 + AA$29 + AB$29 + AC$29+AJ20) -> 54 | AL20: =IF(AK20="XX", "XX", $Z$11 + Z$34 + AA$34 + AB$34 +AC$34 + AJ20*AD$21) -> 1279 | AM20: =IF(AK20="XX", "XX", AL20*0.3048) -> 389.8392 | AP20: =AI20 -> 13 | AQ20: =AK20 -> 54 | AR20: ='SMMR-Calcs'!AH36 -> 779 | AU20: ='SMMR-Calcs'!J36 -> 14.02934 | AV20: ='SMMR-Calcs'!K36 -> 7.9755539 | AW20: ='SMMR-Calcs'!L36 -> 92.22676 | AX20: ='SMMR-Calcs'!R36 -> 0.067366481 | AY20: ='SMMR-Calcs'!AO36 -> -58.510766 | AZ20: ='SMMR-Calcs'!AP36 -> -0.0069655674 | BA20: =IF(AK20="XX", "XX", AY20*1.08*$AF$10/12000) -> -14.112797 | BJ20: =AP20 -> 13 | BK20: =AQ20 -> 54 | BL20: =AR20 -> 779 | BO20: ='WNTR-Calcs'!J35 -> 14.014003 | BP20: ='WNTR-Calcs'!K35 -> 18.090145 | BQ20: ='WNTR-Calcs'!L35 -> -18.88004 | BR20: ='WNTR-Calcs'!R35 -> 0.085990696 | BS20: ='WNTR-Calcs'!AO36 -> -1123.1766 | BT20: ='WNTR-Calcs'!AP36 -> -0.1337115 | BU20: =IF(BK20="XX", "XX", BS20*1.08*$AG$10/1000) -> -9681.1979 | CD20: =AP20 -> 13 | CE20: =AQ20 -> 54 | CF20: =AR20 -> 779 | CI20: ='SMMR-Calcs'!L36 -> 92.22676 | CJ20: ='SMMR-Calcs'!Q36 -> 14.844177 | CK20: ='SMMR-Calcs'!S36 -> 36.69979 | CL20: =IF(AK20="XX", "XX", AY20) -> -58.510766 | CM20: =IF(AK20="XX", "XX", CL20*60/CJ20) -> -236.49987 | CN20: ='SMMR-Calcs'!AQ36 -> -1088.587 | CO20: ='SMMR-Calcs'!AR36 -> -189.57488 | CQ20: ='WNTR-Calcs'!L36 -> -18.77324 | CR20: ='WNTR-Calcs'!Q36 -> 11.619299 | CS20: ='WNTR-Calcs'!S36 -> -4.0960922 | CT20: =IF(AR20="XX", "XX", BS20) -> -1123.1766 | CU20: =IF(AR20="XX", "XX", CT20*60/CR20) -> -5799.8848 | CV20: ='WNTR-Calcs'!AQ36 -> 110110.73 | CW20: ='WNTR-Calcs'!AR36 -> -3639.0921
B21: =B20+0.02 -> 0.28 | C21: =B21 / ($L$3 * SQRT(2*$C$3/$N$3)) -> 0.57391008 | G21: Floor-Floor Height (ft) | H21: 13.5 | I21: 13.5 | J21: 13.5 | K21: 13.5 | L21: 13.5 | M21: 13.5 | N21: 13.5 | O21: 13.5 | Y21: Floor-Floor Height (ft) | Z21: 20 | AA21: 18 | AB21: 15 | AC21: 13.5 | AD21: 15 | AE21: 10 | AF21: 10 | AG21: 15 | AI21: Section >> | AK21: =AC17 -> 4-k | AL21: # flrs >> | AM21: =AC29 -> 41 | AP21: =AI21 -> Section >> | AR21: =AK21 -> 4-k | AS21: =AC33 -> 24.3 | AU21: Alt psi | AV21: Wnd-V | AW21: OA-DB | AX21: OA-d | AY21: Q cfm | AZ21: Q/Env-A | BA21: Tons | BJ21: =AI21 -> Section >> | BL21: =AR21 -> 4-k | BM21: =AS21 -> 24.3 | BO21: Alt psi | BP21: Wnd-V | BQ21: OA-DB | BR21: OA-d | BS21: Q cfm | BT21: Q/Env-A | BU21: KWH | CF21: =AR21 -> 4-k | CG21: =AS21 -> 24.3 | CI21: OA-DB | CJ21: Vo ft3/lb | CK21: Ho bu/lb | CL21: Q ft3/min | CM21: Q lbs/hr | CN21: btuh | CO21: K-btu/yr | CQ21: OA-DB | CR21: Vo ft3/lb | CS21: Ho bu/lb | CT21: Q ft3/min | CU21: Q lbs/hr | CV21: btuh | CW21: K-btu/yr
B22: =B21+0.02 -> 0.3 | C22: =B22 / ($L$3 * SQRT(2*$C$3/$N$3)) -> 0.61490366 | G22: Number of Typical Floors | H22: 2 | I22: 3 | J22: 3 | K22: 5 | L22: 3 | M22: 4 | N22: 3 | O22: 2 | Q22: =Q23+1 -> 12 | R22: 30 | S22: 5 | T22: 30 | Y22: Number of Typical Floors | Z22: 2 | AA22: 3 | AB22: 6 | AC22: 40 | AD22: 5 | AE22: 25 | AF22: 15 | AG22: 2 | AI22: =AI23+1 -> 12 | AJ22: 30 | AK22: =IF(AJ22<=0, "XX", AB$29+AJ22) -> 36 | AL22: =IF(AK22="XX", "XX", $Z$11 + Z$34 + AA$34 + AB$34 + AJ22*AC$21) -> 1109 | AM22: =IF(AK22="XX", "XX", AL22*0.3048) -> 338.0232 | AP22: =AI22 -> 12 | AQ22: =AK22 -> 36 | AR22: ='SMMR-Calcs'!AH41 -> 609 | AU22: ='SMMR-Calcs'!J41 -> 14.116504 | AV22: ='SMMR-Calcs'!K41 -> 7.3262032 | AW22: ='SMMR-Calcs'!L41 -> 92.83196 | AX22: ='SMMR-Calcs'!R41 -> 0.067683055 | AY22: ='SMMR-Calcs'!AO41 -> -437.77849 | AZ22: ='SMMR-Calcs'!AP41 -> -0.052116487 | BA22: =IF(AK22="XX", "XX", AY22*1.08*$AF$10/12000) -> -105.59217 | BJ22: =AP22 -> 12 | BK22: =AQ22 -> 36 | BL22: =AR22 -> 609 | BO22: ='WNTR-Calcs'!J41 -> 14.116504 | BP22: ='WNTR-Calcs'!K41 -> 17.326203 | BQ22: ='WNTR-Calcs'!L41 -> -18.16804 | BR22: ='WNTR-Calcs'!R41 -> 0.086478362 | BS22: ='SMMR-Calcs'!AO41 -> -437.77849 | BT22: ='SMMR-Calcs'!AP41 -> -0.052116487 | BU22: =IF(BK22="XX", "XX", BS22*1.08*$AG$10/1000) -> -3773.423 | CD22: =AP22 -> 12 | CE22: =AQ22 -> 36 | CF22: =AR22 -> 609 | CI22: ='SMMR-Calcs'!L41 -> 92.83196 | CJ22: ='SMMR-Calcs'!Q41 -> 14.774747 | CK22: ='SMMR-Calcs'!S41 -> 37.135374 | CL22: =IF(AK22="XX", "XX", AY22) -> -437.77849 | CM22: =IF(AK22="XX", "XX", CL22*60/CJ22) -> -1777.8112 | CN22: ='SMMR-Calcs'!AQ41 -> -8430.9645 | CO22: ='SMMR-Calcs'!AR41 -> -1418.4023 | CQ22: ='WNTR-Calcs'!L41 -> -18.16804 | CR22: ='WNTR-Calcs'!Q41 -> 11.563586 | CS22: ='WNTR-Calcs'!S41 -> -3.9404084 | CT22: =IF(AR22="XX", "XX", BS22) -> -437.77849 | CU22: =IF(AR22="XX", "XX", CT22*60/CR22) -> -2271.502 | CV22: ='WNTR-Calcs'!AQ41 -> -35601.449 | CW22: ='WNTR-Calcs'!AR41 -> 1184.5034
B23: =B22+0.02 -> 0.32 | C23: =B23 / ($L$3 * SQRT(2*$C$3/$N$3)) -> 0.65589724 | G23: Mech Flr above Sctn (Y/N) | H23: N | I23: N | J23: N | K23: N | L23: N | M23: N | N23: N | O23: N | Q23: =Q24+1 -> 11 | R23: 25 | S23: 4 | T23: 25 | Y23: Mech Flr above Sctn (Y/N) | Z23: N | AA23: Y | AB23: N | AC23: Y | AD23: N | AE23: N | AF23: Y | AG23: Y | AI23: =AI24+1 -> 11 | AJ23: 25 | AK23: =IF(AJ23<=0, "XX", AB$29+AJ23) -> 31 | AL23: =IF(AK23="XX", "XX", $Z$11 + Z$34 + AA$34 + AB$34 + AJ23*AC$21) -> 1041.5 | AM23: =IF(AK23="XX", "XX", AL23*0.3048) -> 317.4492 | AP23: =AI23 -> 11 | AQ23: =AK23 -> 31 | AR23: ='SMMR-Calcs'!AH42 -> 541.5 | AU23: ='SMMR-Calcs'!J42 -> 14.151234 | AV23: ='SMMR-Calcs'!K42 -> 7.0683728 | AW23: ='SMMR-Calcs'!L42 -> 93.07226 | AX23: ='SMMR-Calcs'!R42 -> 0.067808963 | AY23: ='SMMR-Calcs'!AO42 -> -520.09284 | AZ23: ='SMMR-Calcs'!AP42 -> -0.061915814 | BA23: =IF(AK23="XX", "XX", AY23*1.08*$AF$10/12000) -> -125.44639 | BJ23: =AP23 -> 11 | BK23: =AQ23 -> 31 | BL23: =AR23 -> 541.5 | BO23: ='WNTR-Calcs'!J41 -> 14.116504 | BP23: ='WNTR-Calcs'!K41 -> 17.326203 | BQ23: ='WNTR-Calcs'!L41 -> -18.16804 | BR23: ='WNTR-Calcs'!R41 -> 0.086478362 | BS23: ='SMMR-Calcs'!AO42 -> -520.09284 | BT23: ='SMMR-Calcs'!AP42 -> -0.061915814 | BU23: =IF(BK23="XX", "XX", BS23*1.08*$AG$10/1000) -> -4482.9298 | CD23: =AP23 -> 11 | CE23: =AQ23 -> 31 | CF23: =AR23 -> 541.5 | CI23: ='SMMR-Calcs'!L42 -> 93.07226 | CJ23: ='SMMR-Calcs'!M42 -> 73.07226 | CK23: ='SMMR-Calcs'!S42 -> 37.309317 | CL23: =IF(AK23="XX", "XX", AY23) -> -520.09284 | CM23: =IF(AK23="XX", "XX", CL23*60/CJ23) -> -427.05084 | CN23: ='SMMR-Calcs'!AQ42 -> -10151.193 | CO23: ='SMMR-Calcs'!AR42 -> -1685.1008 | CQ23: ='WNTR-Calcs'!L42 -> -17.92774 | CR23: ='WNTR-Calcs'!Q42 -> 11.541558 | CS23: ='WNTR-Calcs'!S42 -> -3.8785296 | CT23: =IF(AR23="XX", "XX", BS23) -> -520.09284 | CU23: =IF(AR23="XX", "XX", CT23*60/CR23) -> -2703.7572 | CV23: ='WNTR-Calcs'!AQ42 -> -71343.523 | CW23: ='WNTR-Calcs'!AR42 -> 2380.0283
B24: =B23+0.02 -> 0.34 | C24: =B24 / ($L$3 * SQRT(2*$C$3/$N$3)) -> 0.69689081 | G24: Leakage Area as % of Envel | H24: 0.4 | I24: 0.4 | J24: 0.4 | K24: 0.4 | L24: 0.4 | M24: 0.4 | N24: 0.4 | O24: 0.4 | Q24: =Q25+1 -> 10 | R24: 20 | S24: 3 | T24: 20 | Y24: Leakage Area as % of Envel | Z24: 0.4 | AA24: 0.35 | AB24: 0.3 | AC24: 0.25 | AD24: 0.3 | AE24: 0.35 | AF24: 0.4 | AG24: 0.3 | AI24: =AI25+1 -> 10 | AJ24: 20 | AK24: =IF(AJ24<=0, "XX", AB$29+AJ24) -> 26 | AL24: =IF(AK24="XX", "XX", $Z$11 + Z$34 + AA$34 + AB$34 + AJ24*AC$21) -> 974 | AM24: =IF(AK24="XX", "XX", AL24*0.3048) -> 296.8752 | AP24: =AI24 -> 10 | AQ24: =AK24 -> 26 | AR24: ='SMMR-Calcs'!AH43 -> 474 | AU24: ='SMMR-Calcs'!J43 -> 14.186034 | AV24: ='SMMR-Calcs'!K43 -> 6.8105424 | AW24: ='SMMR-Calcs'!L43 -> 93.31256 | AX24: ='SMMR-Calcs'!R43 -> 0.067934988 | AY24: ='SMMR-Calcs'!AO43 -> -592.83764 | AZ24: ='SMMR-Calcs'!AP43 -> -0.070575909 | BA24: =IF(AK24="XX", "XX", AY24*1.08*$AF$10/12000) -> -142.99244 | BJ24: =AP24 -> 10 | BK24: =AQ24 -> 26 | BL24: =AR24 -> 474 | BO24: ='WNTR-Calcs'!J42 -> 14.151234 | BP24: ='WNTR-Calcs'!K42 -> 17.068373 | BQ24: ='WNTR-Calcs'!L42 -> -17.92774 | BR24: ='WNTR-Calcs'!R42 -> 0.086643416 | BS24: ='SMMR-Calcs'!AO43 -> -592.83764 | BT24: ='SMMR-Calcs'!AP43 -> -0.070575909 | BU24: =IF(BK24="XX", "XX", BS24*1.08*$AG$10/1000) -> -5109.9522 | CD24: =AP24 -> 10 | CE24: =AQ24 -> 26 | CF24: =AR24 -> 474 | CI24: ='SMMR-Calcs'!L43 -> 93.31256 | CJ24: ='SMMR-Calcs'!M43 -> 73.31256 | CK24: ='SMMR-Calcs'!S43 -> 37.483826 | CL24: =IF(AK24="XX", "XX", AY24) -> -592.83764 | CM24: =IF(AK24="XX", "XX", CL24*60/CJ24) -> -485.18642 | CN24: ='SMMR-Calcs'!AQ43 -> -11724.885 | CO24: ='SMMR-Calcs'!AR43 -> -1920.7939 | CQ24: ='WNTR-Calcs'!L43 -> -17.68744 | CR24: ='WNTR-Calcs'!Q43 -> 11.519582 | CS24: ='WNTR-Calcs'!S43 -> -3.8166145 | CT24: =IF(AR24="XX", "XX", BS24) -> -592.83764 | CU24: =IF(AR24="XX", "XX", CT24*60/CR24) -> -3087.8082 | CV24: ='WNTR-Calcs'!AQ43 -> -94083.215 | CW24: ='WNTR-Calcs'!AR43 -> 3147.0365
B25: =B24+0.02 -> 0.36 | C25: =B25 / ($L$3 * SQRT(2*$C$3/$N$3)) -> 0.73788439 | G25: Envel Leakage Flow Coeff | H25: 0.6 | I25: 0.6 | J25: 0.6 | K25: 0.6 | L25: 0.6 | M25: 0.6 | N25: 0.6 | O25: 0.6 | Q25: =Q26+1 -> 9 | R25: 15 | S25: 2 | T25: 15 | Y25: Envel Leakage Flow Coeff | Z25: 0.6 | AA25: 0.6 | AB25: 0.6 | AC25: 0.6 | AD25: 0.6 | AE25: 0.6 | AF25: 0.6 | AG25: 0.6 | AI25: =AI26+1 -> 9 | AJ25: 15 | AK25: =IF(AJ25<=0, "XX", AB$29+AJ25) -> 21 | AL25: =IF(AK25="XX", "XX", $Z$11 + Z$34 + AA$34 + AB$34 + AJ25*AC$21) -> 906.5 | AM25: =IF(AK25="XX", "XX", AL25*0.3048) -> 276.3012 | AP25: =AI25 -> 9 | AQ25: =AK25 -> 21 | AR25: ='SMMR-Calcs'!AH44 -> 406.5 | AU25: ='SMMR-Calcs'!J44 -> 14.220903 | AV25: ='SMMR-Calcs'!K44 -> 6.552712 | AW25: ='SMMR-Calcs'!L44 -> 93.55286 | AX25: ='SMMR-Calcs'!R44 -> 0.068061131 | AY25: ='SMMR-Calcs'!AO44 -> -659.18869 | AZ25: ='SMMR-Calcs'!AP44 -> -0.078474844 | BA25: =IF(AK25="XX", "XX", AY25*1.08*$AF$10/12000) -> -158.99631 | BJ25: =AP25 -> 9 | BK25: =AQ25 -> 21 | BL25: =AR25 -> 406.5 | BO25: ='WNTR-Calcs'!J43 -> 14.186034 | BP25: ='WNTR-Calcs'!K43 -> 16.810542 | BQ25: ='WNTR-Calcs'!L43 -> -17.68744 | BR25: ='WNTR-Calcs'!R43 -> 0.086808708 | BS25: ='SMMR-Calcs'!AO44 -> -659.18869 | BT25: ='SMMR-Calcs'!AP44 -> -0.078474844 | BU25: =IF(BK25="XX", "XX", BS25*1.08*$AG$10/1000) -> -5681.8637 | CD25: =AP25 -> 9 | CE25: =AQ25 -> 21 | CF25: =AR25 -> 406.5 | CI25: ='SMMR-Calcs'!L44 -> 93.55286 | CJ25: ='SMMR-Calcs'!M44 -> 73.55286 | CK25: ='SMMR-Calcs'!S44 -> 37.658903 | CL25: =IF(AK25="XX", "XX", AY25) -> -659.18869 | CM25: =IF(AK25="XX", "XX", CL25*60/CJ25) -> -537.72649 | CN25: ='SMMR-Calcs'!AQ44 -> -13208.222 | CO25: ='SMMR-Calcs'!AR44 -> -2135.7714 | CQ25: ='WNTR-Calcs'!L44 -> -17.44714 | CR25: ='WNTR-Calcs'!Q44 -> 11.497658 | CS25: ='WNTR-Calcs'!S44 -> -3.7546628 | CT25: =IF(AR25="XX", "XX", BS25) -> -659.18869 | CU25: =IF(AR25="XX", "XX", CT25*60/CR25) -> -3439.9459 | CV25: ='WNTR-Calcs'!AQ44 -> -112041.08 | CW25: ='WNTR-Calcs'!AR44 -> 3757.7865
B26: =B25+0.02 -> 0.38 | C26: =B26 / ($L$3 * SQRT(2*$C$3/$N$3)) -> 0.77887797 | G26: In-Out PD (in.wg) PI - PO | H26: 0 | I26: 0 | J26: 0 | K26: 0 | L26: 0 | M26: 0 | N26: 0 | O26: 0 | Q26: =Q28+1 -> 8 | R26: 5 | S26: 1 | T26: 5 | Y26: In-Out PD (in.wg) PI - PO | Z26: 0 | AA26: 0.005 | AB26: 0.005 | AC26: 0.005 | AD26: 0.005 | AE26: 0.005 | AF26: 0.005 | AG26: 0.005 | AI26: =AI28+1 -> 8 | AJ26: 5 | AK26: =IF(AJ26<=0, "XX", Z$29 + AA$29 + AB$29+AJ26) -> 17 | AL26: =IF(AK26="XX", "XX", $Z$11 + Z$34 + AA$34 + AB$34 + AJ26*AC$21) -> 771.5 | AM26: =IF(AK26="XX", "XX", AL26*0.3048) -> 235.1532 | AP26: =AI26 -> 8 | AQ26: =AK26 -> 17 | AR26: ='SMMR-Calcs'!AH45 -> 271.5 | AU26: ='SMMR-Calcs'!J45 -> 14.290849 | AV26: ='SMMR-Calcs'!K45 -> 6.0370512 | AW26: ='SMMR-Calcs'!L45 -> 94.03346 | AX26: ='SMMR-Calcs'!R45 -> 0.06831377 | AY26: ='SMMR-Calcs'!AO45 -> -779.11252 | AZ26: ='SMMR-Calcs'!AP45 -> -0.092751491 | BA26: =IF(AK26="XX", "XX", AY26*1.08*$AF$10/12000) -> -187.92194 | BJ26: =AP26 -> 8 | BK26: =AQ26 -> 17 | BL26: =AR26 -> 271.5 | BO26: ='WNTR-Calcs'!J44 -> 14.220903 | BP26: ='WNTR-Calcs'!K44 -> 16.552712 | BQ26: ='WNTR-Calcs'!L44 -> -17.44714 | BR26: ='WNTR-Calcs'!R44 -> 0.086974236 | BS26: ='SMMR-Calcs'!AO45 -> -779.11252 | BT26: ='SMMR-Calcs'!AP45 -> -0.092751491 | BU26: =IF(BK26="XX", "XX", BS26*1.08*$AG$10/1000) -> -6715.5448 | CD26: =AP26 -> 8 | CE26: =AQ26 -> 17 | CF26: =AR26 -> 271.5 | CI26: ='SMMR-Calcs'!L45 -> 94.03346 | CJ26: ='SMMR-Calcs'!M45 -> 74.03346 | CK26: ='SMMR-Calcs'!S45 -> 38.010769 | CL26: =IF(AK26="XX", "XX", AY26) -> -779.11252 | CM26: =IF(AK26="XX", "XX", CL26*60/CJ26) -> -631.42735 | CN26: ='SMMR-Calcs'!AQ45 -> -16015.544 | CO26: ='SMMR-Calcs'!AR45 -> -2524.3246 | CQ26: ='WNTR-Calcs'!L45 -> -16.96654 | CR26: ='WNTR-Calcs'!Q45 -> 11.453966 | CS26: ='WNTR-Calcs'!S45 -> -3.6306487 | CT26: =IF(AR26="XX", "XX", BS26) -> -779.11252 | CU26: =IF(AR26="XX", "XX", CT26*60/CR26) -> -4081.2719 | CV26: ='WNTR-Calcs'!AQ45 -> -140632.97 | CW26: ='WNTR-Calcs'!AR45 -> 4742.2202
B27: =B26+0.02 -> 0.4 | C27: =B27 / ($L$3 * SQRT(2*$C$3/$N$3)) -> 0.81987154 | AI27: Section >> | AK27: =AB17 -> 3 | AL27: # flrs >> | AM27: =AB29 -> 6 | AP27: =AI27 -> Section >> | AR27: =AK27 -> 3 | AS27: =AB33 -> 36 | AU27: Alt psi | AV27: Wnd-V | AW27: OA-DB | AX27: OA-d | AY27: Q cfm | AZ27: Q/Env-A | BA27: Tons | BJ27: =AI27 -> Section >> | BL27: =AR27 -> 3 | BM27: =AS27 -> 36 | BO27: Alt psi | BP27: Wnd-V | BQ27: OA-DB | BR27: OA-d | BS27: Q cfm | BT27: Q/Env-A | BU27: KWH | CF27: =AR27 -> 3 | CG27: =AS27 -> 36 | CI27: OA-DB | CJ27: Vo ft3/lb | CK27: Ho bu/lb | CL27: Q ft3/min | CM27: Q lbs/hr | CN27: btuh | CO27: K-btu/yr | CQ27: OA-DB | CR27: Vo ft3/lb | CS27: Ho bu/lb | CT27: Q ft3/min | CU27: Q lbs/hr | CV27: btuh | CW27: K-btu/yr
B28: =B27+0.02 -> 0.42 | C28: =B28 / ($L$3 * SQRT(2*$C$3/$N$3)) -> 0.86086512 | E28: EX-3 | G28: SECTION No. | H28: a | I28: b | J28: c | K28: d | L28: e | M28: f | N28: g | O28: h | Q28: =Q29+1 -> 7 | R28: 0 | S28: 3 | T28: 5 | Y28: SECTION No. >> | Z28: =Z17 -> 1 | AA28: =AA17 -> 2-A | AB28: =AB17 -> 3 | AC28: =AC17 -> 4-k | AD28: =AD17 -> 5 | AE28: =AE17 -> 6 (x) | AF28: =AF17 -> 7 | AG28: =AG17 -> 8 | AI28: =AI29+1 -> 7 | AJ28: 0 | AK28: =IF(AJ28<=0, "XX", Z$29 + AA$29+AJ28) -> XX | AL28: =IF(AK28="XX", "XX", $Z$11 + Z$34 + AA$34 + AJ28*AB$21) -> XX | AM28: =IF(AK28="XX", "XX", AL28*0.3048) -> XX | AP28: =AI28 -> 7 | AQ28: =AK28 -> XX | AR28: ='SMMR-Calcs'!AH50 -> XX | AU28: ='SMMR-Calcs'!J50 -> XX | AV28: ='SMMR-Calcs'!K50 -> XX | AW28: ='SMMR-Calcs'!L50 -> XX | AX28: ='SMMR-Calcs'!R50 -> XX | AY28: ='SMMR-Calcs'!AO50 -> XX | AZ28: ='SMMR-Calcs'!AP50 -> XX | BA28: =IF(AK28="XX", "XX", AY28*1.08*$AF$10/12000) -> XX | BJ28: =AP28 -> 7 | BK28: =AQ28 -> XX | BL28: =AR28 -> XX | BO28: ='WNTR-Calcs'!J50 -> XX | BP28: ='WNTR-Calcs'!K50 -> XX | BQ28: ='WNTR-Calcs'!L50 -> XX | BR28: ='WNTR-Calcs'!R50 -> XX | BS28: ='WNTR-Calcs'!AO50 -> XX | BT28: ='WNTR-Calcs'!AP50 -> XX | BU28: =IF(BK28="XX", "XX", BS28*1.08*$AG$10/1000) -> XX | CD28: =AP28 -> 7 | CE28: =AQ28 -> XX | CF28: =AR28 -> XX | CI28: ='SMMR-Calcs'!L50 -> XX | CJ28: ='SMMR-Calcs'!Q50 -> XX | CK28: ='SMMR-Calcs'!S50 -> XX | CL28: =IF(AK28="XX", "XX", AY28) -> XX | CM28: =IF(AK28="XX", "XX", CL28*60/CJ28) -> XX | CN28: ='SMMR-Calcs'!AQ50 -> XX | CO28: ='SMMR-Calcs'!AR50 -> XX | CQ28: ='WNTR-Calcs'!L50 -> XX | CR28: ='WNTR-Calcs'!Q50 -> XX | CS28: ='WNTR-Calcs'!S50 -> XX | CT28: =IF(AR28="XX", "XX", BS28) -> XX | CU28: =IF(AR28="XX", "XX", CT28*60/CR28) -> XX | CV28: ='WNTR-Calcs'!AQ50 -> XX | CW28: ='WNTR-Calcs'!AR50 -> XX
B29: =B28+0.02 -> 0.44 | C29: =B29 / ($L$3 * SQRT(2*$C$3/$N$3)) -> 0.9018587 | G29: Flr Type (Retl, Offc, ) | H29: Office | I29: Office | J29: Office | K29: Office | L29: Office | M29: Office | N29: Office | O29: Office | Q29: =Q30+1 -> 6 | R29: 2 | S29: 2 | T29: 3 | Y29: No. of Flrs (Incl Mech Flr) | Z29: =Z22+(IF(Z23="Y", 1,0)) -> 2 | AA29: =AA22+(IF(AA23="Y", 1,0)) -> 4 | AB29: =AB22+(IF(AB23="Y", 1,0)) -> 6 | AC29: =AC22+(IF(AC23="Y", 1,0)) -> 41 | AD29: =AD22+(IF(AD23="Y", 1,0)) -> 5 | AE29: =AE22+(IF(AE23="Y", 1,0)) -> 25 | AF29: =AF22+(IF(AF23="Y", 1,0)) -> 16 | AG29: =AG22+(IF(AG23="Y", 1,0)) -> 3 | AI29: =AI30+1 -> 6 | AJ29: 2 | AK29: =IF(AJ29<=0, "XX", Z$29 + AA$29+AJ29) -> 8 | AL29: =IF(AK29="XX", "XX", $Z$11 + Z$34 + AA$34 + AJ29*AB$21) -> 644 | AM29: =IF(AK29="XX", "XX", AL29*0.3048) -> 196.2912 | AP29: =AI29 -> 6 | AQ29: =AK29 -> 8 | AR29: ='SMMR-Calcs'!AH51 -> 144 | AU29: ='SMMR-Calcs'!J51 -> 14.357164 | AV29: ='SMMR-Calcs'!K51 -> 5.5500382 | AW29: ='SMMR-Calcs'!L51 -> 94.48736 | AX29: ='SMMR-Calcs'!R51 -> 0.068552802 | AY29: ='SMMR-Calcs'!AO51 -> -1306.4637 | AZ29: ='SMMR-Calcs'!AP51 -> -0.15553139 | BA29: =IF(AK29="XX", "XX", AY29*1.08*$AF$10/12000) -> -315.11904 | BJ29: =AP29 -> 6 | BK29: =AQ29 -> 8 | BL29: =AR29 -> 144 | BO29: ='WNTR-Calcs'!J51 -> 14.357164 | BP29: ='WNTR-Calcs'!K51 -> 15.550038 | BQ29: ='WNTR-Calcs'!L51 -> -16.51264 | BR29: ='WNTR-Calcs'!R51 -> 0.087620206 | BS29: ='WNTR-Calcs'!AO51 -> 2517.3533 | BT29: ='WNTR-Calcs'!AP51 -> 0.29968492 | BU29: =IF(BK29="XX", "XX", BS29*1.08*$AG$10/1000) -> 21698.277 | CD29: =AP29 -> 6 | CE29: =AQ29 -> 8 | CF29: =AR29 -> 144 | CI29: ='SMMR-Calcs'!L51 -> 94.48736 | CJ29: ='SMMR-Calcs'!Q51 -> 14.587296 | CK29: ='SMMR-Calcs'!S51 -> 38.345197 | CL29: =IF(AK29="XX", "XX", AY29) -> -1306.4637 | CM29: =IF(AK29="XX", "XX", CL29*60/CJ29) -> -5373.7048 | CN29: ='SMMR-Calcs'!AQ51 -> -27496.29 | CO29: ='SMMR-Calcs'!AR51 -> -4232.9423 | CQ29: ='WNTR-Calcs'!L51 -> -16.51264 | CR29: ='WNTR-Calcs'!Q51 -> 11.412893 | CS29: ='WNTR-Calcs'!S51 -> -3.5133871 | CT29: =IF(AR29="XX", "XX", BS29) -> 2517.3533 | CU29: =IF(AR29="XX", "XX", CT29*60/CR29) -> 13234.261 | CV29: ='WNTR-Calcs'!AQ51 -> -240643 | CW29: ='WNTR-Calcs'!AR51 -> 8156.2248
B30: =B29+0.02 -> 0.46 | C30: =B30 / ($L$3 * SQRT(2*$C$3/$N$3)) -> 0.94285228 | G30: Typical Floor Length (ft) | H30: 220 | I30: 220 | J30: 220 | K30: 220 | L30: 220 | M30: 220 | N30: 220 | O30: 220 | Q30: =Q32+1 -> 5 | R30: 1 | S30: 1 | T30: 1 | Y30: Area per Flr (ft2) | Z30: =Z19*Z20 -> 76800 | AA30: =AA19*AA20 -> 56000 | AB30: =AB19*AB20 -> 38400 | AC30: =AC19*AC20 -> 30800 | AD30: =AD19*AD20 -> 24000 | AE30: =AE19*AE20 -> 18000 | AF30: =AF19*AF20 -> 18000 | AG30: =AG19*AG20 -> 18000 | AI30: =AI32+1 -> 5 | AJ30: 1 | AK30: =IF(AJ30<=0, "XX", Z$29 + AA$29+AJ30) -> 7 | AL30: =IF(AK30="XX", "XX", $Z$11 + Z$34 + AA$34 + AJ30*AB$21) -> 629 | AM30: =IF(AK30="XX", "XX", AL30*0.3048) -> 191.7192 | AP30: =AI30 -> 5 | AQ30: =AK30 -> 7 | AR30: ='SMMR-Calcs'!AH52 -> 129 | AU30: ='SMMR-Calcs'!J52 -> 14.364983 | AV30: ='SMMR-Calcs'!K52 -> 5.4927426 | AW30: ='SMMR-Calcs'!L52 -> 94.54076 | AX30: ='SMMR-Calcs'!R52 -> 0.068580951 | AY30: ='SMMR-Calcs'!AO52 -> -1323.6325 | AZ30: ='SMMR-Calcs'!AP52 -> -0.1575753 | BA30: =IF(AK30="XX", "XX", AY30*1.08*$AF$10/12000) -> -319.26017 | BJ30: =AP30 -> 5 | BK30: =AQ30 -> 7 | BL30: =AR30 -> 129 | BO30: ='WNTR-Calcs'!J52 -> 14.364983 | BP30: ='WNTR-Calcs'!K52 -> 15.492743 | BQ30: ='WNTR-Calcs'!L52 -> -16.45924 | BR30: ='WNTR-Calcs'!R52 -> 0.087657227 | BS30: ='WNTR-Calcs'!AO52 -> 2555.066 | BT30: ='WNTR-Calcs'!AP52 -> 0.30417452 | BU30: =IF(BK30="XX", "XX", BS30*1.08*$AG$10/1000) -> 22023.34 | CD30: =AP30 -> 5 | CE30: =AQ30 -> 7 | CF30: =AR30 -> 129 | CI30: ='SMMR-Calcs'!L52 -> 94.54076 | CJ30: ='SMMR-Calcs'!Q52 -> 14.581308 | CK30: ='SMMR-Calcs'!S52 -> 38.384677 | CL30: =IF(AK30="XX", "XX", AY30) -> -1323.6325 | CM30: =IF(AK30="XX", "XX", CL30*60/CJ30) -> -5446.5587 | CN30: ='SMMR-Calcs'!AQ52 -> -27933.969 | CO30: ='SMMR-Calcs'!AR52 -> -4288.5694 | CQ30: ='WNTR-Calcs'!L52 -> -16.45924 | CR30: ='WNTR-Calcs'!Q52 -> 11.408072 | CS30: ='WNTR-Calcs'!S52 -> -3.4995828 | CT30: =IF(AR30="XX", "XX", BS30) -> 2555.066 | CU30: =IF(AR30="XX", "XX", CT30*60/CR30) -> 13438.2 | CV30: ='WNTR-Calcs'!AQ52 -> -244100.73 | CW30: ='WNTR-Calcs'!AR52 -> 8278.4137
B31: =B30+0.02 -> 0.48 | C31: =B31 / ($L$3 * SQRT(2*$C$3/$N$3)) -> 0.98384585 | G31: Typical Floor Width (ft) | H31: 140 | I31: 140 | J31: 140 | K31: 140 | L31: 140 | M31: 140 | N31: 140 | O31: 140 | Y31: Envelope Length (ft) | Z31: =2*(Z19+Z20) -> 1120 | AA31: =2*(AA19+AA20) -> 960 | AB31: =2*(AB19+AB20) -> 800 | AC31: =2*(AC19+AC20) -> 720 | AD31: =2*(AD19+AD20) -> 640 | AE31: =2*(AE19+AE20) -> 560 | AF31: =2*(AF19+AF20) -> 560 | AG31: =2*(AG19+AG20) -> 560 | AI31: Section >> | AK31: =AA17 -> 2-A | AL31: # flrs >> | AM31: =AA29 -> 4 | AP31: =AI31 -> Section >> | AR31: =AK31 -> 2-A | AS31: =AA33 -> 60.48 | AU31: Alt psi | AV31: Wnd-V | AW31: OA-DB | AX31: OA-d | AY31: Q cfm | AZ31: Q/Env-A | BA31: Tons | BJ31: =AI31 -> Section >> | BL31: =AR31 -> 2-A | BM31: =AS31 -> 60.48 | BO31: Alt psi | BP31: Wnd-V | BQ31: OA-DB | BR31: OA-d | BS31: Q cfm | BT31: Q/Env-A | BU31: KWH | CF31: =AR31 -> 2-A | CG31: =AS31 -> 60.48 | CI31: OA-DB | CJ31: Vo ft3/lb | CK31: Ho bu/lb | CL31: Q ft3/min | CM31: Q lbs/hr | CN31: btuh | CO31: K-btu/yr | CQ31: OA-DB | CR31: Vo ft3/lb | CS31: Ho bu/lb | CT31: Q ft3/min | CU31: Q lbs/hr | CV31: btuh | CW31: K-btu/yr
B32: =B31+0.02 -> 0.5 | C32: =B32 / ($L$3 * SQRT(2*$C$3/$N$3)) -> 1.0248394 | G32: Floor-Floor Height (ft) | H32: 13.5 | I32: 13.5 | J32: 13.5 | K32: 13.5 | L32: 13.5 | M32: 13.5 | N32: 13.5 | O32: 13.5 | Q32: =Q33+1 -> 4 | R32: 0 | S32: 3 | T32: 3 | Y32: Envelope Area per Flr (ft2) | Z32: =Z31*Z21 -> 22400 | AA32: =AA31*AA21 -> 17280 | AB32: =AB31*AB21 -> 12000 | AC32: =AC31*AC21 -> 9720 | AD32: =AD31*AD21 -> 9600 | AE32: =AE31*AE21 -> 5600 | AF32: =AF31*AF21 -> 5600 | AG32: =AG31*AG21 -> 8400 | AI32: =AI33+1 -> 4 | AJ32: 0 | AK32: =IF(AJ32<=0, "XX", Z$29+AJ32) -> XX | AL32: =IF(AK32="XX", "XX", $Z$11 + Z$34 + AJ32*AA$21) -> XX | AM32: =IF(AK32="XX", "XX", AL32*0.3048) -> XX | AP32: =AI32 -> 4 | AQ32: =AK32 -> XX | AR32: ='SMMR-Calcs'!AH57 -> XX | AU32: ='SMMR-Calcs'!J57 -> XX | AV32: ='SMMR-Calcs'!K57 -> XX | AW32: ='SMMR-Calcs'!L57 -> XX | AX32: ='SMMR-Calcs'!R57 -> XX | AY32: ='SMMR-Calcs'!AO57 -> XX | AZ32: ='SMMR-Calcs'!AP57 -> XX | BA32: =IF(AK32="XX", "XX", AY32*1.08*$AF$10/12000) -> XX | BJ32: =AP32 -> 4 | BK32: =AQ32 -> XX | BL32: =AR32 -> XX | BO32: ='WNTR-Calcs'!J57 -> XX | BP32: ='WNTR-Calcs'!K57 -> XX | BQ32: ='WNTR-Calcs'!L57 -> XX | BR32: ='WNTR-Calcs'!R57 -> XX | BS32: ='WNTR-Calcs'!AO57 -> XX | BT32: ='WNTR-Calcs'!AP57 -> XX | BU32: =IF(BK32="XX", "XX", BS32*1.08*$AG$10/1000) -> XX | CD32: =AP32 -> 4 | CE32: =AQ32 -> XX | CF32: =AR32 -> XX | CI32: ='SMMR-Calcs'!L57 -> XX | CJ32: ='SMMR-Calcs'!Q57 -> XX | CK32: ='SMMR-Calcs'!S57 -> XX | CL32: =IF(AK32="XX", "XX", AY32) -> XX | CM32: =IF(AK32="XX", "XX", CL32*60/CJ32) -> XX | CN32: ='SMMR-Calcs'!AQ57 -> XX | CO32: ='SMMR-Calcs'!AR57 -> XX | CQ32: ='WNTR-Calcs'!L57 -> XX | CR32: ='WNTR-Calcs'!Q57 -> XX | CS32: ='WNTR-Calcs'!S57 -> XX | CT32: =IF(AR32="XX", "XX", BS32) -> XX | CU32: =IF(AR32="XX", "XX", CT32*60/CR32) -> XX | CV32: ='WNTR-Calcs'!AQ57 -> XX | CW32: ='WNTR-Calcs'!AR57 -> XX
B33: =B32+0.02 -> 0.52 | C33: =B33 / ($L$3 * SQRT(2*$C$3/$N$3)) -> 1.065833 | G33: Number of Typical Floors | H33: 2 | I33: 3 | J33: 6 | K33: 40 | L33: 5 | M33: 25 | N33: 15 | O33: 2 | Q33: =Q34+1 -> 3 | R33: 2 | S33: 2 | T33: 2 | Y33: Envel Leakage Area (ft2) | Z33: =Z24/100 * Z32 -> 89.6 | AA33: =AA24/100 * AA32 -> 60.48 | AB33: =AB24/100 * AB32 -> 36 | AC33: =AC24/100 * AC32 -> 24.3 | AD33: =AD24/100 * AD32 -> 28.8 | AE33: =AE24/100 * AE32 -> 19.6 | AF33: =AF24/100 * AF32 -> 22.4 | AG33: =AG24/100 * AG32 -> 25.2 | AI33: =AI34+1 -> 3 | AJ33: 2 | AK33: =IF(AJ33<=0, "XX", Z$29+AJ33) -> 4 | AL33: =IF(AK33="XX", "XX", $Z$11 + Z$34 + AJ33*AA$21) -> 576 | AM33: =IF(AK33="XX", "XX", AL33*0.3048) -> 175.5648 | AP33: =AI33 -> 3 | AQ33: =AK33 -> 4 | AR33: ='SMMR-Calcs'!AH58 -> 76 | AU33: ='SMMR-Calcs'!J58 -> 14.392635 | AV33: ='SMMR-Calcs'!K58 -> 5.2902979 | AW33: ='SMMR-Calcs'!L58 -> 94.72944 | AX33: ='SMMR-Calcs'!R58 -> 0.068680456 | AY33: ='SMMR-Calcs'!AO58 -> -2323.8644 | AZ33: ='SMMR-Calcs'!AP58 -> -0.27665052 | BA33: =IF(AK33="XX", "XX", AY33*1.08*$AF$10/12000) -> -560.51609 | BJ33: =AP33 -> 3 | BK33: =AQ33 -> 4 | BL33: =AR33 -> 76 | BO33: ='WNTR-Calcs'!J57 -> XX | BP33: ='WNTR-Calcs'!K57 -> XX | BQ33: ='WNTR-Calcs'!L57 -> XX | BR33: ='WNTR-Calcs'!R57 -> XX | BS33: ='WNTR-Calcs'!AO58 -> 2683.7352 | BT33: ='WNTR-Calcs'!AP58 -> 0.31949228 | BU33: =IF(BK33="XX", "XX", BS33*1.08*$AG$10/1000) -> 23132.402 | CD33: =AP33 -> 3 | CE33: =AQ33 -> 4 | CF33: =AR33 -> 76 | CI33: ='SMMR-Calcs'!L58 -> 94.72944 | CJ33: ='SMMR-Calcs'!Q58 -> 14.560183 | CK33: ='SMMR-Calcs'!S58 -> 38.524401 | CL33: =IF(AK33="XX", "XX", AY33) -> -2323.8644 | CM33: =IF(AK33="XX", "XX", CL33*60/CJ33) -> -9576.244 | CN33: ='SMMR-Calcs'!AQ58 -> -49516.426 | CO33: ='SMMR-Calcs'!AR58 -> -7529.3206 | CQ33: ='WNTR-Calcs'!L58 -> -16.27056 | CR33: ='WNTR-Calcs'!Q58 -> 11.391062 | CS33: ='WNTR-Calcs'!S58 -> -3.4507925 | CT33: =IF(AR33="XX", "XX", BS33) -> 2683.7352 | CU33: =IF(AR33="XX", "XX", CT33*60/CR33) -> 14136.005 | CV33: ='WNTR-Calcs'!AQ58 -> -255846.39 | CW33: ='WNTR-Calcs'!AR58 -> 8695.302
