Workbook

Sheet Hi-Rise-Multiuse
H2: =H3 + G3 -> 600 | K2: Top of Cooling Towers = 600 feet | AQ2: =AQ3 + G3 -> 600
F3: RF | G3: 30 | H3: =H4 + G4 -> 570 | R3: RF-L52 | Z3: Cooling Towers | AF3: Roof : 160 x 120 : (80,50,570) | AQ3: =AQ4 + G4 -> 570 | AR3: RF | AS3: RF
F4: =F5 + 1 -> 45 | G4: 20 | H4: =H5 + G5 -> 550 | R4: MER-L45 | V4: H&V | Y4: Mechanical Equipment Room : 160 x 120 x 20 : (80,50,550) | AQ4: =AQ5 + G5 -> 550 | AR4: 20 | AS4: =AS5 + 1 -> 45
F5: =F6 + 1 -> 44 | G5: 15 | H5: =H6 + G6 -> 535 | R5: RST-L44 | V5: VAVS | Y5: Restaurant : 160 x 100 x 15 : (80,50,535) | AQ5: =AQ6 + G6 -> 535 | AR5: 15 | AS5: =AS6 + 1 -> 44
F6: =F7 + 1 -> 43 | G6: 10 | H6: =H7 + G7 -> 525 | J6: Pressure | AQ6: =AQ7 + G7 -> 525 | AR6: 10 | AS6: =AS7 + 1 -> 43
F7: =F8 + 1 -> 42 | G7: 10 | H7: =H8 + G8 -> 515 | J7: Feet x 0.433 = psi | AA7: with partially inset balconies | AQ7: =AQ8 + G8 -> 515 | AR7: 10 | AS7: =AS8 + 1 -> 42
F8: =F9 + 1 -> 41 | G8: 10 | H8: =H9 + G9 -> 505 | S8: 5 floors | AQ8: =AQ9 + G9 -> 505 | AR8: 10 | AS8: =AS9 + 1 -> 41
F9: =F10 + 1 -> 40 | G9: 10 | H9: =H10 + G10 -> 495 | J9: Pipe Height from | S9: PTAC | AL9: Balcony | AQ9: =AQ10 + G10 -> 495 | AR9: 10 | AS9: =AS10 + 1 -> 40
F10: =F11 + 1 -> 39 | G10: 10 | H10: =H11 + G11 -> 485 | J10: B3 (-40') to the Top | R10: Apartments-L34-L48 | AB10: 160 x 120 x 10 : (80,50,485) | AQ10: =AQ11 + G11 -> 485 | AR10: 10 | AS10: =AS11 + 1 -> 39
F11: =F12 + 1 -> 38 | G11: 10 | H11: =H12 + G12 -> 475 | J11: of Cooling Towers = | AQ11: =AQ12 + G12 -> 475 | AR11: 10 | AS11: =AS12 + 1 -> 38
F12: =F13 + 1 -> 37 | G12: 10 | H12: =H13 + G13 -> 465 | J12: 640 feet (277 psi) | AJ12: OPERABLE | AQ12: =AQ13 + G13 -> 465 | AR12: 10 | AS12: =AS13 + 1 -> 37
F13: =F14 + 1 -> 36 | G13: 10 | H13: =H14 + G14 -> 455 | AJ13: WINDOWS | AQ13: =AQ14 + G14 -> 455 | AR13: 10 | AS13: =AS14 + 1 -> 36
F14: =F15 + 1 -> 35 | G14: 10 | H14: =H15 + G15 -> 445 | AQ14: =AQ15 + G15 -> 445 | AR14: 10 | AS14: =AS15 + 1 -> 35
F15: =F16 + 1 -> 34 | G15: 10 | H15: =H16 + G16 -> 435 | AQ15: =AQ16 + G16 -> 435 | AR15: 10 | AS15: =AS16 + 1 -> 34
F16: =F17 + 1 -> 33 | G16: 10 | H16: =H17 + G17 -> 425 | AQ16: =AQ17 + G17 -> 425 | AR16: 10 | AS16: =AS17 + 1 -> 33
F17: =F18 + 1 -> 32 | G17: 10 | H17: =H18 + G18 -> 415 | AQ17: =AQ18 + G18 -> 415 | AR17: 10 | AS17: =AS18 + 1 -> 32
F18: =F19 + 1 -> 31 | G18: 10 | H18: =H19 + G19 -> 405 | AQ18: =AQ19 + G19 -> 405 | AR18: 10 | AS18: =AS19 + 1 -> 31
F19: =F20 + 1 -> 30 | G19: 10 | H19: =H20 + G20 -> 395 | S19: 4-Pipe FCU | AQ19: =AQ20 + G20 -> 395 | AR19: 10 | AS19: =AS20 + 1 -> 30
F20: =F21 + 1 -> 29 | G20: 10 | H20: =H21 + G21 -> 385 | R20: HTL-Rms-L29-L38 | Z20: 10 floors | AD20: 160 x 120 x 10 : (80,50,385) | AQ20: =AQ21 + G21 -> 385 | AR20: 10 | AS20: =AS21 + 1 -> 29
F21: =F22 + 1 -> 28 | G21: 15 | H21: =H22 + G22 -> 370 | P21: Reception - Lobby | W21: Gymnasium | AB21: Health Spa | AF21: Swimming Pool | AQ21: =AQ22 + G22 -> 370 | AR21: 15 | AS21: =AS22 + 1 -> 28
F22: =F23 + 1 -> 27 | G22: 15 | H22: =H23 + G23 -> 355 | P22: Laundry Dry Cleaners | W22: Dance Club / Disc | AB22: Coctail Bar | AF22: Wedding Hall | AQ22: =AQ23 + G23 -> 355 | AR22: 15 | AS22: =AS23 + 1 -> 27
F23: =F24 + 1 -> 26 | G23: 15 | H23: =H24 + G24 -> 340 | P23: Housekeeping - Storage | W23: Meeting Rooms | AB23: Conference Centers | AQ23: =AQ24 + G24 -> 340 | AR23: 15 | AS23: =AS24 + 1 -> 26
F24: =F25 + 1 -> 25 | G24: 15 | H24: =H25 + G25 -> 325 | O24: HTL-Fns-L25-L28 | V24: 4 floors | Z24: 220 x 120 x 15 : (50,40,325) | AQ24: =AQ25 + G25 -> 325 | AR24: 15 | AS24: =AS25 + 1 -> 25
F25: =F26 + 1 -> 24 | G25: 20 | H25: =H26 + G26 -> 305 | O25: MER-L24 | S25: H&V | V25: Mechanical Equipment Room : 220 x 120 x 20 : (50,40,305) | AQ25: =AQ26 + G26 -> 305 | AR25: 20 | AS25: =AS26 + 1 -> 24
C26: ADJACENT BUILDING | F26: =F27 + 1 -> 23 | G26: 13 | H26: =H27 + G27 -> 292 | V26: Toilets, M-E Closets, Shafts | AQ26: =AQ27 + G27 -> 292 | AR26: 13 | AS26: =AS27 + 1 -> 23 | AU26: ADJACENT BUILDING
F27: =F28 + 1 -> 22 | G27: 13 | H27: =H28 + G28 -> 279 | V27: Elevators, Stairs, Lobby, Storage | AH27: ATR-SE | AQ27: =AQ28 + G28 -> 279 | AR27: 13 | AS27: =AS28 + 1 -> 22
F28: =F29 + 1 -> 21 | G28: 13 | H28: =H29 + G29 -> 266 | J28: ATRIUMS | V28: CORE B3-L52 | AH28: Level 19 | AL28: SOUTH | AQ28: =AQ29 + G29 -> 266 | AR28: 13 | AS28: =AS29 + 1 -> 21
F29: =F30 + 1 -> 20 | G29: 13 | H29: =H30 + G30 -> 253 | J29: 30' x 30' x | V29: 80 x 60 (120,70,Z) | AL29: ELEVATION | AQ29: =AQ30 + G30 -> 253 | AR29: 13 | AS29: =AS30 + 1 -> 20
F30: =F31 + 1 -> 19 | G30: 13 | H30: =H31 + G31 -> 240 | J30: 5 levels high | AQ30: =AQ31 + G31 -> 240 | AR30: 13 | AS30: =AS31 + 1 -> 19
F31: =F32 + 1 -> 18 | G31: 13 | H31: =H32 + G32 -> 227 | J31: located on the | AM31: OFFICE | AQ31: =AQ32 + G32 -> 227 | AR31: 13 | AS31: =AS32 + 1 -> 18
F32: =F33 + 1 -> 17 | G32: 13 | H32: =H33 + G33 -> 214 | J32: SE and NW | AH32: ATR-SE | AM32: ATRIUMS | AQ32: =AQ33 + G33 -> 214 | AR32: 13 | AS32: =AS33 + 1 -> 17
F33: =F34 + 1 -> 16 | G33: 13 | H33: =H34 + G34 -> 201 | J33: corners of | AH33: Level 14 | AM33: 5 Flrs High | AQ33: =AQ34 + G34 -> 201 | AR33: 13 | AS33: =AS34 + 1 -> 16
F34: =F35 + 1 -> 15 | G34: 13 | H34: =H35 + G35 -> 188 | J34: Office Floors | AM34: FIXED | AQ34: =AQ35 + G35 -> 188 | AR34: 13 | AS34: =AS35 + 1 -> 15
F35: =F36 + 1 -> 14 | G35: 13 | H35: =H36 + G36 -> 175 | J35: (See Plan View) | AM35: WINDOWS | AQ35: =AQ36 + G36 -> 175 | AR35: 13 | AS35: =AS36 + 1 -> 14
F36: =F37 + 1 -> 13 | G36: 13 | H36: =H37 + G37 -> 162 | AQ36: =AQ37 + G37 -> 162 | AR36: 13 | AS36: =AS37 + 1 -> 13
F37: =F38 + 1 -> 12 | G37: 13 | H37: =H38 + G38 -> 149 | AH37: ATR-SE | AQ37: =AQ38 + G38 -> 149 | AR37: 13 | AS37: =AS38 + 1 -> 12
F38: =F39 + 1 -> 11 | G38: 13 | H38: =H39 + G39 -> 136 | AH38: Level 9 | AQ38: =AQ39 + G39 -> 136 | AR38: 13 | AS38: =AS39 + 1 -> 11
F39: =F40 + 1 -> 10 | G39: 13 | H39: =H40 + G40 -> 123 | P39: VAVS-PIU | AQ39: =AQ40 + G40 -> 123 | AR39: 13 | AS39: =AS40 + 1 -> 10
F40: =F41 + 1 -> 9 | G40: 13 | H40: =H41 + G41 -> 110 | O40: OFC-L9-L23 | U40: 20 floors | Y40: Office : 220 x 120 x 13 : (50,40,110) | AQ40: =AQ41 + G41 -> 110 | AR40: 13 | AS40: =AS41 + 1 -> 9
F41: =F42 + 1 -> 8 | G41: 20 | H41: =H42 + G42 -> 90 | L41: MER-L8 | Q41: Mechanical Equipment Room : 280 x 160 x 20 : (20,20,90) | AQ41: =AQ42 + G42 -> 90 | AR41: 20 | AS41: =AS42 + 1 -> 8
F42: =F43 + 1 -> 7 | G42: 10 | H42: =H43 + G43 -> 80 | AM42: SHAFTS | AQ42: =AQ43 + G43 -> 80 | AR42: 10 | AS42: =AS43 + 1 -> 7
F43: =F44 + 1 -> 6 | G43: 10 | H43: =H44 + G44 -> 70 | J43: OPEN | AQ43: =AQ44 + G44 -> 70 | AR43: 10 | AS43: =AS44 + 1 -> 6
F44: =F45 + 1 -> 5 | G44: 10 | H44: =H45 + G45 -> 60 | J44: NO WALLS | AQ44: =AQ45 + G45 -> 60 | AR44: 10 | AS44: =AS45 + 1 -> 5
F45: =F46 + 1 -> 4 | G45: 10 | H45: =H46 + G46 -> 50 | L45: PKG-L4-L7 | R45: Parking : 280 x 160 x 10 : (20,20,50) | AM45: SHAFTS | AQ45: =AQ46 + G46 -> 50 | AR45: 10 | AS45: =AS46 + 1 -> 4
F46: =F47 + 1 -> 3 | G46: 15 | H46: =H47 + G47 -> 35 | AI46: Auditorium | AQ46: =AQ47 + G47 -> 35 | AR46: 15 | AS46: =AS47 + 1 -> 3
F47: =F48 + 1 -> 2 | G47: 15 | H47: =H48 +G48 -> 20 | L47: RTL: L2-L3 | R47: Retail : 280 x 160 x 20 : (20,20,20) | AI47: Theatre | AN47: Service | AQ47: =AQ48 +G48 -> 20 | AR47: 15 | AS47: =AS48 + 1 -> 2
F48: 1 | G48: 20 | H48: 0 | L48: LBY: L1 | R48: Lobby : 280 x 160 x 20 : (20,20,0) | AN48: Alley | AQ48: 0 | AR48: 20 | AS48: 1
F49: B1 | G49: 10 | H49: -10 | AM49: Emergency | AQ49: -10 | AR49: 10 | AS49: B1
B50: Z | F50: B2 | G50: 10 | H50: -20 | J50: PKG-B1-B2 | P50: Underground Parking : 320 x 200 x 10 : (0,0,-20) | AF50: Ventil only | AM50: Generators | AQ50: -20 | AR50: 10 | AS50: B2
F51: B3 | G51: 20 | H51: -40 | J51: MER-B3 | N51: Mechanical Equipment Room : 320 x 200 x 20 : (0,0,-40) | AF51: H&V | AQ51: -40 | AR51: 20 | AS51: B3
B52: X | I52: 0 | J52: =I52+10 -> 10 | K52: =J52+10 -> 20 | L52: =K52+10 -> 30 | M52: =L52+10 -> 40 | N52: =M52+10 -> 50 | O52: =N52+10 -> 60 | P52: =O52+10 -> 70 | Q52: =P52+10 -> 80 | ... AO52: =AN52+10 -> 320
A53: 0 | B53: =A53+10 -> 10 | C53: =B53+10 -> 20 | D53: =C53+10 -> 30 | E53: =D53+10 -> 40 | F53: =E53+10 -> 50 | G53: =F53+10 -> 60 | H53: =G53+10 -> 70 | I53: =H53+10 -> 80 | ... AW53: =AV53+10 -> 480

Sheet Input-Output
A1: 2 | B1: 6 | C1: 6 | D1: 2 | E1: 7.5 | F1: 7.5 | G1: 7.5 | H1: 7.5 | I1: 7.5 | J1: 7.5 | K1: 7.5 | L1: 7.5 | M1: 7.5 | N1: 7.5 | O1: 7.5 | P1: 2 | Q1: 5.5 | R1: 5.5 | S1: 5.5 | T1: 5.5 | U1: 2 | V1: 2 | W1: 8 | X1: 8 | Y1: 8 | Z1: 8.6 | AA1: 8.6 | AB1: 8.6 | AC1: 8.6 | AD1: 8.6 | AE1: 8.6 | AF1: 8.6 | AG1: 8.6 | AH1: 2 | AI1: 5.5 | AJ1: 5.5 | AK1: 5.5 | AL1: 5.5 | AM1: 5.5 | AN1: 2 | AO1: 2 | AP1: 5 | AQ1: 5 | AR1: 5 | AS1: 5 | AT1: 2 | AU1: 7.5 | AV1: 7.5 | AW1: 7.5 | AX1: 7.5 | AY1: 7.5 | AZ1: 7.5 | BA1: 8 | BB1: 8 | BC1: 8 | BD1: 8 | BE1: 8 | BF1: 8 | BG1: 8 | BH1: 2 | BI1: 2 | BJ1: 5 | BK1: 5 | BL1: 5 | BM1: 5 | BO1: 7.5 | BP1: 7.5 | BQ1: 7.5 | BR1: 7.5 | BS1: 7.5 | BT1: 7.5 | BU1: 8 | BV1: 8 | BW1: 8 | BX1: 8 | BY1: 8 | BZ1: 8 | CA1: 8 | CB1: 2 | CC1: 2 | CD1: 5 | CE1: 5 | CF1: 5 | CG1: 5 | CH1: 2 | CI1: 6 | CJ1: 6 | CK1: 6 | CL1: 6 | CM1: 6 | CN1: 7.5 | CO1: 7.5 | CP1: 2 | CQ1: 6 | CR1: 6 | CS1: 6 | CT1: 6 | CU1: 6 | CV1: 7.5 | CW1: 7.5 | CX1: 7.5
B2: Infltr | C2: Pi-Po= | F2: Pi-Po | G2: Inside to Outside Pressure Difference for Building Pressurization = | N2: 0.02 | Q2: Calc | R2: EX-1 | S2: EX-2 | T2: EX-3 | W2: Bldg Pressurization - Stack Effect & Wind Press Infltr | AD2: USER INPUT | AF2: descriptions | AI2: Calc | AJ2: Sctn | AK2: Bldg | AL2: Flr-H + Sea-Lvl | AP2: Calc | AQ2: Floor | AR2: Floor | AS2: Flr | AU2: From Sheet 'SMMR-Calcs' | AY2: SUMMER | BA2: Annual | BJ2: Calc | BK2: Floor | BL2: Floor | BM2: Flr | BO2: From Sheet 'WNTR-Calcs' | BS2: WINTER | BU2: Annual | CD2: =AP2 -> Calc | CE2: =AQ2 -> Floor | CF2: =AR2 -> Floor | CG2: =AS2 -> Flr | CI2: From Sheet 'SMMR-Calcs' | CN2: Infltr | CO2: Cooling | CQ2: From Sheet 'WNTR-Calcs' | CV2: Infltr | CW2: Heating
B3: cfm/ft2 | C3: =N2 -> 0.02 | E3: Q = Cd * A * ( 2 * ∆P/d )0.5 | H3: A = Q / ( Cd * ( 2 * ∆P/d )0.5 ) | K3: Cd = | L3: 0.65 | M3: dens = | N3: 0.071 | Q3: ID # | R3: S-Flr | S3: S-Flr | T3: S-Flr | AF3: CALCULATED | AI3: ID # | AJ3: Flr # | AK3: Flr-# | AL3: feet | AM3: meters | AP3: ID # | AQ3: Lvl # | AR3: Hgt | AS3: Lk-A | BA3: Tons | BJ3: ID # | BK3: Lvl # | BL3: Hgt | BM3: Lk-A | BU3: KWH | CD3: =AP3 -> ID # | CE3: =AQ3 -> Lvl # | CF3: =AR3 -> Hgt | CG3: =AS3 -> Lk-A | CN3: SHG | CO3: Energy/Yr | CV3: SHL | CW3: Energy/Yr
B4: Envlp | C4: Infl-A | E4: INPUT DATA Preparation Sheet | I4: Prepare your Input Data offline here (up to 3 examples) | BA4: Cooling | BU4: Heating
B5: Area | C5: ft2 | K5: and Copy and Paste into next sheet >> | Y5: P R O J E C T D A T A | Z5: Description | AE5: DESIGN (INPUT) | AF5: SMMR | AG5: WNTR | AI5: Section >> | AK5: =AG17 -> 8 | AL5: # flrs >> | AM5: =AG29 -> 3 | AP5: =AI5 -> Section >> | AR5: =AK5 -> 8 | AS5: =AG33 -> 25.2 | AU5: Alt psi | AV5: Wnd-V | AW5: OA-DB | AX5: OA-d | AY5: Q cfm | AZ5: Q/Env-A | BA5: Tons | BJ5: =AI5 -> Section >> | BL5: =AR5 -> 8 | BM5: =AS5 -> 25.2 | BO5: Alt psi | BP5: Wnd-V | BQ5: OA-DB | BR5: OA-d | BS5: Q cfm | BT5: Q/Env-A | BU5: KWH | CF5: =AR5 -> 8 | CG5: =AS5 -> 25.2 | CI5: OA-DB | CJ5: Vo ft3/lb | CK5: Ho bu/lb | CL5: Q ft3/min | CM5: Q lbs/hr | CN5: btuh | CO5: K-btu/yr | CQ5: OA-DB | CR5: Vo ft3/lb | CS5: Ho bu/lb | CT5: Q ft3/min | CU5: Q lbs/hr | CV5: btuh | CW5: K-btuh/yr
E6: EX-1 | G6: SECTION No. | H6: 1 | I6: 2-A | J6: 3 | K6: 4-k | L6: 5 | M6: 6 (x) | N6: 7 | O6: 8 | Q6: =Q7+1 -> 24 | R6: 2 | S6: 2 | T6: 2 | Y6: Project Name | Z6: Very Tall Mixed-Use Building (Description) | AE6: Wnd (mph) Grnd | AF6: 5 | AG6: 15 | AI6: =AI7+1 -> 24 | AJ6: 2 | AK6: =IF(AJ6<=0, "XX", Z$29 + AA$29 + AB$29 + AC$29 + AD$29 + AE$29 + AF$29+AJ6) -> 101 | AL6: =IF(AK6="XX", "XX", $Z$11 + Z$34 + AA$34 + AB$34 +AC$34 + AD$34 +AE$34 + AF$34+ AJ6*AG$21) -> 1789 | AM6: =IF(AK6="XX", "XX", AL6*0.3048) -> 545.2872 | AP6: =AI6 -> 24 | AQ6: =AK6 -> 101 | AR6: ='SMMR-Calcs'!AH13 -> 1289 | AU6: ='SMMR-Calcs'!J13 -> 13.77046 | AV6: ='SMMR-Calcs'!K13 -> 9.9236058 | AW6: ='SMMR-Calcs'!L13 -> 90.41116 | AX6: ='SMMR-Calcs'!R13 -> 0.066421316 | AY6: ='SMMR-Calcs'!AO13 -> 722.0424 | AZ6: ='SMMR-Calcs'!AP13 -> 0.085957429 | BA6: =IF(AK6="XX", "XX", AY6*1.08*$AF$10/12000) -> 174.15663 | BJ6: =AP6 -> 24 | BK6: =AQ6 -> 101 | BL6: =AR6 -> 1289 | BO6: ='WNTR-Calcs'!J13 -> 13.77046 | BP6: ='WNTR-Calcs'!K13 -> 19.923606 | BQ6: ='WNTR-Calcs'!L13 -> -20.58884 | BR6: ='WNTR-Calcs'!R13 -> 0.084828727 | BS6: ='WNTR-Calcs'!AO13 -> -2093.1136 | BT6: ='WNTR-Calcs'!AP13 -> -0.24918019 | BU6: =IF(BK6="XX", "XX", BS6*1.08*$AG$10/1000) -> -18041.551 | CD6: =AP6 -> 24 | CE6: =AQ6 -> 101 | CF6: =AR6 -> 1289 | CI6: ='SMMR-Calcs'!L13 -> 90.41116 | CJ6: ='SMMR-Calcs'!Q13 -> 15.055408 | CK6: ='SMMR-Calcs'!S13 -> 35.414167 | CL6: =IF(AK6="XX", "XX", AY6) -> 722.0424 | CM6: =IF(AK6="XX", "XX", CL6*60/CJ6) -> 2877.5404 | CN6: ='SMMR-Calcs'!AQ13 -> 12017.712 | CO6: ='SMMR-Calcs'!AR13 -> 2089.8795 | CQ6: ='WNTR-Calcs'!L13 -> -20.58884 | CR6: ='WNTR-Calcs'!Q13 -> 11.788459 | CS6: ='WNTR-Calcs'!S13 -> -4.5618116 | CT6: =IF(AR6="XX", "XX", BS6) -> -2093.1136 | CU6: =IF(AR6="XX", "XX", CT6*60/CR6) -> -10653.37 | CV6: ='WNTR-Calcs'!AQ13 -> 209302.88 | CW6: ='WNTR-Calcs'!AR13 -> -18041.551
B7: 0 | C7: =B7 / ($L$3 * SQRT(2*$C$3/$N$3)) -> 0 | G7: Flr Type (Retl, Offc, ) | H7: Lobby | I7: Retail | J7: Tradg | K7: Office | L7: Htl-Srvc | M7: Hotel | N7: Condos | O7: Dining | Q7: =Q9+1 -> 23 | R7: 1 | S7: 1 | T7: 1 | Y7: Project Analyst | Z7: VCT (Description) | AE7: Wnd (mph) Roof | AF7: 10 | AG7: 20 | AI7: =AI9+1 -> 23 | AJ7: 1 | AK7: =IF(AJ7<=0, "XX", Z$29 + AA$29 + AB$29 + AC$29 + AD$29 + AE$29 + AF$29+AJ7) -> 100 | AL7: =IF(AK7="XX", "XX", $Z$11 + Z$34 + AA$34 + AB$34 +AC$34 + AD$34 +AE$34 + AF$34+ AJ7*AG$21) -> 1774 | AM7: =IF(AK7="XX", "XX", AL7*0.3048) -> 540.7152 | AP7: =AI7 -> 23 | AQ7: =AK7 -> 100 | AR7: ='SMMR-Calcs'!AH14 -> 1274 | AU7: ='SMMR-Calcs'!J14 -> 13.778018 | AV7: ='SMMR-Calcs'!K14 -> 9.8663102 | AW7: ='SMMR-Calcs'!L14 -> 90.46456 | AX7: ='SMMR-Calcs'!R14 -> 0.066449017 | AY7: ='SMMR-Calcs'!AO14 -> 712.59132 | AZ7: ='SMMR-Calcs'!AP14 -> 0.0848323 | BA7: =IF(AK7="XX", "XX", AY7*1.08*$AF$10/12000) -> 171.87703 | BJ7: =AP7 -> 23 | BK7: =AQ7 -> 100 | BL7: =AR7 -> 1274 | BO7: ='WNTR-Calcs'!J14 -> 13.778018 | BP7: ='WNTR-Calcs'!K14 -> 19.86631 | BQ7: ='WNTR-Calcs'!L14 -> -20.53544 | BR7: ='WNTR-Calcs'!R14 -> 0.084864859 | BS7: ='WNTR-Calcs'!AO14 -> -2068.5318 | BT7: ='WNTR-Calcs'!AP14 -> -0.24625379 | BU7: =IF(BK7="XX", "XX", BS7*1.08*$AG$10/1000) -> -17829.669 | CD7: =AP7 -> 23 | CE7: =AQ7 -> 100 | CF7: =AR7 -> 1274 | CI7: ='SMMR-Calcs'!L14 -> 90.46456 | CJ7: ='SMMR-Calcs'!Q14 -> 15.049132 | CK7: ='SMMR-Calcs'!S14 -> 35.451533 | CL7: =IF(AK7="XX", "XX", AY7) -> 712.59132 | CM7: =IF(AK7="XX", "XX", CL7*60/CJ7) -> 2841.0595 | CN7: ='SMMR-Calcs'!AQ14 -> 11901.504 | CO7: ='SMMR-Calcs'!AR14 -> 2308.7959 | CQ7: ='WNTR-Calcs'!L14 -> -20.53544 | CR7: ='WNTR-Calcs'!Q14 -> 11.78344 | CS7: ='WNTR-Calcs'!S14 -> -4.5481418 | CT7: =IF(AR7="XX", "XX", BS7) -> -2068.5318 | CU7: =IF(AR7="XX", "XX", CT7*60/CR7) -> -10532.74 | CV7: ='WNTR-Calcs'!AQ14 -> 206725.5 | CW7: ='WNTR-Calcs'!AR14 -> -6702.0431
B8: =B7+0.02 -> 0.02 | C8: =B8 / ($L$3 * SQRT(2*$C$3/$N$3)) -> 0.040993577 | G8: Typical Floor Length (ft) | H8: 320 | I8: 280 | J8: 240 | K8: 220 | L8: 200 | M8: 180 | N8: 180 | O8: 180 | Y8: Bldg Type (Office, Hotel) | Z8: Mixed Use High Rise (Description) | AE8: Outdoor DB (F) | AF8: 95 | AG8: -16 | AI8: Section >> | AK8: =AF17 -> 7 | AL8: # flrs >> | AM8: =AF29 -> 16 | AP8: =AI8 -> Section >> | AR8: =AK8 -> 7 | AS8: =AF33 -> 22.4 | AU8: Alt psi | AV8: Wnd-V | AW8: OA-DB | AX8: OA-d | AY8: Q cfm | AZ8: Q/Env-A | BA8: Tons | BJ8: =AI8 -> Section >> | BL8: =AR8 -> 7 | BM8: =AS8 -> 22.4 | BO8: Alt psi | BP8: Wnd-V | BQ8: OA-DB | BR8: OA-d | BS8: Q cfm | BT8: Q/Env-A | BU8: KWH | CF8: =AR8 -> 7 | CG8: =AS8 -> 22.4 | CI8: OA-DB | CJ8: Vo ft3/lb | CK8: Ho bu/lb | CL8: Q ft3/min | CM8: Q lbs/hr | CN8: btuh | CO8: K-btu/yr | CQ8: OA-DB | CR8: Vo ft3/lb | CS8: Ho bu/lb | CT8: Q ft3/min | CU8: Q lbs/hr | CV8: btuh | CW8: K-btu/yr
B9: =B8+0.02 -> 0.04 | C9: =B9 / ($L$3 * SQRT(2*$C$3/$N$3)) -> 0.081987154 | G9: Typical Floor Width (ft) | H9: 240 | I9: 200 | J9: 160 | K9: 140 | L9: 120 | M9: 100 | N9: 100 | O9: 100 | Q9: 22 | R9: 0 | S9: 3 | T9: 15 | Y9: Location (City, State) | Z9: Minneapolis, MN, USA (Description) | AE9: Outdoor WB (F) | AF9: 75 | AG9: -16 | AI9: 22 | AJ9: 0 | AK9: =IF(AJ9<=0, "XX", Z$29 + AA$29 + AB$29 + AC$29 + AD$29 + AE$29 + +AJ9) -> XX | AL9: =IF(AK9="XX", "XX", $Z$11 + Z$34 + AA$34 + AB$34 +AC$34 + AD$34 +AE$34 + AJ9*AF$21) -> XX | AM9: =IF(AK9="XX", "XX", AL9*0.3048) -> XX | AP9: =AI9 -> 22 | AQ9: =AK9 -> XX | AR9: ='SMMR-Calcs'!AH19 -> XX | AU9: ='SMMR-Calcs'!J19 -> XX | AV9: ='SMMR-Calcs'!K19 -> XX | AW9: ='SMMR-Calcs'!L19 -> XX | AX9: ='SMMR-Calcs'!R19 -> XX | AY9: ='SMMR-Calcs'!AO19 -> XX | AZ9: ='SMMR-Calcs'!AP19 -> XX | BA9: =IF(AK9="XX", "XX", AY9*1.08*$AF$10/12000) -> XX | BJ9: =AP9 -> 22 | BK9: =AQ9 -> XX | BL9: =AR9 -> XX | BO9: ='WNTR-Calcs'!J19 -> XX | BP9: ='WNTR-Calcs'!K19 -> XX | BQ9: ='WNTR-Calcs'!L12 -> F | BR9: ='WNTR-Calcs'!R19 -> XX | BS9: ='WNTR-Calcs'!AO19 -> XX | BT9: ='WNTR-Calcs'!AP19 -> XX | BU9: =IF(BK9="XX", "XX", BS9*1.08*$AG$10/1000) -> XX | CD9: =AP9 -> 22 | CE9: =AQ9 -> XX | CF9: =AR9 -> XX | CI9: ='SMMR-Calcs'!L19 -> XX | CJ9: ='SMMR-Calcs'!Q19 -> XX | CK9: ='SMMR-Calcs'!S19 -> XX | CL9: =IF(AK9="XX", "XX", AY9) -> XX | CM9: =IF(AK9="XX", "XX", CL9*60/CJ9) -> XX | CN9: ='SMMR-Calcs'!AQ19 -> XX | CO9: ='SMMR-Calcs'!AR19 -> XX | CQ9: ='WNTR-Calcs'!L19 -> XX | CR9: ='SMMR-Calcs'!Q19 -> XX | CS9: ='WNTR-Calcs'!S19 -> XX | CT9: =IF(AR9="XX", "XX", BS9) -> XX | CU9: =IF(AR9="XX", "XX", CT9*60/CR9) -> XX | CV9: ='WNTR-Calcs'!AQ19 -> XX | CW9: ='WNTR-Calcs'!AR19 -> XX
B10: =B9+0.02 -> 0.06 | C10: =B10 / ($L$3 * SQRT(2*$C$3/$N$3)) -> 0.12298073 | G10: Floor-Floor Height (ft) | H10: 20 | I10: 18 | J10: 15 | K10: 13.5 | L10: 15 | M10: 10 | N10: 10 | O10: 15 | Q10: 21 | R10: 10 | S10: 2 | T10: 10 | AE10: Degree-Days | AF10: 2680 | AG10: 7981 | AI10: 21 | AJ10: 10 | AK10: =IF(AJ10<=0, "XX", Z$29 + AA$29 + AB$29 + AC$29 + AD$29 + AE$29 + +AJ10) -> 93 | AL10: =IF(AK10="XX", "XX", $Z$11 + Z$34 + AA$34 + AB$34 +AC$34 + AD$34 +AE$34 + AJ10*AF$21) -> 1689 | AM10: =IF(AK10="XX", "XX", AL10*0.3048) -> 514.8072 | AP10: =AI10 -> 21 | AQ10: =AK10 -> 93 | AR10: ='SMMR-Calcs'!AH20 -> 1189 | AU10: ='SMMR-Calcs'!J20 -> 13.820913 | AV10: ='SMMR-Calcs'!K20 -> 9.5416348 | AW10: ='SMMR-Calcs'!L20 -> 90.76716 | AX10: ='SMMR-Calcs'!R20 -> 0.0666061 | AY10: ='SMMR-Calcs'!AO20 -> 582.09183 | AZ10: ='SMMR-Calcs'!AP20 -> 0.069296647 | BA10: =IF(AK10="XX", "XX", AY10*1.08*$AF$10/12000) -> 140.40055 | BJ10: =AP10 -> 21 | BK10: =AQ10 -> 93 | BL10: =AR10 -> 1189 | BO10: ='WNTR-Calcs'!J19 -> XX | BP10: ='WNTR-Calcs'!K19 -> XX | BQ10: ='WNTR-Calcs'!L13 -> -20.58884 | BR10: ='WNTR-Calcs'!R19 -> XX | BS10: ='WNTR-Calcs'!AO20 -> -1710.0982 | BT10: ='WNTR-Calcs'!AP20 -> -0.20358312 | BU10: =IF(BK10="XX", "XX", BS10*1.08*$AG$10/1000) -> -14740.157 | CD10: =AP10 -> 21 | CE10: =AQ10 -> 93 | CF10: =AR10 -> 1189 | CI10: ='SMMR-Calcs'!L20 -> 90.76716 | CJ10: ='SMMR-Calcs'!Q20 -> 15.01364 | CK10: ='SMMR-Calcs'!S20 -> 35.663779 | CL10: =IF(AK10="XX", "XX", AY10) -> 582.09183 | CM10: =IF(AK10="XX", "XX", CL10*60/CJ10) -> 2326.252 | CN10: ='SMMR-Calcs'!AQ20 -> 9912.1699 | CO10: ='SMMR-Calcs'!AR20 -> 1885.9775 | CQ10: ='WNTR-Calcs'!L20 -> -20.23284 | CR10: ='SMMR-Calcs'!Q20 -> 15.01364 | CS10: ='WNTR-Calcs'!S20 -> -4.4706483 | CT10: =IF(AR10="XX", "XX", BS10) -> -1710.0982 | CU10: =IF(AR10="XX", "XX", CT10*60/CR10) -> -6834.1782 | CV10: ='WNTR-Calcs'!AQ20 -> 170345.39 | CW10: ='WNTR-Calcs'!AR20 -> -5540.7181
B11: =B10+0.02 -> 0.08 | C11: =B11 / ($L$3 * SQRT(2*$C$3/$N$3)) -> 0.16397431 | G11: Number of Typical Floors | H11: 2 | I11: 3 | J11: 6 | K11: 40 | L11: 5 | M11: 25 | N11: 15 | O11: 2 | Q11: 20 | R11: 5 | S11: 1 | T11: 5 | Y11: Site Altit. (ft) ref Sea Level | Z11: 500 | AB11: Mech/Grd Flr-Flr-H | AC11: 20 | AE11: Indoor DB (F) | AF11: 75 | AG11: 72 | AI11: 20 | AJ11: 5 | AK11: =IF(AJ11<=0, "XX", Z$29 + AA$29 + AB$29 + AC$29 + AD$29 + AE$29 + +AJ11) -> 88 | AL11: =IF(AK11="XX", "XX", $Z$11 + Z$34 + AA$34 + AB$34 +AC$34 + AD$34 +AE$34 + AJ11*AF$21) -> 1639 | AM11: =IF(AK11="XX", "XX", AL11*0.3048) -> 499.5672 | AP11: =AI11 -> 20 | AQ11: =AK11 -> 88 | AR11: ='SMMR-Calcs'!AH21 -> 1139 | AU11: ='SMMR-Calcs'!J21 -> 13.846196 | AV11: ='SMMR-Calcs'!K21 -> 9.3506494 | AW11: ='SMMR-Calcs'!L21 -> 90.94516 | AX11: ='SMMR-Calcs'!R21 -> 0.066698592 | AY11: ='SMMR-Calcs'!AO21 -> 548.45672 | AZ11: ='SMMR-Calcs'!AP21 -> 0.065292467 | BA11: =IF(AK11="XX", "XX", AY11*1.08*$AF$10/12000) -> 132.28776 | BJ11: =AP11 -> 20 | BK11: =AQ11 -> 88 | BL11: =AR11 -> 1139 | BO11: ='WNTR-Calcs'!J20 -> 13.820913 | BP11: ='WNTR-Calcs'!K20 -> 19.541635 | BQ11: ='WNTR-Calcs'!L14 -> -20.53544 | BR11: ='WNTR-Calcs'!R20 -> 0.085069825 | BS11: ='WNTR-Calcs'!AO21 -> -1630.1279 | BT11: ='WNTR-Calcs'!AP21 -> -0.19406284 | BU11: =IF(BK11="XX", "XX", BS11*1.08*$AG$10/1000) -> -14050.854 | CD11: =AP11 -> 20 | CE11: =AQ11 -> 88 | CF11: =AR11 -> 1139 | CI11: ='SMMR-Calcs'!L21 -> 90.94516 | CJ11: ='SMMR-Calcs'!Q21 -> 14.99282 | CK11: ='SMMR-Calcs'!S21 -> 35.789034 | CL11: =IF(AK11="XX", "XX", AY11) -> 548.45672 | CM11: =IF(AK11="XX", "XX", CL11*60/CJ11) -> 2194.8774 | CN11: ='SMMR-Calcs'!AQ21 -> 9444.8485 | CO11: ='SMMR-Calcs'!AR21 -> 1776.9998 | CQ11: ='WNTR-Calcs'!L21 -> -20.05484 | CR11: ='SMMR-Calcs'!Q21 -> 14.99282 | CS11: ='WNTR-Calcs'!S21 -> -4.4250388 | CT11: =IF(AR11="XX", "XX", BS11) -> -1630.1279 | CU11: =IF(AR11="XX", "XX", CT11*60/CR11) -> -6523.6339 | CV11: ='WNTR-Calcs'!AQ21 -> 162066.05 | CW11: ='WNTR-Calcs'!AR21 -> -5281.6142
B12: =B11+0.02 -> 0.1 | C12: =B12 / ($L$3 * SQRT(2*$C$3/$N$3)) -> 0.20496789 | G12: Mech Flr above Sctn (Y/N) | H12: N | I12: Y | J12: N | K12: Y | L12: N | M12: N | N12: Y | O12: Y | Y12: Mech/Grd % Envel Leakg | Z12: 0.6 | AB12: Mech/Grd Flow C | AC12: 0.6 | AE12: Indoor WB (F) | AF12: 62 | AG12: 55 | AI12: Section >> | AK12: =AE17 -> 6 (x) | AL12: # flrs >> | AM12: =AE29 -> 25 | AP12: =AI12 -> Section >> | AR12: =AK12 -> 6 (x) | AS12: =AE33 -> 19.6 | AU12: Alt psi | AV12: Wnd-V | AW12: OA-DB | AX12: OA-d | AY12: Q cfm | AZ12: Q/Env-A | BA12: Tons | BJ12: =AI12 -> Section >> | BL12: =AR12 -> 6 (x) | BM12: =AS12 -> 19.6 | BO12: Alt psi | BP12: Wnd-V | BQ12: OA-DB | BR12: OA-d | BS12: Q cfm | BT12: Q/Env-A | BU12: KWH | CF12: =AR12 -> 6 (x) | CG12: =AS12 -> 19.6 | CI12: OA-DB | CJ12: Vo ft3/lb | CK12: Ho bu/lb | CL12: Q ft3/min | CM12: Q lbs/hr | CN12: btuh | CO12: K-btu/yr | CQ12: OA-DB | CR12: Vo ft3/lb | CS12: Ho bu/lb | CT12: Q ft3/min | CU12: Q lbs/hr | CV12: btuh | CW12: K-btu/yr
B13: =B12+0.02 -> 0.12 | C13: =B13 / ($L$3 * SQRT(2*$C$3/$N$3)) -> 0.24596146 | G13: Leakage Area as % of Envel | H13: 0.4 | I13: 0.4 | J13: 0.4 | K13: 0.4 | L13: 0.4 | M13: 0.4 | N13: 0.4 | O13: 0.4 | Q13: =Q14+1 -> 19 | R13: 0 | S13: 4 | T13: 20 | AI13: =AI14+1 -> 19 | AJ13: 0 | AK13: =IF(AJ13<=0, "XX", Z$29 + AA$29 + AB$29 + AC$29 + AD$29 +AJ13) -> XX | AL13: =IF(AK13="XX", "XX", $Z$11 + Z$34 + AA$34 + AB$34 +AC$34 + AD$34 + AJ13*AE$21) -> XX | AM13: =IF(AK13="XX", "XX", AL13*0.3048) -> XX | AP13: =AI13 -> 19 | AQ13: =AK13 -> XX | AR13: ='SMMR-Calcs'!AH26 -> XX | AU13: ='SMMR-Calcs'!J26 -> XX | AV13: ='SMMR-Calcs'!K26 -> XX | AW13: ='SMMR-Calcs'!L26 -> XX | AX13: ='SMMR-Calcs'!R26 -> XX | AY13: ='SMMR-Calcs'!AO26 -> XX | AZ13: ='SMMR-Calcs'!AP26 -> XX | BA13: =IF(AK13="XX", "XX", AY13*1.08*$AF$10/12000) -> XX | BJ13: =AP13 -> 19 | BK13: =AQ13 -> XX | BL13: =AR13 -> XX | BO13: ='WNTR-Calcs'!J26 -> XX | BP13: ='WNTR-Calcs'!K26 -> XX | BQ13: ='WNTR-Calcs'!L26 -> XX | BR13: ='WNTR-Calcs'!R26 -> XX | BS13: ='WNTR-Calcs'!AO26 -> XX | BT13: ='WNTR-Calcs'!AP26 -> XX | BU13: =IF(BK13="XX", "XX", BS13*1.08*$AG$10/1000) -> XX | CD13: =AP13 -> 19 | CE13: =AQ13 -> XX | CF13: =AR13 -> XX | CI13: ='SMMR-Calcs'!L26 -> XX | CJ13: ='SMMR-Calcs'!Q26 -> XX | CK13: ='SMMR-Calcs'!S26 -> XX | CL13: =IF(AK13="XX", "XX", AY13) -> XX | CM13: =IF(AK13="XX", "XX", CL13*60/CJ13) -> XX | CN13: ='SMMR-Calcs'!AQ26 -> XX | CO13: ='SMMR-Calcs'!AR26 -> XX | CQ13: ='WNTR-Calcs'!L26 -> XX | CR13: ='WNTR-Calcs'!Q26 -> XX | CS13: ='WNTR-Calcs'!S26 -> XX | CT13: =IF(AR13="XX", "XX", BS13) -> XX | CU13: =IF(AR13="XX", "XX", CT13*60/CR13) -> XX | CV13: ='WNTR-Calcs'!AQ26 -> XX | CW13: ='WNTR-Calcs'!AR26 -> XX
B14: =B13+0.02 -> 0.14 | C14: =B14 / ($L$3 * SQRT(2*$C$3/$N$3)) -> 0.28695504 | G14: Envel Leakage Flow Coeff | H14: 0.6 | I14: 0.6 | J14: 0.6 | K14: 0.6 | L14: 0.6 | M14: 0.6 | N14: 0.6 | O14: 0.6 | Q14: =Q15+1 -> 18 | R14: 25 | S14: 3 | T14: 15 | W14: # Flrs | X14: Bldg-H | Y14: Ntrl-H | Z14: Site-Alt | AB14: Total Bldg-Area | AD14: Total Envel-Area | AF14: Total Leakg-Area | AG14: % Avg Lkg | AI14: =AI15+1 -> 18 | AJ14: 25 | AK14: =IF(AJ14<=0, "XX", Z$29 + AA$29 + AB$29 + AC$29 + AD$29 +AJ14) -> 83 | AL14: =IF(AK14="XX", "XX", $Z$11 + Z$34 + AA$34 + AB$34 +AC$34 + AD$34 + AJ14*AE$21) -> 1589 | AM14: =IF(AK14="XX", "XX", AL14*0.3048) -> 484.3272 | AP14: =AI14 -> 18 | AQ14: =AK14 -> 83 | AR14: ='SMMR-Calcs'!AH27 -> 1089 | AU14: ='SMMR-Calcs'!J27 -> 13.871516 | AV14: ='SMMR-Calcs'!K27 -> 9.1596639 | AW14: ='SMMR-Calcs'!L27 -> 91.12316 | AX14: ='SMMR-Calcs'!R27 -> 0.06679115 | AY14: ='SMMR-Calcs'!AO27 -> 447.70022 | AZ14: ='SMMR-Calcs'!AP27 -> 0.053297645 | BA14: =IF(AK14="XX", "XX", AY14*1.08*$AF$10/12000) -> 107.98529 | BJ14: =AP14 -> 18 | BK14: =AQ14 -> 83 | BL14: =AR14 -> 1089 | BO14: ='WNTR-Calcs'!J26 -> XX | BP14: ='WNTR-Calcs'!K26 -> XX | BQ14: ='WNTR-Calcs'!L26 -> XX | BR14: ='WNTR-Calcs'!R26 -> XX | BS14: ='WNTR-Calcs'!AO27 -> -1353.052 | BT14: ='WNTR-Calcs'!AP27 -> -0.16107761 | BU14: =IF(BK14="XX", "XX", BS14*1.08*$AG$10/1000) -> -11662.604 | CD14: =AP14 -> 18 | CE14: =AQ14 -> 83 | CF14: =AR14 -> 1089 | CI14: ='SMMR-Calcs'!L27 -> 91.12316 | CJ14: ='SMMR-Calcs'!Q27 -> 14.972044 | CK14: ='SMMR-Calcs'!S27 -> 35.914589 | CL14: =IF(AK14="XX", "XX", AY14) -> 447.70022 | CM14: =IF(AK14="XX", "XX", CL14*60/CJ14) -> 1794.1447 | CN14: ='SMMR-Calcs'!AQ27 -> 7795.8096 | CO14: ='SMMR-Calcs'!AR27 -> 1450.5487 | CQ14: ='WNTR-Calcs'!L27 -> -19.87684 | CR14: ='WNTR-Calcs'!Q27 -> 11.721758 | CS14: ='WNTR-Calcs'!S27 -> -4.3794106 | CT14: =IF(AR14="XX", "XX", BS14) -> -1353.052 | CU14: =IF(AR14="XX", "XX", CT14*60/CR14) -> -6925.8484 | CV14: ='WNTR-Calcs'!AQ27 -> 134259.27 | CW14: ='WNTR-Calcs'!AR27 -> -4383.8883
B15: =B14+0.02 -> 0.16 | C15: =B15 / ($L$3 * SQRT(2*$C$3/$N$3)) -> 0.32794862 | G15: In-Out PD (in.wg) PI - PO | H15: 0 | I15: 0.005 | J15: 0.005 | K15: 0.005 | L15: 0.005 | M15: 0.005 | N15: 0.005 | O15: 0.005 | Q15: =Q16+1 -> 17 | R15: 15 | S15: 2 | T15: 10 | W15: =+SUM(Z29:AG29) -> 102 | X15: =SUM(Z34:AG34) -> 1309 | Y15: =X15/2 -> 654.5 | Z15: =Z11 -> 500 | AA15: =SUM(Z35:AG35) -> 2782800 | AC15: =SUM(Z36:AC36) -> 584440 | AE15: =SUM(Z37:AC37) -> 1633.42 | AG15: =100*AE15/AC15 -> 0.27948463 | AI15: =AI16+1 -> 17 | AJ15: 15 | AK15: =IF(AJ15<=0, "XX", Z$29 + AA$29 + AB$29 + AC$29 + AD$29 +AJ15) -> 73 | AL15: =IF(AK15="XX", "XX", $Z$11 + Z$34 + AA$34 + AB$34 +AC$34 + AD$34 + AJ15*AE$21) -> 1489 | AM15: =IF(AK15="XX", "XX", AL15*0.3048) -> 453.8472 | AP15: =AI15 -> 17 | AQ15: =AK15 -> 73 | AR15: ='SMMR-Calcs'!AH28 -> 989 | AU15: ='SMMR-Calcs'!J28 -> 13.922269 | AV15: ='SMMR-Calcs'!K28 -> 8.7776929 | AW15: ='SMMR-Calcs'!L28 -> 91.47916 | AX15: ='SMMR-Calcs'!R28 -> 0.066976464 | AY15: ='SMMR-Calcs'!AO28 -> 372.06977 | AZ15: ='SMMR-Calcs'!AP28 -> 0.04429402 | BA15: =IF(AK15="XX", "XX", AY15*1.08*$AF$10/12000) -> 89.743228 | BJ15: =AP15 -> 17 | BK15: =AQ15 -> 73 | BL15: =AR15 -> 989 | BO15: ='WNTR-Calcs'!J27 -> 13.871516 | BP15: ='WNTR-Calcs'!K27 -> 19.159664 | BQ15: ='WNTR-Calcs'!L27 -> -19.87684 | BR15: ='WNTR-Calcs'!R27 -> 0.085311437 | BS15: ='WNTR-Calcs'!AO28 -> -1193.9411 | BT15: ='WNTR-Calcs'!AP28 -> -0.14213585 | BU15: =IF(BK15="XX", "XX", BS15*1.08*$AG$10/1000) -> -10291.152 | CD15: =AP15 -> 17 | CE15: =AQ15 -> 73 | CF15: =AR15 -> 989 | CI15: ='SMMR-Calcs'!L28 -> 91.47916 | CJ15: ='SMMR-Calcs'!Q28 -> 14.930618 | CK15: ='SMMR-Calcs'!S28 -> 36.166605 | CL15: =IF(AK15="XX", "XX", AY15) -> 372.06977 | CM15: =IF(AK15="XX", "XX", CL15*60/CJ15) -> 1495.195 | CN15: ='SMMR-Calcs'!AQ28 -> 6621.909 | CO15: ='SMMR-Calcs'!AR28 -> 1205.506 | CQ15: ='WNTR-Calcs'!L28 -> -19.52084 | CR15: ='WNTR-Calcs'!Q28 -> 11.688584 | CS15: ='WNTR-Calcs'!S28 -> -4.2880977 | CT15: =IF(AR15="XX", "XX", BS15) -> -1193.9411 | CU15: =IF(AR15="XX", "XX", CT15*60/CR15) -> -6128.7551 | CV15: ='WNTR-Calcs'!AQ28 -> 118012.13 | CW15: ='WNTR-Calcs'!AR28 -> -3868.3692
B16: =B15+0.02 -> 0.18 | C16: =B16 / ($L$3 * SQRT(2*$C$3/$N$3)) -> 0.36894219 | Q16: =Q18+1 -> 16 | R16: 5 | S16: 1 | T16: 5 | AI16: =AI18+1 -> 16 | AJ16: 5 | AK16: =IF(AJ16<=0, "XX", Z$29 + AA$29 + AB$29 + AC$29 + AD$29 +AJ16) -> 63 | AL16: =IF(AK16="XX", "XX", $Z$11 + Z$34 + AA$34 + AB$34 +AC$34 + AD$34 + AJ16*AE$21) -> 1389 | AM16: =IF(AK16="XX", "XX", AL16*0.3048) -> 423.3672 | AP16: =AI16 -> 16 | AQ16: =AK16 -> 63 | AR16: ='SMMR-Calcs'!AH29 -> 889 | AU16: ='SMMR-Calcs'!J29 -> 13.973172 | AV16: ='SMMR-Calcs'!K29 -> 8.3957219 | AW16: ='SMMR-Calcs'!L29 -> 91.83516 | AX16: ='SMMR-Calcs'!R29 -> 0.067162042 | AY16: ='SMMR-Calcs'!AO29 -> 270.95884 | AZ16: ='SMMR-Calcs'!AP29 -> 0.032257005 | BA16: =IF(AK16="XX", "XX", AY16*1.08*$AF$10/12000) -> 65.355273 | BJ16: =AP16 -> 16 | BK16: =AQ16 -> 63 | BL16: =AR16 -> 889 | BO16: ='WNTR-Calcs'!J28 -> 13.922269 | BP16: ='WNTR-Calcs'!K28 -> 18.777693 | BQ16: ='WNTR-Calcs'!L28 -> -19.52084 | BR16: ='WNTR-Calcs'!R28 -> 0.085553565 | BS16: ='WNTR-Calcs'!AO29 -> -1011.5624 | BT16: ='WNTR-Calcs'!AP29 -> -0.1204241 | BU16: =IF(BK16="XX", "XX", BS16*1.08*$AG$10/1000) -> -8719.142 | CD16: =AP16 -> 16 | CE16: =AQ16 -> 63 | CF16: =AR16 -> 889 | CI16: ='SMMR-Calcs'!L29 -> 91.83516 | CJ16: ='SMMR-Calcs'!Q29 -> 14.889363 | CK16: ='SMMR-Calcs'!S29 -> 36.419832 | CL16: =IF(AK16="XX", "XX", AY16) -> 270.95884 | CM16: =IF(AK16="XX", "XX", CL16*60/CJ16) -> 1091.8889 | CN16: ='SMMR-Calcs'!AQ29 -> 4926.5663 | CO16: ='SMMR-Calcs'!AR29 -> 877.90665 | CQ16: ='WNTR-Calcs'!L29 -> -19.16484 | CR16: ='WNTR-Calcs'!Q29 -> 11.655527 | CS16: ='WNTR-Calcs'!S29 -> -4.1967088 | CT16: =IF(AR16="XX", "XX", BS16) -> -1011.5624 | CU16: =IF(AR16="XX", "XX", CT16*60/CR16) -> -5207.2932 | CV16: ='WNTR-Calcs'!AQ29 -> 99596.44 | CW16: ='WNTR-Calcs'!AR29 -> -3277.4622
B17: =B16+0.02 -> 0.2 | C17: =B17 / ($L$3 * SQRT(2*$C$3/$N$3)) -> 0.40993577 | E17: EX-2 | G17: SECTION No. | H17: A | I17: B | J17: C | K17: D | L17: E | M17: F | N17: G | O17: H | Y17: SECTION (max = 5 chars) >> | Z17: 1 | AA17: 2-A | AB17: 3 | AC17: 4-k | AD17: 5 | AE17: 6 (x) | AF17: 7 | AG17: 8 | AI17: Section >> | AK17: =AD17 -> 5 | AL17: # flrs >> | AM17: =AD29 -> 5 | AP17: =AI17 -> Section >> | AR17: =AK17 -> 5 | AS17: =AD33 -> 28.8 | AU17: Alt psi | AV17: Wnd-V | AW17: OA-DB | AX17: OA-d | AY17: Q cfm | AZ17: Q/Env-A | BA17: Tons | BJ17: =AI17 -> Section >> | BL17: =AR17 -> 5 | BM17: =AS17 -> 28.8 | BO17: Alt psi | BP17: Wnd-V | BQ17: OA-DB | BR17: OA-d | BS17: Q cfm | BT17: Q/Env-A | BU17: KWH | CF17: =AR17 -> 5 | CG17: =AS17 -> 28.8 | CI17: OA-DB | CJ17: Vo ft3/lb | CK17: Ho bu/lb | CL17: Q ft3/min | CM17: Q lbs/hr | CN17: btuh | CO17: K-btu/yr | CQ17: OA-DB | CR17: Vo ft3/lb | CS17: Ho bu/lb | CT17: Q ft3/min | CU17: Q lbs/hr | CV17: btuh | CW17: K-btu/yr
B18: =B17+0.02 -> 0.22 | C18: =B18 / ($L$3 * SQRT(2*$C$3/$N$3)) -> 0.45092935 | G18: Flr Type (Retl, Offc, ) | H18: Office | I18: Office | J18: Office | K18: Office | L18: Office | M18: Office | N18: Office | O18: Office | Q18: =Q19+1 -> 15 | R18: 5 | S18: 3 | T18: 5 | Y18: Flr Type (Retl, Offc, ) | Z18: Lobby | AA18: Retail | AB18: Tradg | AC18: Office | AD18: Htl-Srvc | AE18: Hotel | AF18: Condos | AG18: Dining | AI18: =AI19+1 -> 15 | AJ18: 5 | AK18: =IF(AJ18<=0, "XX", Z$29 + AA$29 + AB$29 + AC$29+AJ18) -> 58 | AL18: =IF(AK18="XX", "XX", $Z$11 + Z$34 + AA$34 + AB$34 +AC$34 + AJ18*AD$21) -> 1339 | AM18: =IF(AK18="XX", "XX", AL18*0.3048) -> 408.1272 | AP18: =AI18 -> 15 | AQ18: =AK18 -> 58 | AR18: ='SMMR-Calcs'!AH34 -> 839 | AU18: ='SMMR-Calcs'!J34 -> 13.998681 | AV18: ='SMMR-Calcs'!K34 -> 8.2047364 | AW18: ='SMMR-Calcs'!L34 -> 92.01316 | AX18: ='SMMR-Calcs'!R34 -> 0.06725493 | AY18: ='SMMR-Calcs'!AO34 -> 293.06264 | AZ18: ='SMMR-Calcs'!AP34 -> 0.034888409 | BA18: =IF(AK18="XX", "XX", AY18*1.08*$AF$10/12000) -> 70.686708 | BJ18: =AP18 -> 15 | BK18: =AQ18 -> 58 | BL18: =AR18 -> 839 | BO18: ='WNTR-Calcs'!J34 -> 13.998681 | BP18: ='WNTR-Calcs'!K34 -> 18.204736 | BQ18: ='WNTR-Calcs'!L34 -> -18.98684 | BR18: ='WNTR-Calcs'!R34 -> 0.085917724 | BS18: ='WNTR-Calcs'!AO34 -> -1333.2389 | BT18: ='WNTR-Calcs'!AP34 -> -0.15871892 | BU18: =IF(BK18="XX", "XX", BS18*1.08*$AG$10/1000) -> -11491.826 | CD18: =AP18 -> 15 | CE18: =AQ18 -> 58 | CF18: =AR18 -> 839 | CI18: ='SMMR-Calcs'!L34 -> 92.01316 | CJ18: ='SMMR-Calcs'!Q34 -> 14.868799 | CK18: ='SMMR-Calcs'!S34 -> 36.546903 | CL18: =IF(AK18="XX", "XX", AY18) -> 293.06264 | CM18: =IF(AK18="XX", "XX", CL18*60/CJ18) -> 1182.5944 | CN18: ='SMMR-Calcs'!AQ34 -> 5384.7953 | CO18: ='SMMR-Calcs'!AR34 -> 949.52295 | CQ18: ='WNTR-Calcs'!L34 -> -18.98684 | CR18: ='WNTR-Calcs'!Q34 -> 11.639042 | CS18: ='WNTR-Calcs'!S34 -> -4.1509855 | CT18: =IF(AR18="XX", "XX", BS18) -> -1333.2389 | CU18: =IF(AR18="XX", "XX", CT18*60/CR18) -> -6872.9312 | CV18: ='WNTR-Calcs'!AQ34 -> 131011.77 | CW18: ='WNTR-Calcs'!AR34 -> -4319.6941
B19: =B18+0.02 -> 0.24 | C19: =B19 / ($L$3 * SQRT(2*$C$3/$N$3)) -> 0.49192293 | G19: Typical Floor Length (ft) | H19: 220 | I19: 220 | J19: 220 | K19: 220 | L19: 220 | M19: 220 | N19: 220 | O19: 220 | Q19: =Q20+1 -> 14 | R19: 3 | S19: 2 | T19: 3 | Y19: Typical Floor Length (ft) | Z19: 320 | AA19: 280 | AB19: 240 | AC19: 220 | AD19: 200 | AE19: 180 | AF19: 180 | AG19: 180 | AI19: =AI20+1 -> 14 | AJ19: 3 | AK19: =IF(AJ19<=0, "XX", Z$29 + AA$29 + AB$29 + AC$29+AJ19) -> 56 | AL19: =IF(AK19="XX", "XX", $Z$11 + Z$34 + AA$34 + AB$34 +AC$34 + AJ19*AD$21) -> 1309 | AM19: =IF(AK19="XX", "XX", AL19*0.3048) -> 398.9832 | AP19: =AI19 -> 14 | AQ19: =AK19 -> 56 | AR19: ='SMMR-Calcs'!AH35 -> 809 | AU19: ='SMMR-Calcs'!J35 -> 14.014003 | AV19: ='SMMR-Calcs'!K35 -> 8.0901451 | AW19: ='SMMR-Calcs'!L35 -> 92.11996 | AX19: ='SMMR-Calcs'!R35 -> 0.067310694 | AY19: ='SMMR-Calcs'!AO35 -> 203.7751 | AZ19: ='SMMR-Calcs'!AP35 -> 0.024258941 | BA19: =IF(AK19="XX", "XX", AY19*1.08*$AF$10/12000) -> 49.150555 | BJ19: =AP19 -> 14 | BK19: =AQ19 -> 56 | BL19: =AR19 -> 809 | BO19: ='WNTR-Calcs'!J34 -> 13.998681 | BP19: ='WNTR-Calcs'!K34 -> 18.204736 | BQ19: ='WNTR-Calcs'!L34 -> -18.98684 | BR19: ='WNTR-Calcs'!R34 -> 0.085917724 | BS19: ='WNTR-Calcs'!AO35 -> -1232.5716 | BT19: ='WNTR-Calcs'!AP35 -> -0.14673471 | BU19: =IF(BK19="XX", "XX", BS19*1.08*$AG$10/1000) -> -10624.126 | CD19: =AP19 -> 14 | CE19: =AQ19 -> 56 | CF19: =AR19 -> 809 | CI19: ='SMMR-Calcs'!L35 -> 92.11996 | CJ19: ='SMMR-Calcs'!Q35 -> 14.85648 | CK19: ='SMMR-Calcs'!S35 -> 36.623291 | CL19: =IF(AK19="XX", "XX", AY19) -> 203.7751 | CM19: =IF(AK19="XX", "XX", CL19*60/CJ19) -> 822.97461 | CN19: ='SMMR-Calcs'!AQ35 -> 3767.7113 | CO19: ='SMMR-Calcs'!AR35 -> 660.23133 | CQ19: ='WNTR-Calcs'!L35 -> -18.88004 | CR19: ='WNTR-Calcs'!Q35 -> 11.629165 | CS19: ='WNTR-Calcs'!S35 -> -4.1235423 | CT19: =IF(AR19="XX", "XX", BS19) -> -1232.5716 | CU19: =IF(AR19="XX", "XX", CT19*60/CR19) -> -6359.3811 | CV19: ='WNTR-Calcs'!AQ35 -> 120977.44 | CW19: ='WNTR-Calcs'!AR35 -> -3993.5318
B20: =B19+0.02 -> 0.26 | C20: =B20 / ($L$3 * SQRT(2*$C$3/$N$3)) -> 0.5329165 | G20: Typical Floor Width (ft) | H20: 140 | I20: 140 | J20: 140 | K20: 140 | L20: 140 | M20: 140 | N20: 140 | O20: 140 | Q20: =Q22+1 -> 13 | R20: 1 | S20: 1 | T20: 1 | Y20: Typical Floor Width (ft) | Z20: 240 | AA20: 200 | AB20: 160 | AC20: 140 | AD20: 120 | AE20: 100 | AF20: 100 | AG20: 100 | AI20: =AI22+1 -> 13 | AJ20: 1 | AK20: =IF(AJ20<=0, "XX", Z$29 + AA$29 + AB$29 + AC$29+AJ20) -> 54 | AL20: =IF(AK20="XX", "XX", $Z$11 + Z$34 + AA$34 + AB$34 +AC$34 + AJ20*AD$21) -> 1279 | AM20: =IF(AK20="XX", "XX", AL20*0.3048) -> 389.8392 | AP20: =AI20 -> 13 | AQ20: =AK20 -> 54 | AR20: ='SMMR-Calcs'!AH36 -> 779 | AU20: ='SMMR-Calcs'!J36 -> 14.02934 | AV20: ='SMMR-Calcs'!K36 -> 7.9755539 | AW20: ='SMMR-Calcs'!L36 -> 92.22676 | AX20: ='SMMR-Calcs'!R36 -> 0.067366481 | AY20: ='SMMR-Calcs'!AO36 -> -58.510766 | AZ20: ='SMMR-Calcs'!AP36 -> -0.0069655674 | BA20: =IF(AK20="XX", "XX", AY20*1.08*$AF$10/12000) -> -14.112797 | BJ20: =AP20 -> 13 | BK20: =AQ20 -> 54 | BL20: =AR20 -> 779 | BO20: ='WNTR-Calcs'!J35 -> 14.014003 | BP20: ='WNTR-Calcs'!K35 -> 18.090145 | BQ20: ='WNTR-Calcs'!L35 -> -18.88004 | BR20: ='WNTR-Calcs'!R35 -> 0.085990696 | BS20: ='WNTR-Calcs'!AO36 -> -1123.1766 | BT20: ='WNTR-Calcs'!AP36 -> -0.1337115 | BU20: =IF(BK20="XX", "XX", BS20*1.08*$AG$10/1000) -> -9681.1979 | CD20: =AP20 -> 13 | CE20: =AQ20 -> 54 | CF20: =AR20 -> 779 | CI20: ='SMMR-Calcs'!L36 -> 92.22676 | CJ20: ='SMMR-Calcs'!Q36 -> 14.844177 | CK20: ='SMMR-Calcs'!S36 -> 36.69979 | CL20: =IF(AK20="XX", "XX", AY20) -> -58.510766 | CM20: =IF(AK20="XX", "XX", CL20*60/CJ20) -> -236.49987 | CN20: ='SMMR-Calcs'!AQ36 -> -1088.587 | CO20: ='SMMR-Calcs'!AR36 -> -189.57488 | CQ20: ='WNTR-Calcs'!L36 -> -18.77324 | CR20: ='WNTR-Calcs'!Q36 -> 11.619299 | CS20: ='WNTR-Calcs'!S36 -> -4.0960922 | CT20: =IF(AR20="XX", "XX", BS20) -> -1123.1766 | CU20: =IF(AR20="XX", "XX", CT20*60/CR20) -> -5799.8848 | CV20: ='WNTR-Calcs'!AQ36 -> 110110.73 | CW20: ='WNTR-Calcs'!AR36 -> -3639.0921
B21: =B20+0.02 -> 0.28 | C21: =B21 / ($L$3 * SQRT(2*$C$3/$N$3)) -> 0.57391008 | G21: Floor-Floor Height (ft) | H21: 13.5 | I21: 13.5 | J21: 13.5 | K21: 13.5 | L21: 13.5 | M21: 13.5 | N21: 13.5 | O21: 13.5 | Y21: Floor-Floor Height (ft) | Z21: 20 | AA21: 18 | AB21: 15 | AC21: 13.5 | AD21: 15 | AE21: 10 | AF21: 10 | AG21: 15 | AI21: Section >> | AK21: =AC17 -> 4-k | AL21: # flrs >> | AM21: =AC29 -> 41 | AP21: =AI21 -> Section >> | AR21: =AK21 -> 4-k | AS21: =AC33 -> 24.3 | AU21: Alt psi | AV21: Wnd-V | AW21: OA-DB | AX21: OA-d | AY21: Q cfm | AZ21: Q/Env-A | BA21: Tons | BJ21: =AI21 -> Section >> | BL21: =AR21 -> 4-k | BM21: =AS21 -> 24.3 | BO21: Alt psi | BP21: Wnd-V | BQ21: OA-DB | BR21: OA-d | BS21: Q cfm | BT21: Q/Env-A | BU21: KWH | CF21: =AR21 -> 4-k | CG21: =AS21 -> 24.3 | CI21: OA-DB | CJ21: Vo ft3/lb | CK21: Ho bu/lb | CL21: Q ft3/min | CM21: Q lbs/hr | CN21: btuh | CO21: K-btu/yr | CQ21: OA-DB | CR21: Vo ft3/lb | CS21: Ho bu/lb | CT21: Q ft3/min | CU21: Q lbs/hr | CV21: btuh | CW21: K-btu/yr
B22: =B21+0.02 -> 0.3 | C22: =B22 / ($L$3 * SQRT(2*$C$3/$N$3)) -> 0.61490366 | G22: Number of Typical Floors | H22: 2 | I22: 3 | J22: 3 | K22: 5 | L22: 3 | M22: 4 | N22: 3 | O22: 2 | Q22: =Q23+1 -> 12 | R22: 30 | S22: 5 | T22: 30 | Y22: Number of Typical Floors | Z22: 2 | AA22: 3 | AB22: 6 | AC22: 40 | AD22: 5 | AE22: 25 | AF22: 15 | AG22: 2 | AI22: =AI23+1 -> 12 | AJ22: 30 | AK22: =IF(AJ22<=0, "XX", AB$29+AJ22) -> 36 | AL22: =IF(AK22="XX", "XX", $Z$11 + Z$34 + AA$34 + AB$34 + AJ22*AC$21) -> 1109 | AM22: =IF(AK22="XX", "XX", AL22*0.3048) -> 338.0232 | AP22: =AI22 -> 12 | AQ22: =AK22 -> 36 | AR22: ='SMMR-Calcs'!AH41 -> 609 | AU22: ='SMMR-Calcs'!J41 -> 14.116504 | AV22: ='SMMR-Calcs'!K41 -> 7.3262032 | AW22: ='SMMR-Calcs'!L41 -> 92.83196 | AX22: ='SMMR-Calcs'!R41 -> 0.067683055 | AY22: ='SMMR-Calcs'!AO41 -> -437.77849 | AZ22: ='SMMR-Calcs'!AP41 -> -0.052116487 | BA22: =IF(AK22="XX", "XX", AY22*1.08*$AF$10/12000) -> -105.59217 | BJ22: =AP22 -> 12 | BK22: =AQ22 -> 36 | BL22: =AR22 -> 609 | BO22: ='WNTR-Calcs'!J41 -> 14.116504 | BP22: ='WNTR-Calcs'!K41 -> 17.326203 | BQ22: ='WNTR-Calcs'!L41 -> -18.16804 | BR22: ='WNTR-Calcs'!R41 -> 0.086478362 | BS22: ='SMMR-Calcs'!AO41 -> -437.77849 | BT22: ='SMMR-Calcs'!AP41 -> -0.052116487 | BU22: =IF(BK22="XX", "XX", BS22*1.08*$AG$10/1000) -> -3773.423 | CD22: =AP22 -> 12 | CE22: =AQ22 -> 36 | CF22: =AR22 -> 609 | CI22: ='SMMR-Calcs'!L41 -> 92.83196 | CJ22: ='SMMR-Calcs'!Q41 -> 14.774747 | CK22: ='SMMR-Calcs'!S41 -> 37.135374 | CL22: =IF(AK22="XX", "XX", AY22) -> -437.77849 | CM22: =IF(AK22="XX", "XX", CL22*60/CJ22) -> -1777.8112 | CN22: ='SMMR-Calcs'!AQ41 -> -8430.9645 | CO22: ='SMMR-Calcs'!AR41 -> -1418.4023 | CQ22: ='WNTR-Calcs'!L41 -> -18.16804 | CR22: ='WNTR-Calcs'!Q41 -> 11.563586 | CS22: ='WNTR-Calcs'!S41 -> -3.9404084 | CT22: =IF(AR22="XX", "XX", BS22) -> -437.77849 | CU22: =IF(AR22="XX", "XX", CT22*60/CR22) -> -2271.502 | CV22: ='WNTR-Calcs'!AQ41 -> -35601.449 | CW22: ='WNTR-Calcs'!AR41 -> 1184.5034
B23: =B22+0.02 -> 0.32 | C23: =B23 / ($L$3 * SQRT(2*$C$3/$N$3)) -> 0.65589724 | G23: Mech Flr above Sctn (Y/N) | H23: N | I23: N | J23: N | K23: N | L23: N | M23: N | N23: N | O23: N | Q23: =Q24+1 -> 11 | R23: 25 | S23: 4 | T23: 25 | Y23: Mech Flr above Sctn (Y/N) | Z23: N | AA23: Y | AB23: N | AC23: Y | AD23: N | AE23: N | AF23: Y | AG23: Y | AI23: =AI24+1 -> 11 | AJ23: 25 | AK23: =IF(AJ23<=0, "XX", AB$29+AJ23) -> 31 | AL23: =IF(AK23="XX", "XX", $Z$11 + Z$34 + AA$34 + AB$34 + AJ23*AC$21) -> 1041.5 | AM23: =IF(AK23="XX", "XX", AL23*0.3048) -> 317.4492 | AP23: =AI23 -> 11 | AQ23: =AK23 -> 31 | AR23: ='SMMR-Calcs'!AH42 -> 541.5 | AU23: ='SMMR-Calcs'!J42 -> 14.151234 | AV23: ='SMMR-Calcs'!K42 -> 7.0683728 | AW23: ='SMMR-Calcs'!L42 -> 93.07226 | AX23: ='SMMR-Calcs'!R42 -> 0.067808963 | AY23: ='SMMR-Calcs'!AO42 -> -520.09284 | AZ23: ='SMMR-Calcs'!AP42 -> -0.061915814 | BA23: =IF(AK23="XX", "XX", AY23*1.08*$AF$10/12000) -> -125.44639 | BJ23: =AP23 -> 11 | BK23: =AQ23 -> 31 | BL23: =AR23 -> 541.5 | BO23: ='WNTR-Calcs'!J41 -> 14.116504 | BP23: ='WNTR-Calcs'!K41 -> 17.326203 | BQ23: ='WNTR-Calcs'!L41 -> -18.16804 | BR23: ='WNTR-Calcs'!R41 -> 0.086478362 | BS23: ='SMMR-Calcs'!AO42 -> -520.09284 | BT23: ='SMMR-Calcs'!AP42 -> -0.061915814 | BU23: =IF(BK23="XX", "XX", BS23*1.08*$AG$10/1000) -> -4482.9298 | CD23: =AP23 -> 11 | CE23: =AQ23 -> 31 | CF23: =AR23 -> 541.5 | CI23: ='SMMR-Calcs'!L42 -> 93.07226 | CJ23: ='SMMR-Calcs'!M42 -> 73.07226 | CK23: ='SMMR-Calcs'!S42 -> 37.309317 | CL23: =IF(AK23="XX", "XX", AY23) -> -520.09284 | CM23: =IF(AK23="XX", "XX", CL23*60/CJ23) -> -427.05084 | CN23: ='SMMR-Calcs'!AQ42 -> -10151.193 | CO23: ='SMMR-Calcs'!AR42 -> -1685.1008 | CQ23: ='WNTR-Calcs'!L42 -> -17.92774 | CR23: ='WNTR-Calcs'!Q42 -> 11.541558 | CS23: ='WNTR-Calcs'!S42 -> -3.8785296 | CT23: =IF(AR23="XX", "XX", BS23) -> -520.09284 | CU23: =IF(AR23="XX", "XX", CT23*60/CR23) -> -2703.7572 | CV23: ='WNTR-Calcs'!AQ42 -> -71343.523 | CW23: ='WNTR-Calcs'!AR42 -> 2380.0283
B24: =B23+0.02 -> 0.34 | C24: =B24 / ($L$3 * SQRT(2*$C$3/$N$3)) -> 0.69689081 | G24: Leakage Area as % of Envel | H24: 0.4 | I24: 0.4 | J24: 0.4 | K24: 0.4 | L24: 0.4 | M24: 0.4 | N24: 0.4 | O24: 0.4 | Q24: =Q25+1 -> 10 | R24: 20 | S24: 3 | T24: 20 | Y24: Leakage Area as % of Envel | Z24: 0.4 | AA24: 0.35 | AB24: 0.3 | AC24: 0.25 | AD24: 0.3 | AE24: 0.35 | AF24: 0.4 | AG24: 0.3 | AI24: =AI25+1 -> 10 | AJ24: 20 | AK24: =IF(AJ24<=0, "XX", AB$29+AJ24) -> 26 | AL24: =IF(AK24="XX", "XX", $Z$11 + Z$34 + AA$34 + AB$34 + AJ24*AC$21) -> 974 | AM24: =IF(AK24="XX", "XX", AL24*0.3048) -> 296.8752 | AP24: =AI24 -> 10 | AQ24: =AK24 -> 26 | AR24: ='SMMR-Calcs'!AH43 -> 474 | AU24: ='SMMR-Calcs'!J43 -> 14.186034 | AV24: ='SMMR-Calcs'!K43 -> 6.8105424 | AW24: ='SMMR-Calcs'!L43 -> 93.31256 | AX24: ='SMMR-Calcs'!R43 -> 0.067934988 | AY24: ='SMMR-Calcs'!AO43 -> -592.83764 | AZ24: ='SMMR-Calcs'!AP43 -> -0.070575909 | BA24: =IF(AK24="XX", "XX", AY24*1.08*$AF$10/12000) -> -142.99244 | BJ24: =AP24 -> 10 | BK24: =AQ24 -> 26 | BL24: =AR24 -> 474 | BO24: ='WNTR-Calcs'!J42 -> 14.151234 | BP24: ='WNTR-Calcs'!K42 -> 17.068373 | BQ24: ='WNTR-Calcs'!L42 -> -17.92774 | BR24: ='WNTR-Calcs'!R42 -> 0.086643416 | BS24: ='SMMR-Calcs'!AO43 -> -592.83764 | BT24: ='SMMR-Calcs'!AP43 -> -0.070575909 | BU24: =IF(BK24="XX", "XX", BS24*1.08*$AG$10/1000) -> -5109.9522 | CD24: =AP24 -> 10 | CE24: =AQ24 -> 26 | CF24: =AR24 -> 474 | CI24: ='SMMR-Calcs'!L43 -> 93.31256 | CJ24: ='SMMR-Calcs'!M43 -> 73.31256 | CK24: ='SMMR-Calcs'!S43 -> 37.483826 | CL24: =IF(AK24="XX", "XX", AY24) -> -592.83764 | CM24: =IF(AK24="XX", "XX", CL24*60/CJ24) -> -485.18642 | CN24: ='SMMR-Calcs'!AQ43 -> -11724.885 | CO24: ='SMMR-Calcs'!AR43 -> -1920.7939 | CQ24: ='WNTR-Calcs'!L43 -> -17.68744 | CR24: ='WNTR-Calcs'!Q43 -> 11.519582 | CS24: ='WNTR-Calcs'!S43 -> -3.8166145 | CT24: =IF(AR24="XX", "XX", BS24) -> -592.83764 | CU24: =IF(AR24="XX", "XX", CT24*60/CR24) -> -3087.8082 | CV24: ='WNTR-Calcs'!AQ43 -> -94083.215 | CW24: ='WNTR-Calcs'!AR43 -> 3147.0365
B25: =B24+0.02 -> 0.36 | C25: =B25 / ($L$3 * SQRT(2*$C$3/$N$3)) -> 0.73788439 | G25: Envel Leakage Flow Coeff | H25: 0.6 | I25: 0.6 | J25: 0.6 | K25: 0.6 | L25: 0.6 | M25: 0.6 | N25: 0.6 | O25: 0.6 | Q25: =Q26+1 -> 9 | R25: 15 | S25: 2 | T25: 15 | Y25: Envel Leakage Flow Coeff | Z25: 0.6 | AA25: 0.6 | AB25: 0.6 | AC25: 0.6 | AD25: 0.6 | AE25: 0.6 | AF25: 0.6 | AG25: 0.6 | AI25: =AI26+1 -> 9 | AJ25: 15 | AK25: =IF(AJ25<=0, "XX", AB$29+AJ25) -> 21 | AL25: =IF(AK25="XX", "XX", $Z$11 + Z$34 + AA$34 + AB$34 + AJ25*AC$21) -> 906.5 | AM25: =IF(AK25="XX", "XX", AL25*0.3048) -> 276.3012 | AP25: =AI25 -> 9 | AQ25: =AK25 -> 21 | AR25: ='SMMR-Calcs'!AH44 -> 406.5 | AU25: ='SMMR-Calcs'!J44 -> 14.220903 | AV25: ='SMMR-Calcs'!K44 -> 6.552712 | AW25: ='SMMR-Calcs'!L44 -> 93.55286 | AX25: ='SMMR-Calcs'!R44 -> 0.068061131 | AY25: ='SMMR-Calcs'!AO44 -> -659.18869 | AZ25: ='SMMR-Calcs'!AP44 -> -0.078474844 | BA25: =IF(AK25="XX", "XX", AY25*1.08*$AF$10/12000) -> -158.99631 | BJ25: =AP25 -> 9 | BK25: =AQ25 -> 21 | BL25: =AR25 -> 406.5 | BO25: ='WNTR-Calcs'!J43 -> 14.186034 | BP25: ='WNTR-Calcs'!K43 -> 16.810542 | BQ25: ='WNTR-Calcs'!L43 -> -17.68744 | BR25: ='WNTR-Calcs'!R43 -> 0.086808708 | BS25: ='SMMR-Calcs'!AO44 -> -659.18869 | BT25: ='SMMR-Calcs'!AP44 -> -0.078474844 | BU25: =IF(BK25="XX", "XX", BS25*1.08*$AG$10/1000) -> -5681.8637 | CD25: =AP25 -> 9 | CE25: =AQ25 -> 21 | CF25: =AR25 -> 406.5 | CI25: ='SMMR-Calcs'!L44 -> 93.55286 | CJ25: ='SMMR-Calcs'!M44 -> 73.55286 | CK25: ='SMMR-Calcs'!S44 -> 37.658903 | CL25: =IF(AK25="XX", "XX", AY25) -> -659.18869 | CM25: =IF(AK25="XX", "XX", CL25*60/CJ25) -> -537.72649 | CN25: ='SMMR-Calcs'!AQ44 -> -13208.222 | CO25: ='SMMR-Calcs'!AR44 -> -2135.7714 | CQ25: ='WNTR-Calcs'!L44 -> -17.44714 | CR25: ='WNTR-Calcs'!Q44 -> 11.497658 | CS25: ='WNTR-Calcs'!S44 -> -3.7546628 | CT25: =IF(AR25="XX", "XX", BS25) -> -659.18869 | CU25: =IF(AR25="XX", "XX", CT25*60/CR25) -> -3439.9459 | CV25: ='WNTR-Calcs'!AQ44 -> -112041.08 | CW25: ='WNTR-Calcs'!AR44 -> 3757.7865
B26: =B25+0.02 -> 0.38 | C26: =B26 / ($L$3 * SQRT(2*$C$3/$N$3)) -> 0.77887797 | G26: In-Out PD (in.wg) PI - PO | H26: 0 | I26: 0 | J26: 0 | K26: 0 | L26: 0 | M26: 0 | N26: 0 | O26: 0 | Q26: =Q28+1 -> 8 | R26: 5 | S26: 1 | T26: 5 | Y26: In-Out PD (in.wg) PI - PO | Z26: 0 | AA26: 0.005 | AB26: 0.005 | AC26: 0.005 | AD26: 0.005 | AE26: 0.005 | AF26: 0.005 | AG26: 0.005 | AI26: =AI28+1 -> 8 | AJ26: 5 | AK26: =IF(AJ26<=0, "XX", Z$29 + AA$29 + AB$29+AJ26) -> 17 | AL26: =IF(AK26="XX", "XX", $Z$11 + Z$34 + AA$34 + AB$34 + AJ26*AC$21) -> 771.5 | AM26: =IF(AK26="XX", "XX", AL26*0.3048) -> 235.1532 | AP26: =AI26 -> 8 | AQ26: =AK26 -> 17 | AR26: ='SMMR-Calcs'!AH45 -> 271.5 | AU26: ='SMMR-Calcs'!J45 -> 14.290849 | AV26: ='SMMR-Calcs'!K45 -> 6.0370512 | AW26: ='SMMR-Calcs'!L45 -> 94.03346 | AX26: ='SMMR-Calcs'!R45 -> 0.06831377 | AY26: ='SMMR-Calcs'!AO45 -> -779.11252 | AZ26: ='SMMR-Calcs'!AP45 -> -0.092751491 | BA26: =IF(AK26="XX", "XX", AY26*1.08*$AF$10/12000) -> -187.92194 | BJ26: =AP26 -> 8 | BK26: =AQ26 -> 17 | BL26: =AR26 -> 271.5 | BO26: ='WNTR-Calcs'!J44 -> 14.220903 | BP26: ='WNTR-Calcs'!K44 -> 16.552712 | BQ26: ='WNTR-Calcs'!L44 -> -17.44714 | BR26: ='WNTR-Calcs'!R44 -> 0.086974236 | BS26: ='SMMR-Calcs'!AO45 -> -779.11252 | BT26: ='SMMR-Calcs'!AP45 -> -0.092751491 | BU26: =IF(BK26="XX", "XX", BS26*1.08*$AG$10/1000) -> -6715.5448 | CD26: =AP26 -> 8 | CE26: =AQ26 -> 17 | CF26: =AR26 -> 271.5 | CI26: ='SMMR-Calcs'!L45 -> 94.03346 | CJ26: ='SMMR-Calcs'!M45 -> 74.03346 | CK26: ='SMMR-Calcs'!S45 -> 38.010769 | CL26: =IF(AK26="XX", "XX", AY26) -> -779.11252 | CM26: =IF(AK26="XX", "XX", CL26*60/CJ26) -> -631.42735 | CN26: ='SMMR-Calcs'!AQ45 -> -16015.544 | CO26: ='SMMR-Calcs'!AR45 -> -2524.3246 | CQ26: ='WNTR-Calcs'!L45 -> -16.96654 | CR26: ='WNTR-Calcs'!Q45 -> 11.453966 | CS26: ='WNTR-Calcs'!S45 -> -3.6306487 | CT26: =IF(AR26="XX", "XX", BS26) -> -779.11252 | CU26: =IF(AR26="XX", "XX", CT26*60/CR26) -> -4081.2719 | CV26: ='WNTR-Calcs'!AQ45 -> -140632.97 | CW26: ='WNTR-Calcs'!AR45 -> 4742.2202
B27: =B26+0.02 -> 0.4 | C27: =B27 / ($L$3 * SQRT(2*$C$3/$N$3)) -> 0.81987154 | AI27: Section >> | AK27: =AB17 -> 3 | AL27: # flrs >> | AM27: =AB29 -> 6 | AP27: =AI27 -> Section >> | AR27: =AK27 -> 3 | AS27: =AB33 -> 36 | AU27: Alt psi | AV27: Wnd-V | AW27: OA-DB | AX27: OA-d | AY27: Q cfm | AZ27: Q/Env-A | BA27: Tons | BJ27: =AI27 -> Section >> | BL27: =AR27 -> 3 | BM27: =AS27 -> 36 | BO27: Alt psi | BP27: Wnd-V | BQ27: OA-DB | BR27: OA-d | BS27: Q cfm | BT27: Q/Env-A | BU27: KWH | CF27: =AR27 -> 3 | CG27: =AS27 -> 36 | CI27: OA-DB | CJ27: Vo ft3/lb | CK27: Ho bu/lb | CL27: Q ft3/min | CM27: Q lbs/hr | CN27: btuh | CO27: K-btu/yr | CQ27: OA-DB | CR27: Vo ft3/lb | CS27: Ho bu/lb | CT27: Q ft3/min | CU27: Q lbs/hr | CV27: btuh | CW27: K-btu/yr
B28: =B27+0.02 -> 0.42 | C28: =B28 / ($L$3 * SQRT(2*$C$3/$N$3)) -> 0.86086512 | E28: EX-3 | G28: SECTION No. | H28: a | I28: b | J28: c | K28: d | L28: e | M28: f | N28: g | O28: h | Q28: =Q29+1 -> 7 | R28: 0 | S28: 3 | T28: 5 | Y28: SECTION No. >> | Z28: =Z17 -> 1 | AA28: =AA17 -> 2-A | AB28: =AB17 -> 3 | AC28: =AC17 -> 4-k | AD28: =AD17 -> 5 | AE28: =AE17 -> 6 (x) | AF28: =AF17 -> 7 | AG28: =AG17 -> 8 | AI28: =AI29+1 -> 7 | AJ28: 0 | AK28: =IF(AJ28<=0, "XX", Z$29 + AA$29+AJ28) -> XX | AL28: =IF(AK28="XX", "XX", $Z$11 + Z$34 + AA$34 + AJ28*AB$21) -> XX | AM28: =IF(AK28="XX", "XX", AL28*0.3048) -> XX | AP28: =AI28 -> 7 | AQ28: =AK28 -> XX | AR28: ='SMMR-Calcs'!AH50 -> XX | AU28: ='SMMR-Calcs'!J50 -> XX | AV28: ='SMMR-Calcs'!K50 -> XX | AW28: ='SMMR-Calcs'!L50 -> XX | AX28: ='SMMR-Calcs'!R50 -> XX | AY28: ='SMMR-Calcs'!AO50 -> XX | AZ28: ='SMMR-Calcs'!AP50 -> XX | BA28: =IF(AK28="XX", "XX", AY28*1.08*$AF$10/12000) -> XX | BJ28: =AP28 -> 7 | BK28: =AQ28 -> XX | BL28: =AR28 -> XX | BO28: ='WNTR-Calcs'!J50 -> XX | BP28: ='WNTR-Calcs'!K50 -> XX | BQ28: ='WNTR-Calcs'!L50 -> XX | BR28: ='WNTR-Calcs'!R50 -> XX | BS28: ='WNTR-Calcs'!AO50 -> XX | BT28: ='WNTR-Calcs'!AP50 -> XX | BU28: =IF(BK28="XX", "XX", BS28*1.08*$AG$10/1000) -> XX | CD28: =AP28 -> 7 | CE28: =AQ28 -> XX | CF28: =AR28 -> XX | CI28: ='SMMR-Calcs'!L50 -> XX | CJ28: ='SMMR-Calcs'!Q50 -> XX | CK28: ='SMMR-Calcs'!S50 -> XX | CL28: =IF(AK28="XX", "XX", AY28) -> XX | CM28: =IF(AK28="XX", "XX", CL28*60/CJ28) -> XX | CN28: ='SMMR-Calcs'!AQ50 -> XX | CO28: ='SMMR-Calcs'!AR50 -> XX | CQ28: ='WNTR-Calcs'!L50 -> XX | CR28: ='WNTR-Calcs'!Q50 -> XX | CS28: ='WNTR-Calcs'!S50 -> XX | CT28: =IF(AR28="XX", "XX", BS28) -> XX | CU28: =IF(AR28="XX", "XX", CT28*60/CR28) -> XX | CV28: ='WNTR-Calcs'!AQ50 -> XX | CW28: ='WNTR-Calcs'!AR50 -> XX
B29: =B28+0.02 -> 0.44 | C29: =B29 / ($L$3 * SQRT(2*$C$3/$N$3)) -> 0.9018587 | G29: Flr Type (Retl, Offc, ) | H29: Office | I29: Office | J29: Office | K29: Office | L29: Office | M29: Office | N29: Office | O29: Office | Q29: =Q30+1 -> 6 | R29: 2 | S29: 2 | T29: 3 | Y29: No. of Flrs (Incl Mech Flr) | Z29: =Z22+(IF(Z23="Y", 1,0)) -> 2 | AA29: =AA22+(IF(AA23="Y", 1,0)) -> 4 | AB29: =AB22+(IF(AB23="Y", 1,0)) -> 6 | AC29: =AC22+(IF(AC23="Y", 1,0)) -> 41 | AD29: =AD22+(IF(AD23="Y", 1,0)) -> 5 | AE29: =AE22+(IF(AE23="Y", 1,0)) -> 25 | AF29: =AF22+(IF(AF23="Y", 1,0)) -> 16 | AG29: =AG22+(IF(AG23="Y", 1,0)) -> 3 | AI29: =AI30+1 -> 6 | AJ29: 2 | AK29: =IF(AJ29<=0, "XX", Z$29 + AA$29+AJ29) -> 8 | AL29: =IF(AK29="XX", "XX", $Z$11 + Z$34 + AA$34 + AJ29*AB$21) -> 644 | AM29: =IF(AK29="XX", "XX", AL29*0.3048) -> 196.2912 | AP29: =AI29 -> 6 | AQ29: =AK29 -> 8 | AR29: ='SMMR-Calcs'!AH51 -> 144 | AU29: ='SMMR-Calcs'!J51 -> 14.357164 | AV29: ='SMMR-Calcs'!K51 -> 5.5500382 | AW29: ='SMMR-Calcs'!L51 -> 94.48736 | AX29: ='SMMR-Calcs'!R51 -> 0.068552802 | AY29: ='SMMR-Calcs'!AO51 -> -1306.4637 | AZ29: ='SMMR-Calcs'!AP51 -> -0.15553139 | BA29: =IF(AK29="XX", "XX", AY29*1.08*$AF$10/12000) -> -315.11904 | BJ29: =AP29 -> 6 | BK29: =AQ29 -> 8 | BL29: =AR29 -> 144 | BO29: ='WNTR-Calcs'!J51 -> 14.357164 | BP29: ='WNTR-Calcs'!K51 -> 15.550038 | BQ29: ='WNTR-Calcs'!L51 -> -16.51264 | BR29: ='WNTR-Calcs'!R51 -> 0.087620206 | BS29: ='WNTR-Calcs'!AO51 -> 2517.3533 | BT29: ='WNTR-Calcs'!AP51 -> 0.29968492 | BU29: =IF(BK29="XX", "XX", BS29*1.08*$AG$10/1000) -> 21698.277 | CD29: =AP29 -> 6 | CE29: =AQ29 -> 8 | CF29: =AR29 -> 144 | CI29: ='SMMR-Calcs'!L51 -> 94.48736 | CJ29: ='SMMR-Calcs'!Q51 -> 14.587296 | CK29: ='SMMR-Calcs'!S51 -> 38.345197 | CL29: =IF(AK29="XX", "XX", AY29) -> -1306.4637 | CM29: =IF(AK29="XX", "XX", CL29*60/CJ29) -> -5373.7048 | CN29: ='SMMR-Calcs'!AQ51 -> -27496.29 | CO29: ='SMMR-Calcs'!AR51 -> -4232.9423 | CQ29: ='WNTR-Calcs'!L51 -> -16.51264 | CR29: ='WNTR-Calcs'!Q51 -> 11.412893 | CS29: ='WNTR-Calcs'!S51 -> -3.5133871 | CT29: =IF(AR29="XX", "XX", BS29) -> 2517.3533 | CU29: =IF(AR29="XX", "XX", CT29*60/CR29) -> 13234.261 | CV29: ='WNTR-Calcs'!AQ51 -> -240643 | CW29: ='WNTR-Calcs'!AR51 -> 8156.2248
B30: =B29+0.02 -> 0.46 | C30: =B30 / ($L$3 * SQRT(2*$C$3/$N$3)) -> 0.94285228 | G30: Typical Floor Length (ft) | H30: 220 | I30: 220 | J30: 220 | K30: 220 | L30: 220 | M30: 220 | N30: 220 | O30: 220 | Q30: =Q32+1 -> 5 | R30: 1 | S30: 1 | T30: 1 | Y30: Area per Flr (ft2) | Z30: =Z19*Z20 -> 76800 | AA30: =AA19*AA20 -> 56000 | AB30: =AB19*AB20 -> 38400 | AC30: =AC19*AC20 -> 30800 | AD30: =AD19*AD20 -> 24000 | AE30: =AE19*AE20 -> 18000 | AF30: =AF19*AF20 -> 18000 | AG30: =AG19*AG20 -> 18000 | AI30: =AI32+1 -> 5 | AJ30: 1 | AK30: =IF(AJ30<=0, "XX", Z$29 + AA$29+AJ30) -> 7 | AL30: =IF(AK30="XX", "XX", $Z$11 + Z$34 + AA$34 + AJ30*AB$21) -> 629 | AM30: =IF(AK30="XX", "XX", AL30*0.3048) -> 191.7192 | AP30: =AI30 -> 5 | AQ30: =AK30 -> 7 | AR30: ='SMMR-Calcs'!AH52 -> 129 | AU30: ='SMMR-Calcs'!J52 -> 14.364983 | AV30: ='SMMR-Calcs'!K52 -> 5.4927426 | AW30: ='SMMR-Calcs'!L52 -> 94.54076 | AX30: ='SMMR-Calcs'!R52 -> 0.068580951 | AY30: ='SMMR-Calcs'!AO52 -> -1323.6325 | AZ30: ='SMMR-Calcs'!AP52 -> -0.1575753 | BA30: =IF(AK30="XX", "XX", AY30*1.08*$AF$10/12000) -> -319.26017 | BJ30: =AP30 -> 5 | BK30: =AQ30 -> 7 | BL30: =AR30 -> 129 | BO30: ='WNTR-Calcs'!J52 -> 14.364983 | BP30: ='WNTR-Calcs'!K52 -> 15.492743 | BQ30: ='WNTR-Calcs'!L52 -> -16.45924 | BR30: ='WNTR-Calcs'!R52 -> 0.087657227 | BS30: ='WNTR-Calcs'!AO52 -> 2555.066 | BT30: ='WNTR-Calcs'!AP52 -> 0.30417452 | BU30: =IF(BK30="XX", "XX", BS30*1.08*$AG$10/1000) -> 22023.34 | CD30: =AP30 -> 5 | CE30: =AQ30 -> 7 | CF30: =AR30 -> 129 | CI30: ='SMMR-Calcs'!L52 -> 94.54076 | CJ30: ='SMMR-Calcs'!Q52 -> 14.581308 | CK30: ='SMMR-Calcs'!S52 -> 38.384677 | CL30: =IF(AK30="XX", "XX", AY30) -> -1323.6325 | CM30: =IF(AK30="XX", "XX", CL30*60/CJ30) -> -5446.5587 | CN30: ='SMMR-Calcs'!AQ52 -> -27933.969 | CO30: ='SMMR-Calcs'!AR52 -> -4288.5694 | CQ30: ='WNTR-Calcs'!L52 -> -16.45924 | CR30: ='WNTR-Calcs'!Q52 -> 11.408072 | CS30: ='WNTR-Calcs'!S52 -> -3.4995828 | CT30: =IF(AR30="XX", "XX", BS30) -> 2555.066 | CU30: =IF(AR30="XX", "XX", CT30*60/CR30) -> 13438.2 | CV30: ='WNTR-Calcs'!AQ52 -> -244100.73 | CW30: ='WNTR-Calcs'!AR52 -> 8278.4137
B31: =B30+0.02 -> 0.48 | C31: =B31 / ($L$3 * SQRT(2*$C$3/$N$3)) -> 0.98384585 | G31: Typical Floor Width (ft) | H31: 140 | I31: 140 | J31: 140 | K31: 140 | L31: 140 | M31: 140 | N31: 140 | O31: 140 | Y31: Envelope Length (ft) | Z31: =2*(Z19+Z20) -> 1120 | AA31: =2*(AA19+AA20) -> 960 | AB31: =2*(AB19+AB20) -> 800 | AC31: =2*(AC19+AC20) -> 720 | AD31: =2*(AD19+AD20) -> 640 | AE31: =2*(AE19+AE20) -> 560 | AF31: =2*(AF19+AF20) -> 560 | AG31: =2*(AG19+AG20) -> 560 | AI31: Section >> | AK31: =AA17 -> 2-A | AL31: # flrs >> | AM31: =AA29 -> 4 | AP31: =AI31 -> Section >> | AR31: =AK31 -> 2-A | AS31: =AA33 -> 60.48 | AU31: Alt psi | AV31: Wnd-V | AW31: OA-DB | AX31: OA-d | AY31: Q cfm | AZ31: Q/Env-A | BA31: Tons | BJ31: =AI31 -> Section >> | BL31: =AR31 -> 2-A | BM31: =AS31 -> 60.48 | BO31: Alt psi | BP31: Wnd-V | BQ31: OA-DB | BR31: OA-d | BS31: Q cfm | BT31: Q/Env-A | BU31: KWH | CF31: =AR31 -> 2-A | CG31: =AS31 -> 60.48 | CI31: OA-DB | CJ31: Vo ft3/lb | CK31: Ho bu/lb | CL31: Q ft3/min | CM31: Q lbs/hr | CN31: btuh | CO31: K-btu/yr | CQ31: OA-DB | CR31: Vo ft3/lb | CS31: Ho bu/lb | CT31: Q ft3/min | CU31: Q lbs/hr | CV31: btuh | CW31: K-btu/yr
B32: =B31+0.02 -> 0.5 | C32: =B32 / ($L$3 * SQRT(2*$C$3/$N$3)) -> 1.0248394 | G32: Floor-Floor Height (ft) | H32: 13.5 | I32: 13.5 | J32: 13.5 | K32: 13.5 | L32: 13.5 | M32: 13.5 | N32: 13.5 | O32: 13.5 | Q32: =Q33+1 -> 4 | R32: 0 | S32: 3 | T32: 3 | Y32: Envelope Area per Flr (ft2) | Z32: =Z31*Z21 -> 22400 | AA32: =AA31*AA21 -> 17280 | AB32: =AB31*AB21 -> 12000 | AC32: =AC31*AC21 -> 9720 | AD32: =AD31*AD21 -> 9600 | AE32: =AE31*AE21 -> 5600 | AF32: =AF31*AF21 -> 5600 | AG32: =AG31*AG21 -> 8400 | AI32: =AI33+1 -> 4 | AJ32: 0 | AK32: =IF(AJ32<=0, "XX", Z$29+AJ32) -> XX | AL32: =IF(AK32="XX", "XX", $Z$11 + Z$34 + AJ32*AA$21) -> XX | AM32: =IF(AK32="XX", "XX", AL32*0.3048) -> XX | AP32: =AI32 -> 4 | AQ32: =AK32 -> XX | AR32: ='SMMR-Calcs'!AH57 -> XX | AU32: ='SMMR-Calcs'!J57 -> XX | AV32: ='SMMR-Calcs'!K57 -> XX | AW32: ='SMMR-Calcs'!L57 -> XX | AX32: ='SMMR-Calcs'!R57 -> XX | AY32: ='SMMR-Calcs'!AO57 -> XX | AZ32: ='SMMR-Calcs'!AP57 -> XX | BA32: =IF(AK32="XX", "XX", AY32*1.08*$AF$10/12000) -> XX | BJ32: =AP32 -> 4 | BK32: =AQ32 -> XX | BL32: =AR32 -> XX | BO32: ='WNTR-Calcs'!J57 -> XX | BP32: ='WNTR-Calcs'!K57 -> XX | BQ32: ='WNTR-Calcs'!L57 -> XX | BR32: ='WNTR-Calcs'!R57 -> XX | BS32: ='WNTR-Calcs'!AO57 -> XX | BT32: ='WNTR-Calcs'!AP57 -> XX | BU32: =IF(BK32="XX", "XX", BS32*1.08*$AG$10/1000) -> XX | CD32: =AP32 -> 4 | CE32: =AQ32 -> XX | CF32: =AR32 -> XX | CI32: ='SMMR-Calcs'!L57 -> XX | CJ32: ='SMMR-Calcs'!Q57 -> XX | CK32: ='SMMR-Calcs'!S57 -> XX | CL32: =IF(AK32="XX", "XX", AY32) -> XX | CM32: =IF(AK32="XX", "XX", CL32*60/CJ32) -> XX | CN32: ='SMMR-Calcs'!AQ57 -> XX | CO32: ='SMMR-Calcs'!AR57 -> XX | CQ32: ='WNTR-Calcs'!L57 -> XX | CR32: ='WNTR-Calcs'!Q57 -> XX | CS32: ='WNTR-Calcs'!S57 -> XX | CT32: =IF(AR32="XX", "XX", BS32) -> XX | CU32: =IF(AR32="XX", "XX", CT32*60/CR32) -> XX | CV32: ='WNTR-Calcs'!AQ57 -> XX | CW32: ='WNTR-Calcs'!AR57 -> XX
B33: =B32+0.02 -> 0.52 | C33: =B33 / ($L$3 * SQRT(2*$C$3/$N$3)) -> 1.065833 | G33: Number of Typical Floors | H33: 2 | I33: 3 | J33: 6 | K33: 40 | L33: 5 | M33: 25 | N33: 15 | O33: 2 | Q33: =Q34+1 -> 3 | R33: 2 | S33: 2 | T33: 2 | Y33: Envel Leakage Area (ft2) | Z33: =Z24/100 * Z32 -> 89.6 | AA33: =AA24/100 * AA32 -> 60.48 | AB33: =AB24/100 * AB32 -> 36 | AC33: =AC24/100 * AC32 -> 24.3 | AD33: =AD24/100 * AD32 -> 28.8 | AE33: =AE24/100 * AE32 -> 19.6 | AF33: =AF24/100 * AF32 -> 22.4 | AG33: =AG24/100 * AG32 -> 25.2 | AI33: =AI34+1 -> 3 | AJ33: 2 | AK33: =IF(AJ33<=0, "XX", Z$29+AJ33) -> 4 | AL33: =IF(AK33="XX", "XX", $Z$11 + Z$34 + AJ33*AA$21) -> 576 | AM33: =IF(AK33="XX", "XX", AL33*0.3048) -> 175.5648 | AP33: =AI33 -> 3 | AQ33: =AK33 -> 4 | AR33: ='SMMR-Calcs'!AH58 -> 76 | AU33: ='SMMR-Calcs'!J58 -> 14.392635 | AV33: ='SMMR-Calcs'!K58 -> 5.2902979 | AW33: ='SMMR-Calcs'!L58 -> 94.72944 | AX33: ='SMMR-Calcs'!R58 -> 0.068680456 | AY33: ='SMMR-Calcs'!AO58 -> -2323.8644 | AZ33: ='SMMR-Calcs'!AP58 -> -0.27665052 | BA33: =IF(AK33="XX", "XX", AY33*1.08*$AF$10/12000) -> -560.51609 | BJ33: =AP33 -> 3 | BK33: =AQ33 -> 4 | BL33: =AR33 -> 76 | BO33: ='WNTR-Calcs'!J57 -> XX | BP33: ='WNTR-Calcs'!K57 -> XX | BQ33: ='WNTR-Calcs'!L57 -> XX | BR33: ='WNTR-Calcs'!R57 -> XX | BS33: ='WNTR-Calcs'!AO58 -> 2683.7352 | BT33: ='WNTR-Calcs'!AP58 -> 0.31949228 | BU33: =IF(BK33="XX", "XX", BS33*1.08*$AG$10/1000) -> 23132.402 | CD33: =AP33 -> 3 | CE33: =AQ33 -> 4 | CF33: =AR33 -> 76 | CI33: ='SMMR-Calcs'!L58 -> 94.72944 | CJ33: ='SMMR-Calcs'!Q58 -> 14.560183 | CK33: ='SMMR-Calcs'!S58 -> 38.524401 | CL33: =IF(AK33="XX", "XX", AY33) -> -2323.8644 | CM33: =IF(AK33="XX", "XX", CL33*60/CJ33) -> -9576.244 | CN33: ='SMMR-Calcs'!AQ58 -> -49516.426 | CO33: ='SMMR-Calcs'!AR58 -> -7529.3206 | CQ33: ='WNTR-Calcs'!L58 -> -16.27056 | CR33: ='WNTR-Calcs'!Q58 -> 11.391062 | CS33: ='WNTR-Calcs'!S58 -> -3.4507925 | CT33: =IF(AR33="XX", "XX", BS33) -> 2683.7352 | CU33: =IF(AR33="XX", "XX", CT33*60/CR33) -> 14136.005 | CV33: ='WNTR-Calcs'!AQ58 -> -255846.39 | CW33: ='WNTR-Calcs'!AR58 -> 8695.302
B34: =B33+0.02 -> 0.54 | C34: =B34 / ($L$3 * SQRT(2*$C$3/$N$3)) -> 1.1068266 | G34: Mech Flr above Sctn (Y/N) | H34: N | I34: N | J34: N | K34: N | L34: N | M34: N | N34: N | O34: N | Q34: =Q37+1 -> 2 | R34: 1 | S34: 1 | T34: 1 | Y34: SECTION-Height (ft) | Z34: =Z21*Z22 + 20* (IF(Z23="Y",1,0)) -> 40 | AA34: =AA21*AA22 + 20* (IF(AA23="Y",1,0)) -> 74 | AB34: =AB21*AB22 + 20* (IF(AB23="Y",1,0)) -> 90 | AC34: =AC21*AC22 + 20* (IF(AC23="Y",1,0)) -> 560 | AD34: =AD21*AD22 + 20* (IF(AD23="Y",1,0)) -> 75 | AE34: =AE21*AE22 + 20* (IF(AE23="Y",1,0)) -> 250 | AF34: =AF21*AF22 + 20* (IF(AF23="Y",1,0)) -> 170 | AG34: =AG21*AG22 + 20* (IF(AG23="Y",1,0)) -> 50 | AI34: =AI37+1 -> 2 | AJ34: 1 | AK34: =IF(AJ34<=0, "XX", Z$29+AJ34) -> 3 | AL34: =IF(AK34="XX", "XX", $Z$11 + Z$34 + AJ34*AA$21) -> 558 | AM34: =IF(AK34="XX", "XX", AL34*0.3048) -> 170.0784 | AP34: =AI34 -> 2 | AQ34: =AK34 -> 3 | AR34: ='SMMR-Calcs'!AH59 -> 58 | AU34: ='SMMR-Calcs'!J59 -> 14.402036 | AV34: ='SMMR-Calcs'!K59 -> 5.2215432 | AW34: ='SMMR-Calcs'!L59 -> 94.79352 | AX34: ='SMMR-Calcs'!R59 -> 0.068714267 | AY34: ='SMMR-Calcs'!AO59 -> -2357.3029 | AZ34: ='SMMR-Calcs'!AP59 -> -0.2806313 | BA34: =IF(AK34="XX", "XX", AY34*1.08*$AF$10/12000) -> -568.58147 | BJ34: =AP34 -> 2 | BK34: =AQ34 -> 3 | BL34: =AR34 -> 58 | BO34: ='WNTR-Calcs'!J58 -> 14.392635 | BP34: ='WNTR-Calcs'!K58 -> 15.290298 | BQ34: ='WNTR-Calcs'!L58 -> -16.27056 | BR34: ='WNTR-Calcs'!R58 -> 0.087788129 | BS34: ='WNTR-Calcs'!AO59 -> 2725.9337 | BT34: ='WNTR-Calcs'!AP59 -> 0.32451591 | BU34: =IF(BK34="XX", "XX", BS34*1.08*$AG$10/1000) -> 23496.131 | CD34: =AP34 -> 2 | CE34: =AQ34 -> 3 | CF34: =AR34 -> 58 | CI34: ='SMMR-Calcs'!L59 -> 94.79352 | CJ34: ='SMMR-Calcs'!Q59 -> 14.553019 | CK34: ='SMMR-Calcs'!S59 -> 38.571936 | CL34: =IF(AK34="XX", "XX", AY34) -> -2357.3029 | CM34: =IF(AK34="XX", "XX", CL34*60/CJ34) -> -9718.8206 | CN34: ='SMMR-Calcs'!AQ59 -> -50392.069 | CO34: ='SMMR-Calcs'!AR59 -> -7637.6615 | CQ34: ='WNTR-Calcs'!L59 -> -16.20648 | CR34: ='WNTR-Calcs'!Q59 -> 11.385292 | CS34: ='WNTR-Calcs'!S59 -> -3.4342169 | CT34: =IF(AR34="XX", "XX", BS34) -> 2725.9337 | CU34: =IF(AR34="XX", "XX", CT34*60/CR34) -> 14365.554 | CV34: ='WNTR-Calcs'!AQ59 -> -259680.62 | CW34: ='WNTR-Calcs'!AR59 -> 8832.0251
B35: =B34+0.02 -> 0.56 | C35: =B35 / ($L$3 * SQRT(2*$C$3/$N$3)) -> 1.1478202 | G35: Leakage Area as % of Envel | H35: 0.4 | I35: 0.4 | J35: 0.4 | K35: 0.4 | L35: 0.4 | M35: 0.4 | N35: 0.4 | O35: 0.4 | Y35: Total Section Flr Area (ft2) | Z35: =Z30 * (Z22 + IF(Z23="Y", 1,0)) -> 153600 | AA35: =AA30 * (AA22 + IF(AA23="Y", 1,0)) -> 224000 | AB35: =AB30 * (AB22 + IF(AB23="Y", 1,0)) -> 230400 | AC35: =AC30 * (AC22 + IF(AC23="Y", 1,0)) -> 1262800 | AD35: =AD30 * (AD22 + IF(AD23="Y", 1,0)) -> 120000 | AE35: =AE30 * (AE22 + IF(AE23="Y", 1,0)) -> 450000 | AF35: =AF30 * (AF22 + IF(AF23="Y", 1,0)) -> 288000 | AG35: =AG30 * (AG22 + IF(AG23="Y", 1,0)) -> 54000 | AI35: Section >> | AK35: =Z17 -> 1 | AL35: # flrs >> | AM35: =Z29 -> 2 | AP35: =AI35 -> Section >> | AR35: =AK35 -> 1 | AS35: =Z33 -> 89.6 | AU35: Alt psi | AV35: Wnd-V | AW35: OA-DB | AX35: OA-d | AY35: Q cfm | AZ35: Q/Env-A | BA35: Tons | BJ35: =AI35 -> Section >> | BL35: =AR35 -> 1 | BM35: =AS35 -> 89.6 | BO35: Alt psi | BP35: Wnd-V | BQ35: OA-DB | BR35: OA-d | BS35: Q cfm | BT35: Q/Env-A | BU35: KWH | CF35: =AR35 -> 1 | CG35: =AS35 -> 89.6 | CI35: OA-DB | CJ35: Vo ft3/lb | CK35: Ho bu/lb | CL35: Q ft3/min | CM35: Q lbs/hr | CN35: btuh | CO35: K-btu/yr | CQ35: OA-DB | CR35: Vo ft3/lb | CS35: Ho bu/lb | CT35: Q ft3/min | CU35: Q lbs/hr | CV35: btuh | CW35: K-btu/yr
B36: =B35+0.02 -> 0.58 | C36: =B36 / ($L$3 * SQRT(2*$C$3/$N$3)) -> 1.1888137 | G36: Envel Leakage Flow Coeff | H36: 0.6 | I36: 0.6 | J36: 0.6 | K36: 0.6 | L36: 0.6 | M36: 0.6 | N36: 0.6 | O36: 0.6 | Q36: =Q37+1 -> 2 | R36: 2 | S36: 2 | T36: 2 | Y36: Totl Section Envel Area (ft2) | Z36: =Z32 * (Z22 + IF(Z23="Y", 1,0)) -> 44800 | AA36: =AA32 * (AA22 + IF(AA23="Y", 1,0)) -> 69120 | AB36: =AB32 * (AB22 + IF(AB23="Y", 1,0)) -> 72000 | AC36: =AC32 * (AC22 + IF(AC23="Y", 1,0)) -> 398520 | AD36: =AD32 * (AD22 + IF(AD23="Y", 1,0)) -> 48000 | AE36: =AE32 * (AE22 + IF(AE23="Y", 1,0)) -> 140000 | AF36: =AF32 * (AF22 + IF(AF23="Y", 1,0)) -> 89600 | AG36: =AG32 * (AG22 + IF(AG23="Y", 1,0)) -> 25200 | AI36: =AI37+1 -> 2 | AJ36: 2 | AK36: =IF(AJ36<=0,"XX",AJ36) -> 2 | AL36: =IF(AK36="XX", "XX", $Z$11 + (AJ36-1)*Z$21) -> 520 | AM36: =IF(AK36="XX", "XX", AL36*0.3048) -> 158.496 | AP36: =AI36 -> 2 | AQ36: =AK36 -> 2 | AR36: ='SMMR-Calcs'!AH64 -> 20 | AU36: ='SMMR-Calcs'!J64 -> 14.421899 | AV36: ='SMMR-Calcs'!K64 -> 5.0763942 | AW36: ='SMMR-Calcs'!L64 -> 94.9288 | AX36: ='SMMR-Calcs'!R64 -> 0.068785671 | AY36: ='SMMR-Calcs'!AO64 -> -3339.6037 | AZ36: ='SMMR-Calcs'!AP64 -> -0.39757187 | BA36: =IF(AK36="XX", "XX", AY36*1.08*$AF$10/12000) -> -805.51241 | BJ36: =AP36 -> 2 | BK36: =AQ36 -> 2 | BL36: =AR36 -> 20 | BO36: ='WNTR-Calcs'!J64 -> 14.421899 | BP36: ='WNTR-Calcs'!K64 -> 15.076394 | BQ36: ='WNTR-Calcs'!L64 -> -16.0712 | BR36: ='WNTR-Calcs'!R64 -> 0.087926599 | BS36: ='WNTR-Calcs'!AO64 -> 7099.114 | BT36: ='WNTR-Calcs'!AP64 -> 0.84513262 | BU36: =IF(BK36="XX", "XX", BS36*1.08*$AG$10/1000) -> 61190.671 | CD36: =AP36 -> 2 | CE36: =AQ36 -> 2 | CF36: =AR36 -> 20 | CI36: ='SMMR-Calcs'!L64 -> 94.9288 | CJ36: ='SMMR-Calcs'!Q64 -> 14.537911 | CK36: ='SMMR-Calcs'!S64 -> 38.672424 | CL36: =IF(AK36="XX", "XX", AY36) -> -3339.6037 | CM36: =IF(AK36="XX", "XX", CL36*60/CJ36) -> -13783.013 | CN36: ='SMMR-Calcs'!AQ64 -> -71878.638 | CO36: ='SMMR-Calcs'!AR64 -> -10820.316 | CQ36: ='WNTR-Calcs'!L64 -> -16.0712 | CR36: ='WNTR-Calcs'!Q64 -> 11.373123 | CS36: ='WNTR-Calcs'!S64 -> -3.399215 | CT36: =IF(AR36="XX", "XX", BS36) -> 7099.114 | CU36: =IF(AR36="XX", "XX", CT36*60/CR36) -> 37452.057 | CV36: ='WNTR-Calcs'!AQ64 -> -675245.69 | CW36: ='WNTR-Calcs'!AR64 -> 23001.129
B37: =B36+0.02 -> 0.6 | C37: =B37 / ($L$3 * SQRT(2*$C$3/$N$3)) -> 1.2298073 | G37: In-Out PD (in.wg) PI - PO | H37: 0 | I37: 0 | J37: 0 | K37: 0 | L37: 0 | M37: 0 | N37: 0 | O37: 0 | Q37: 1 | R37: 1 | S37: 1 | T37: 1 | Y37: Totl Section Leakg Area (ft2) | Z37: =Z33 * (Z22 + IF(Z23="Y", 1,0)) -> 179.2 | AA37: =AA33 * (AA22 + IF(AA23="Y", 1,0)) -> 241.92 | AB37: =AB33 * (AB22 + IF(AB23="Y", 1,0)) -> 216 | AC37: =AC33 * (AC22 + IF(AC23="Y", 1,0)) -> 996.3 | AD37: =AD33 * (AD22 + IF(AD23="Y", 1,0)) -> 144 | AE37: =AE33 * (AE22 + IF(AE23="Y", 1,0)) -> 490 | AF37: =AF33 * (AF22 + IF(AF23="Y", 1,0)) -> 358.4 | AG37: =AG33 * (AG22 + IF(AG23="Y", 1,0)) -> 75.6 | AI37: 1 | AJ37: 1 | AK37: =AJ37 -> 1 | AL37: =$Z$11 -> 500 | AM37: =IF(AK37="XX", "XX", AL37*0.3048) -> 152.4 | AP37: =AI37 -> 1 | AQ37: =AK37 -> 1 | AR37: ='SMMR-Calcs'!AH65 -> 0 | AU37: ='SMMR-Calcs'!J65 -> 14.432362 | AV37: ='SMMR-Calcs'!K65 -> 5 | AW37: ='SMMR-Calcs'!L65 -> 95 | AX37: ='SMMR-Calcs'!R65 -> 0.068823267 | AY37: ='SMMR-Calcs'!AO65 -> -3397.4752 | AZ37: ='SMMR-Calcs'!AP65 -> -0.40446133 | BA37: =IF(AK37="XX", "XX", AY37*1.08*$AF$10/12000) -> -819.47101 | BJ37: =AP37 -> 1 | BK37: =AQ37 -> 1 | BL37: =AR37 -> 0 | BO37: ='WNTR-Calcs'!J64 -> 14.421899 | BP37: ='WNTR-Calcs'!K64 -> 15.076394 | BQ37: ='WNTR-Calcs'!L64 -> -16.0712 | BR37: ='WNTR-Calcs'!R64 -> 0.087926599 | BS37: ='WNTR-Calcs'!AO65 -> 7208.3748 | BT37: ='WNTR-Calcs'!AP65 -> 0.85813986 | BU37: =IF(BK37="XX", "XX", BS37*1.08*$AG$10/1000) -> 62132.442 | CD37: =AP37 -> 1 | CE37: =AQ37 -> 1 | CF37: =AR37 -> 0 | CI37: ='SMMR-Calcs'!L65 -> 95 | CJ37: ='SMMR-Calcs'!Q65 -> 14.52997 | CK37: ='SMMR-Calcs'!S65 -> 38.725386 | CL37: =IF(AK37="XX", "XX", AY37) -> -3397.4752 | CM37: =IF(AK37="XX", "XX", CL37*60/CJ37) -> -14029.521 | CN37: ='SMMR-Calcs'!AQ65 -> -73385.464 | CO37: ='SMMR-Calcs'!AR65 -> -11007.82 | CQ37: ='WNTR-Calcs'!L65 -> -16 | CR37: ='WNTR-Calcs'!Q65 -> 11.366725 | CS37: ='WNTR-Calcs'!S65 -> -3.380788 | CT37: =IF(AR37="XX", "XX", BS37) -> 7208.3748 | CU37: =IF(AR37="XX", "XX", CT37*60/CR37) -> 38049.879 | CV37: ='WNTR-Calcs'!AQ65 -> -685083.94 | CW37: ='WNTR-Calcs'!AR65 -> 23355.134

Sheet SMMR-Calcs
B2: Bldg Pressurization - Stack Effect & Wind Press Infltr-Exfiltr | L2: Summer Calcs
X3: Convert K-Pa to | AA3: In.Hg | AB3: 0.29610503 | AC3: In.H2O | AD3: 4.0185658 | AE3: PSI | AF3: 0.14503768 | AH3: ∆PS = C1*ρO* [ (TO - TI) / TI ] * g * (HNPL - H) | AM3: C1 = | AN3: 0.000598 | AO3: g = | AP3: 32.17 | AQ3: C2 = | AR3: 0.013
B4: Site Altit | D4: ='Input-Output'!Z11 -> 500 | E4: Bldg-H | F4: ='Input-Output'!X15 -> 1309 | G4: NPL-H | H4: ='Input-Output'!Y15 -> 654.5 | J4: Total Bldg Area | K4: ='Input-Output'!AA15 -> 2782800 | M4: Total Envel Area | O4: ='Input-Output'!AC15 -> 584440 | Q4: Leakg-A | R4: ='Input-Output'!AE15 -> 1633.42 | S4: Wnd-Vel Diff | U4: ='Input-Output'!AF7 - 'Input-Output'!AF6 -> 5 | X4: Convert in.H20 to | AA4: In.Hg | AB4: 0.073684257 | AC4: K-Pa | AD4: 0.248845 | AE4: PSI | AF4: 0.036091902 | AH4: ∆PW = C2 * s2 * CP * ρO * (UH)2 / 2 | AM4: s = | AN4: 0.4 | AO4: CF = | AP4: 0.65 | AQ4: CP = | AR4: 0.065
E5: Alt ref Sea-Lvl | G5: Outdoor Std. Atm. Press. @ Altit | K5: Wnd Vel | L5: DB | M5: WB | N5: DP | O5: W | P5: RH | Q5: V | R5: d | S5: H | T5: Tdb | U5: Twb | X5: Location | Z5: Psychrometric Calculations for DP, RH, V, W, H, TR | AH5: Q = Cd * A * ( 2 * ∆P/d )0.5 | AK5: Coolg-DD | AM5: ='Input-Output'!AF10 -> 2680 | AN5: TO (OR) | AO5: Ti (OR) | AP5: ρO = OA dens | AR5: A = Leakg-A
E6: feet | F6: meters | G6: K-Pa | H6: in.Hg | I6: in.H2O | J6: psi | K6: mph | L6: F | M6: F | N6: F | O6: lbs/b | P6: % | Q6: ft3/lb | R6: lbs/ft3 | S6: btu/lb | T6: R | U6: R | X6: Description | Z6: PWSwb | AA6: WSwb | AB6: PWSdb | AC6: VPs | AD6: VPa | AE6: a | AF6: WSdb | AH6: ∆PS = | AI6: Stack Effect Press Diff (in.wg) | AM6: UH = mph | AO6: Sp.Ht of Air = | AQ6: 0.24
B7: Sea-Level Conditions | E7: 0 | F7: 0 | G7: =( 101325*(1-2.25577*(10^(-5))*F7)^5.2555 ) /1000 -> 101.325 | H7: =G7*0.2953 -> 29.921273 | I7: =J7*27.7070465550844 -> 406.03448 | J7: =H7/2.041772658 -> 14.654556 | K7: =('Input-Output'!AF6+'Input-Output'!AF7)/2 -> 7.5 | L7: ='Input-Output'!AF11 -> 75 | M7: ='Input-Output'!AF12 -> 62 | N7: =100.45+33.193*AE7+2.319*AE7^2+0.17074*AE7^3+1.2063*(AD7*0.4897705)^3 -> 53.291934 | O7: =((1093-0.556*M7)*AA7 - 0.24*(L7-M7))/(1093 + 0.444*L7-M7) -> 0.0089200822 | P7: =((O7/AF7)/(1-(1-(O7/AF7))*(AB7/J7)))*100 -> 48.128472 | Q7: =0.7543*(T7*(1+1.6078*O7))/H7 -> 13.672833 | R7: =1/Q7 -> 0.073137731 | S7: =0.24*L7+O7*(1061+0.444*L7) -> 27.761246 | T7: =L7+459.7 -> 534.7 | U7: =M7+459.7 -> 521.7 | X7: Out | Y7: Sea-Lvl | Z7: =EXP((-10440.397/U7)+(-11.29465) + (-0.027022355*U7) + (0.00001289036*U7*U7) + (-0.0000000024780681*U7^3)+(6.5459673*LN(U7))) -> 0.27548168 | AA7: =0.62198*Z7/(J7-Z7) -> 0.011916211 | AB7: =EXP((-10440.397/T7)+(-11.29465) + (-0.027022355*T7) + (0.00001289036*T7*T7) + (-0.0000000024780681*T7^3)+(6.5459673*LN(T7))) -> 0.43050567 | AC7: =AB7*2.041772658 -> 0.8789947 | AD7: =(H7*O7)/(0.62198+O7) -> 0.42304672 | AE7: =LN(AD7*0.4897705) -> -1.574091 | AF7: =0.62198*(AB7/(J7-AB7)) -> 0.018824871 | AH7: ∆PW = | AI7: Wind Press (in.wg) | AL7: Iniltr SHG/hr = CFM * 1.08 (To-Ti)) | AP7: Cooling/ year = CFM * 1.08 * CDD
B8: Indoor Conditions | E8: =E65 -> 500 | F8: =F65 -> 152.4 | G8: =( 101325*(1-2.25577*(10^(-5))*F8)^5.2555 ) /1000 -> 99.50767 | H8: =G8*0.2953 -> 29.384615 | I8: =J8*27.7070465550844 -> 398.75198 | J8: =H8/2.041772658 -> 14.391717 | K8: =K65 -> 5 | L8: ='Input-Output'!AF11 -> 75 | M8: ='Input-Output'!AF12 -> 62 | N8: =N65 -> 66.078058 | O8: =O65 -> 0.014435891 | P8: =P65 -> 40.069938 | Q8: =Q65 -> 14.52997 | R8: =R65 -> 0.068823267 | S8: =S65 -> 38.725386 | T8: =T65 -> 554.7 | U8: =U65 -> 534.7 | X8: In | Y8: Room | Z8: =IF(E8="XX", "XX", EXP((-10440.397/U8)+(-11.29465) + (-0.027022355*U8) + (0.00001289036*U8*U8) + (-0.0000000024780681*U8^3)+(6.5459673*LN(U8))) ) -> 0.43050567 | AA8: =IF(E8="XX", "XX", 0.62198*Z8/(J8-Z8)) -> 0.019179275 | AB8: =IF(E8="XX", "XX", EXP((-10440.397/T8)+(-11.29465) + (-0.027022355*T8) + (0.00001289036*T8*T8) + (-0.0000000024780681*T8^3)+(6.5459673*LN(T8))) ) -> 0.81699856 | AC8: =IF(E8="XX", "XX", AB8*2.041772658 ) -> 1.6681253 | AD8: =IF(E8="XX", "XX", (H8*O8)/(0.62198+O8)) -> 0.6665344 | AE8: =IF(E8="XX", "XX", LN(AD8*0.4897705)) -> -1.1194819 | AF8: =IF(E8="XX", "XX", 0.62198*(AB8/(J8-AB8))) -> 0.037434055 | AH8: Q = | AI8: Airflow Rate (ft3/sec) | AL8: PI - PO | AM8: Bldg Pressurization (Inside Press - Outside Press)
B10: ='Input-Output'!AK5 -> 8 | E10: No. of Flrs | G10: ='Input-Output'!AG22 -> 2 | H10: Envel-Area per Flr (ft2) | K10: ='Input-Output'!AG32 -> 8400 | X10: =B10 -> 8 | Z10: % Envel-Leakg | AB10: ='Input-Output'!AG24 -> 0.3 | AC10: Leakg Flow Cf | AE10: ='Input-Output'!AG25 -> 0.6 | AH10: Inside-Outside (PI-PO) | AK10: ='Input-Output'!AG26 -> 0.005 | AL10: Envel Leakg A | AN10: ='Input-Output'!AG33 -> 25.2 | AO10: Section Infltr (tons/yr) | AR10: =SUM(AR13:AR14)/12 -> 366.55628
B11: Level | C11: Sctn | D11: Bldg | E11: Alt ref Sea-Lvl | G11: Outdoor Std. Atm. Press. @ Altit | K11: Wnd Vel | L11: DB | M11: WB | N11: DP | O11: W | P11: RH | Q11: V | R11: d | S11: H | T11: Tdb | U11: Twb | X11: =B11 -> Level | Y11: =D11 -> Bldg | Z11: Psychrometric Calculations for DP, RH, V, W, H, TR | AH11: Floor | AI11: ∆PS | AJ11: ∆PW | AK11: ∆P = | AL11: ∆P + | AM11: Leakg Q | AN11: Exfl - | AO11: Leakage | AP11: Q / | AQ11: SHG | AR11: SHG/yr
B12: ID No. | C12: Flr No. | D12: Flr No. | E12: feet | F12: meters | G12: K-Pa | H12: in.Hg | I12: in.H2O | J12: psi | K12: mph | L12: F | M12: F | N12: F | O12: lbs/b | P12: % | Q12: ft3/lb | R12: lbs/ft3 | S12: btu/lb | T12: R | U12: R | X12: =B12 -> ID No. | Y12: =D12 -> Flr No. | Z12: PWSwb | AA12: WSwb | AB12: PWSdb | AC12: VPs | AD12: VPa | AE12: a | AF12: WSdb | AH12: Hght | AI12: in.H2O | AJ12: in.H2O | AK12: ∆PW+∆PS | AL12: PI - PO | AM12: ft3/min | AN12: Infl + | AO12: ft3/min | AP12: Envel-A | AQ12: btuh | AR12: tons
B13: ='Input-Output'!AI6 -> 24 | C13: ='Input-Output'!AJ6 -> 2 | D13: ='Input-Output'!AK6 -> 101 | E13: ='Input-Output'!AL6 -> 1789 | F13: ='Input-Output'!AM6 -> 545.2872 | G13: =IF(E13="XX","XX",((101325*(1-2.25577*(10^(-5))*F13)^5.2555)/1000)) -> 94.944017 | H13: =IF(E13="XX", "XX", G13*$AB$3) -> 28.113401 | I13: =IF(E13="XX", "XX", G13*$AD$3) -> 381.53878 | J13: =IF(E13="XX", "XX",G13*$AF$3) -> 13.77046 | K13: =IF(E13="XX", "XX", ( $K$65 + $U$4 * (E13-$D$4)/$F$4 ) ) -> 9.9236058 | L13: =IF(E13="XX", "XX", $L$65 - 0.00356*(E13-$E$65)) -> 90.41116 | M13: =IF(E13="XX","XX ", $M$65-0.00356*(E13-$E$65)) -> 70.41116 | N13: =IF(E13="XX","XX",100.45+33.193*AE13+2.319*AE13^2+0.17074*AE13^3+1.2063*(AD13*0.4897705)^3) -> 60.639142 | O13: =IF(E13="XX","XX ",((1093-0.556*M13)*AA13-0.24*(L13-M13))/(1093+0.444*L13-M13)) -> 0.012455689 | P13: =IF(E13="XX", "XX", ((O13/AF13)/(1-(1-(O13/AF13))*(AB13/J13)))*100) -> 38.151974 | Q13: =IF(E13="XX", "XX", 0.7543*(T13*(1+1.6078*O13))/H13) -> 15.055408 | R13: =IF(E13="XX", "XX", 1/Q13) -> 0.066421316 | S13: =IF(E13="XX", "XX", 0.24*L13+O13*(1061+0.444*L13)) -> 35.414167 | T13: =IF(E13="XX", "XX", L13+459.7) -> 550.11116 | U13: =IF(E13="XX", "XX", M13+459.7) -> 530.11116 | X13: =B13 -> 24 | Y13: =D13 -> 101 | Z13: =IF(E13="XX", "XX", EXP((-10440.397/U13)+(-11.29465) + (-0.027022355*U13) + (0.00001289036*U13*U13) + (-0.0000000024780681*U13^3)+(6.5459673*LN(U13))) ) -> 0.36878135 | AA13: =IF(E13="XX", "XX", 0.62198*Z13/(J13-Z13)) -> 0.017115365 | AB13: =IF(E13="XX", "XX", EXP((-10440.397/T13)+(-11.29465) + (-0.027022355*T13) + (0.00001289036*T13*T13) + (-0.0000000024780681*T13^3)+(6.5459673*LN(T13))) ) -> 0.70861701 | AC13: =IF(E13="XX", "XX", AB13*2.041772658 ) -> 1.4468348 | AD13: =IF(E13="XX", "XX", (H13*O13)/(0.62198+O13)) -> 0.55194211 | AE13: =IF(E13="XX", "XX", LN(AD13*0.4897705)) -> -1.3081305 | AF13: =IF(E13="XX", "XX", 0.62198*(AB13/(J13-AB13))) -> 0.033742988 | AH13: =IF(D13="XX", "XX", E13- $D$4) -> 1289 | AI13: =IF(D13="XX", "XX", $AN$3 * R13 * (T13-$T$7)/$T$7 * $AP$3 * ($H$4-AH13)) -> -0.023367728 | AJ13: =IF(D13="XX", "XX", $AR$3 * $AN$4^2 * $AR$4 * R13 * K13^2/2) -> 0.00044217398 | AK13: =IF(D13="XX", "XX", AI13 +AJ13) -> -0.022925554 | AL13: =IF(D13="XX", "XX", AK13 +$AK$10) -> -0.017925554 | AM13: =IF(D13="XX", "XX", 60 * ($AP$4 * $AN$10 * (2 * ABS(AL13)/R13)^0.5)) -> 722.0424 | AN13: =IF(D13="XX", "XX", IF(AL13<0, "Exfl", "Infl")) -> Exfl | AO13: =IF(AN13="Infl", -AM13, AM13) -> 722.0424 | AP13: =IF(D13="XX", "XX", AO13/$K$10) -> 0.085957429 | AQ13: =IF(D13="XX", "XX", AO13*1.08*(L13-$L$8)) -> 12017.712 | AR13: =IF(D13="XX", "XX", AO13 * 1.08 * $AM$5/1000) -> 2089.8795
B14: ='Input-Output'!AI7 -> 23 | C14: ='Input-Output'!AJ7 -> 1 | D14: ='Input-Output'!AK7 -> 100 | E14: ='Input-Output'!AL7 -> 1774 | F14: ='Input-Output'!AM7 -> 540.7152 | G14: =IF(E14="XX","XX",((101325*(1-2.25577*(10^(-5))*F14)^5.2555)/1000)) -> 94.996131 | H14: =IF(E14="XX", "XX", G14*$AB$3) -> 28.128832 | I14: =IF(E14="XX", "XX", G14*$AD$3) -> 381.7482 | J14: =IF(E14="XX", "XX",G14*$AF$3) -> 13.778018 | K14: =IF(E14="XX", "XX", ( $K$65 + $U$4 * (E14-$D$4)/$F$4 ) ) -> 9.8663102 | L14: =IF(E14="XX", "XX", $L$65 - 0.00356*(E14-$E$65)) -> 90.46456 | M14: =IF(E14="XX","XX ", $M$65-0.00356*(E14-$E$65)) -> 70.46456 | N14: =IF(E14="XX","XX",100.45+33.193*AE14+2.319*AE14^2+0.17074*AE14^3+1.2063*(AD14*0.4897705)^3) -> 60.703182 | O14: =IF(E14="XX","XX ",((1093-0.556*M14)*AA14-0.24*(L14-M14))/(1093+0.444*L14-M14)) -> 0.012477715 | P14: =IF(E14="XX", "XX", ((O14/AF14)/(1-(1-(O14/AF14))*(AB14/J14)))*100) -> 38.175219 | Q14: =IF(E14="XX", "XX", 0.7543*(T14*(1+1.6078*O14))/H14) -> 15.049132 | R14: =IF(E14="XX", "XX", 1/Q14) -> 0.066449017 | S14: =IF(E14="XX", "XX", 0.24*L14+O14*(1061+0.444*L14)) -> 35.451533 | T14: =IF(E14="XX", "XX", L14+459.7) -> 550.16456 | U14: =IF(E14="XX", "XX", M14+459.7) -> 530.16456 | X14: =B14 -> 23 | Y14: =D14 -> 100 | Z14: =IF(E14="XX", "XX", EXP((-10440.397/U14)+(-11.29465) + (-0.027022355*U14) + (0.00001289036*U14*U14) + (-0.0000000024780681*U14^3)+(6.5459673*LN(U14))) ) -> 0.36945253 | AA14: =IF(E14="XX", "XX", 0.62198*Z14/(J14-Z14)) -> 0.017137708 | AB14: =IF(E14="XX", "XX", EXP((-10440.397/T14)+(-11.29465) + (-0.027022355*T14) + (0.00001289036*T14*T14) + (-0.0000000024780681*T14^3)+(6.5459673*LN(T14))) ) -> 0.70980262 | AC14: =IF(E14="XX", "XX", AB14*2.041772658 ) -> 1.4492556 | AD14: =IF(E14="XX", "XX", (H14*O14)/(0.62198+O14)) -> 0.55320243 | AE14: =IF(E14="XX", "XX", LN(AD14*0.4897705)) -> -1.3058497 | AF14: =IF(E14="XX", "XX", 0.62198*(AB14/(J14-AB14))) -> 0.033782962 | AH14: =IF(D14="XX", "XX", E14- $D$4) -> 1274 | AI14: =IF(D14="XX", "XX", $AN$3 * R14 * (T14-$T$7)/$T$7 * $AP$3 * ($H$4-AH14)) -> -0.022903903 | AJ14: =IF(D14="XX", "XX", $AR$3 * $AN$4^2 * $AR$4 * R14 * K14^2/2) -> 0.00043726507 | AK14: =IF(D14="XX", "XX", AI14 +AJ14) -> -0.022466638 | AL14: =IF(D14="XX", "XX", AK14 +$AK$10) -> -0.017466638 | AM14: =IF(D14="XX", "XX", 60 * ($AP$4 * $AN$10 * (2 * ABS(AL14)/R14)^0.5)) -> 712.59132 | AN14: =IF(D14="XX", "XX", IF(AL14<0, "Exfl", "Infl")) -> Exfl | AO14: =IF(AN14="Infl", -AM14, AM14) -> 712.59132 | AP14: =IF(D14="XX", "XX", AO14/$K$10) -> 0.0848323 | AQ14: =IF(D14="XX", "XX", AO14*1.08*(L14-$L$8)) -> 11901.504 | AR14: =IF(D14="XX", "XX", AO14 * 1.08 * 3000/1000) -> 2308.7959
B16: ='Input-Output'!AK8 -> 7 | E16: No. of Flrs | G16: ='Input-Output'!AF22 -> 15 | H16: Envel-Area per Flr (ft2) | K16: ='Input-Output'!AF32 -> 5600 | L16: % Envel-Leakg | N16: ='Input-Output'!AF24 -> 0.4 | O16: Leakg Flow Cf | Q16: ='Input-Output'!AF25 -> 0.6 | R16: Inside-Outside (PI-PO) | U16: ='Input-Output'!AF26 -> 0.005 | X16: =B16 -> 7 | Z16: % Envel-Leakg | AB16: ='Input-Output'!AF24 -> 0.4 | AC16: Leakg Flow Cf | AE16: ='Input-Output'!AF25 -> 0.6 | AH16: Inside-Outside (PI-PO) | AK16: ='Input-Output'!AF26 -> 0.005 | AL16: Envel Leakg A | AN16: ='Input-Output'!AF33 -> 22.4 | AO16: Section Infltr (tons/yr) | AR16: =SUM(AR19:AR21)/12 -> 305.24811
B17: Level | C17: Sctn | D17: Bldg | E17: Alt ref Sea-Lvl | G17: Outdoor Std. Atm. Press. @ Altit | K17: Wnd Vel | L17: DB | M17: WB | N17: DP | O17: W | P17: RH | Q17: V | R17: d | S17: H | T17: Tdb | U17: Twb | X17: =B17 -> Level | Y17: =D17 -> Bldg | Z17: Psychrometric Calculations for DP, RH, V, W, H, TR | AH17: Floor | AI17: ∆PS | AJ17: ∆PW | AK17: ∆P = | AL17: ∆P + | AM17: Leakg Q | AN17: Exfl - | AO17: Leakage | AP17: Q / | AQ17: SHG | AR17: SHG/yr
B18: ID No. | C18: Flr No. | D18: Flr No. | E18: feet | F18: meters | G18: K-Pa | H18: in.Hg | I18: in.H2O | J18: psi | K18: mph | L18: F | M18: F | N18: F | O18: lbs/b | P18: % | Q18: ft3/lb | R18: lbs/ft3 | S18: btu/lb | T18: R | U18: R | X18: =B18 -> ID No. | Y18: =D18 -> Flr No. | Z18: PWSwb | AA18: WSwb | AB18: PWSdb | AC18: VPs | AD18: VPa | AE18: a | AF18: WSdb | AH18: Hght | AI18: in.H2O | AJ18: in.H2O | AK18: ∆PW+∆PS | AL18: PI - PO | AM18: ft3/min | AN18: Infl + | AO18: ft3/min | AP18: Envel-A | AQ18: btuh | AR18: tons
B19: ='Input-Output'!AI9 -> 22 | C19: ='Input-Output'!AJ9 -> 0 | D19: ='Input-Output'!AK9 -> XX | E19: ='Input-Output'!AL9 -> XX | F19: ='Input-Output'!AM9 -> XX | G19: =IF(E19="XX","XX",((101325*(1-2.25577*(10^(-5))*F19)^5.2555)/1000)) -> XX | H19: =IF(E19="XX", "XX", G19*$AB$3) -> XX | I19: =IF(E19="XX", "XX", G19*$AD$3) -> XX | J19: =IF(E19="XX", "XX",G19*$AF$3) -> XX | K19: =IF(E19="XX", "XX", ( $K$65 + $U$4 * (E19-$D$4)/$F$4 ) ) -> XX | L19: =IF(E19="XX", "XX", $L$65 - 0.00356*(E19-$E$65)) -> XX | M19: =IF(E19="XX","XX ", $M$65-0.00356*(E19-$E$65)) -> XX | N19: =IF(E19="XX","XX",100.45+33.193*AE19+2.319*AE19^2+0.17074*AE19^3+1.2063*(AD19*0.4897705)^3) -> XX | O19: =IF(E19="XX","XX ",((1093-0.556*M19)*AA19-0.24*(L19-M19))/(1093+0.444*L19-M19)) -> XX | P19: =IF(E19="XX", "XX", ((O19/AF19)/(1-(1-(O19/AF19))*(AB19/J19)))*100) -> XX | Q19: =IF(E19="XX", "XX", 0.7543*(T19*(1+1.6078*O19))/H19) -> XX | R19: =IF(E19="XX", "XX", 1/Q19) -> XX | S19: =IF(E19="XX", "XX", 0.24*L19+O19*(1061+0.444*L19)) -> XX | T19: =IF(E19="XX", "XX", L19+459.7) -> XX | U19: =IF(E19="XX", "XX", M19+459.7) -> XX | X19: =B19 -> 22 | Y19: =D19 -> XX | Z19: =IF(E19="XX", "XX", EXP((-10440.397/U19)+(-11.29465) + (-0.027022355*U19) + (0.00001289036*U19*U19) + (-0.0000000024780681*U19^3)+(6.5459673*LN(U19))) ) -> XX | AA19: =IF(E19="XX", "XX", 0.62198*Z19/(J19-Z19)) -> XX | AB19: =IF(E19="XX", "XX", EXP((-10440.397/T19)+(-11.29465) + (-0.027022355*T19) + (0.00001289036*T19*T19) + (-0.0000000024780681*T19^3)+(6.5459673*LN(T19))) ) -> XX | AC19: =IF(E19="XX", "XX", AB19*2.041772658 ) -> XX | AD19: =IF(E19="XX", "XX", (H19*O19)/(0.62198+O19)) -> XX | AE19: =IF(E19="XX", "XX", LN(AD19*0.4897705)) -> XX | AF19: =IF(E19="XX", "XX", 0.62198*(AB19/(J19-AB19))) -> XX | AH19: =IF(D19="XX", "XX", E19- $D$4) -> XX | AI19: =IF(D19="XX", "XX", $AN$3 * R19 * (T19-$T$7)/$T$7 * $AP$3 * ($H$4-AH19)) -> XX | AJ19: =IF(D19="XX", "XX", $AR$3 * $AN$4^2 * $AR$4 * R19 * K19^2/2) -> XX | AK19: =IF(D19="XX", "XX", AI19 +AJ19) -> XX | AL19: =IF(D19="XX", "XX", AK19 +$AK$16) -> XX | AM19: =IF(D19="XX", "XX", 60 * ($AP$4 * $AN$16 * (2 * ABS(AL19)/R19)^0.5)) -> XX | AN19: =IF(D19="XX", "XX", IF(AL19<0, "Exfl", "Infl")) -> XX | AO19: =IF(AN19="Infl", -AM19, AM19) -> XX | AP19: =IF(D19="XX", "XX", AO19/$K$10) -> XX | AQ19: =IF(D19="XX", "XX", AO19*1.08*(L19-$L$8)) -> XX | AR19: =IF(D19="XX", "XX", AO19 * 1.08 * 3000/1000) -> XX
B20: ='Input-Output'!AI10 -> 21 | C20: ='Input-Output'!AJ10 -> 10 | D20: ='Input-Output'!AK10 -> 93 | E20: ='Input-Output'!AL10 -> 1689 | F20: ='Input-Output'!AM10 -> 514.8072 | G20: =IF(E20="XX","XX",((101325*(1-2.25577*(10^(-5))*F20)^5.2555)/1000)) -> 95.291881 | H20: =IF(E20="XX", "XX", G20*$AB$3) -> 28.216406 | I20: =IF(E20="XX", "XX", G20*$AD$3) -> 382.93669 | J20: =IF(E20="XX", "XX",G20*$AF$3) -> 13.820913 | K20: =IF(E20="XX", "XX", ( $K$65 + $U$4 * (E20-$D$4)/$F$4 ) ) -> 9.5416348 | L20: =IF(E20="XX", "XX", $L$65 - 0.00356*(E20-$E$65)) -> 90.76716 | M20: =IF(E20="XX","XX ", $M$65-0.00356*(E20-$E$65)) -> 70.76716 | N20: =IF(E20="XX","XX",100.45+33.193*AE20+2.319*AE20^2+0.17074*AE20^3+1.2063*(AD20*0.4897705)^3) -> 61.065716 | O20: =IF(E20="XX","XX ",((1093-0.556*M20)*AA20-0.24*(L20-M20))/(1093+0.444*L20-M20)) -> 0.012602972 | P20: =IF(E20="XX", "XX", ((O20/AF20)/(1-(1-(O20/AF20))*(AB20/J20)))*100) -> 38.30651 | Q20: =IF(E20="XX", "XX", 0.7543*(T20*(1+1.6078*O20))/H20) -> 15.01364 | R20: =IF(E20="XX", "XX", 1/Q20) -> 0.0666061 | S20: =IF(E20="XX", "XX", 0.24*L20+O20*(1061+0.444*L20)) -> 35.663779 | T20: =IF(E20="XX", "XX", L20+459.7) -> 550.46716 | U20: =IF(E20="XX", "XX", M20+459.7) -> 530.46716 | X20: =B20 -> 21 | Y20: =D20 -> 93 | Z20: =IF(E20="XX", "XX", EXP((-10440.397/U20)+(-11.29465) + (-0.027022355*U20) + (0.00001289036*U20*U20) + (-0.0000000024780681*U20^3)+(6.5459673*LN(U20))) ) -> 0.37327614 | AA20: =IF(E20="XX", "XX", 0.62198*Z20/(J20-Z20)) -> 0.017264765 | AB20: =IF(E20="XX", "XX", EXP((-10440.397/T20)+(-11.29465) + (-0.027022355*T20) + (0.00001289036*T20*T20) + (-0.0000000024780681*T20^3)+(6.5459673*LN(T20))) ) -> 0.71655364 | AC20: =IF(E20="XX", "XX", AB20*2.041772658 ) -> 1.4630396 | AD20: =IF(E20="XX", "XX", (H20*O20)/(0.62198+O20)) -> 0.56038466 | AE20: =IF(E20="XX", "XX", LN(AD20*0.4897705)) -> -1.2929502 | AF20: =IF(E20="XX", "XX", 0.62198*(AB20/(J20-AB20))) -> 0.03401021 | AH20: =IF(D20="XX", "XX", E20- $D$4) -> 1189 | AI20: =IF(D20="XX", "XX", $AN$3 * R20 * (T20-$T$7)/$T$7 * $AP$3 * ($H$4-AH20)) -> -0.020195623 | AJ20: =IF(D20="XX", "XX", $AR$3 * $AN$4^2 * $AR$4 * R20 * K20^2/2) -> 0.00040992677 | AK20: =IF(D20="XX", "XX", AI20 +AJ20) -> -0.019785696 | AL20: =IF(D20="XX", "XX", AK20 +$AK$16) -> -0.014785696 | AM20: =IF(D20="XX", "XX", 60 * ($AP$4 * $AN$16 * (2 * ABS(AL20)/R20)^0.5)) -> 582.09183 | AN20: =IF(D20="XX", "XX", IF(AL20<0, "Exfl", "Infl")) -> Exfl | AO20: =IF(AN20="Infl", -AM20, AM20) -> 582.09183 | AP20: =IF(D20="XX", "XX", AO20/$K$10) -> 0.069296647 | AQ20: =IF(D20="XX", "XX", AO20*1.08*(L20-$L$8)) -> 9912.1699 | AR20: =IF(D20="XX", "XX", AO20 * 1.08 * 3000/1000) -> 1885.9775
B21: ='Input-Output'!AI11 -> 20 | C21: ='Input-Output'!AJ11 -> 5 | D21: ='Input-Output'!AK11 -> 88 | E21: ='Input-Output'!AL11 -> 1639 | F21: ='Input-Output'!AM11 -> 499.5672 | G21: =IF(E21="XX","XX",((101325*(1-2.25577*(10^(-5))*F21)^5.2555)/1000)) -> 95.4662 | H21: =IF(E21="XX", "XX", G21*$AB$3) -> 28.268022 | I21: =IF(E21="XX", "XX", G21*$AD$3) -> 383.6372 | J21: =IF(E21="XX", "XX",G21*$AF$3) -> 13.846196 | K21: =IF(E21="XX", "XX", ( $K$65 + $U$4 * (E21-$D$4)/$F$4 ) ) -> 9.3506494 | L21: =IF(E21="XX", "XX", $L$65 - 0.00356*(E21-$E$65)) -> 90.94516 | M21: =IF(E21="XX","XX ", $M$65-0.00356*(E21-$E$65)) -> 70.94516 | N21: =IF(E21="XX","XX",100.45+33.193*AE21+2.319*AE21^2+0.17074*AE21^3+1.2063*(AD21*0.4897705)^3) -> 61.278688 | O21: =IF(E21="XX","XX ",((1093-0.556*M21)*AA21-0.24*(L21-M21))/(1093+0.444*L21-M21)) -> 0.012677005 | P21: =IF(E21="XX", "XX", ((O21/AF21)/(1-(1-(O21/AF21))*(AB21/J21)))*100) -> 38.383402 | Q21: =IF(E21="XX", "XX", 0.7543*(T21*(1+1.6078*O21))/H21) -> 14.99282 | R21: =IF(E21="XX", "XX", 1/Q21) -> 0.066698592 | S21: =IF(E21="XX", "XX", 0.24*L21+O21*(1061+0.444*L21)) -> 35.789034 | T21: =IF(E21="XX", "XX", L21+459.7) -> 550.64516 | U21: =IF(E21="XX", "XX", M21+459.7) -> 530.64516 | X21: =B21 -> 20 | Y21: =D21 -> 88 | Z21: =IF(E21="XX", "XX", EXP((-10440.397/U21)+(-11.29465) + (-0.027022355*U21) + (0.00001289036*U21*U21) + (-0.0000000024780681*U21^3)+(6.5459673*LN(U21))) ) -> 0.37554144 | AA21: =IF(E21="XX", "XX", 0.62198*Z21/(J21-Z21)) -> 0.01733986 | AB21: =IF(E21="XX", "XX", EXP((-10440.397/T21)+(-11.29465) + (-0.027022355*T21) + (0.00001289036*T21*T21) + (-0.0000000024780681*T21^3)+(6.5459673*LN(T21))) ) -> 0.72055079 | AC21: =IF(E21="XX", "XX", AB21*2.041772658 ) -> 1.4712009 | AD21: =IF(E21="XX", "XX", (H21*O21)/(0.62198+O21)) -> 0.56464178 | AE21: =IF(E21="XX", "XX", LN(AD21*0.4897705)) -> -1.2853821 | AF21: =IF(E21="XX", "XX", 0.62198*(AB21/(J21-AB21))) -> 0.034144468 | AH21: =IF(D21="XX", "XX", E21- $D$4) -> 1139 | AI21: =IF(D21="XX", "XX", $AN$3 * R21 * (T21-$T$7)/$T$7 * $AP$3 * ($H$4-AH21)) -> -0.01853879 | AJ21: =IF(D21="XX", "XX", $AR$3 * $AN$4^2 * $AR$4 * R21 * K21^2/2) -> 0.00039422749 | AK21: =IF(D21="XX", "XX", AI21 +AJ21) -> -0.018144563 | AL21: =IF(D21="XX", "XX", AK21 +$AK$16) -> -0.013144563 | AM21: =IF(D21="XX", "XX", 60 * ($AP$4 * $AN$16 * (2 * ABS(AL21)/R21)^0.5)) -> 548.45672 | AN21: =IF(D21="XX", "XX", IF(AL21<0, "Exfl", "Infl")) -> Exfl | AO21: =IF(AN21="Infl", -AM21, AM21) -> 548.45672 | AP21: =IF(D21="XX", "XX", AO21/$K$10) -> 0.065292467 | AQ21: =IF(D21="XX", "XX", AO21*1.08*(L21-$L$8)) -> 9444.8485 | AR21: =IF(D21="XX", "XX", AO21 * 1.08 * 3000/1000) -> 1776.9998
B23: ='Input-Output'!AK12 -> 6 (x) | E23: No. of Flrs | G23: ='Input-Output'!AE22 -> 25 | H23: Envel-Area per Flr (ft2) | K23: ='Input-Output'!AE32 -> 5600 | X23: =B23 -> 6 (x) | Z23: % Envel-Leakg | AB23: ='Input-Output'!AE24 -> 0.35 | AC23: Leakg Flow Cf | AE23: =-'Input-Output'!AE25 -> -0.6 | AH23: Inside-Outside (PI-PO) | AK23: ='Input-Output'!AE26 -> 0.005 | AL23: Envel Leakg A | AN23: ='Input-Output'!AE33 -> 19.6 | AO23: Section Infltr (tons/yr) | AR23: =SUM(AR26:AR29)/12 -> 294.49678
B24: Level | C24: Sctn | D24: Bldg | E24: Alt ref Sea-Lvl | G24: Outdoor Std. Atm. Press. @ Altit | K24: Wnd Vel | L24: DB | M24: WB | N24: DP | O24: W | P24: RH | Q24: V | R24: d | S24: H | T24: Tdb | U24: Twb | X24: =B24 -> Level | Y24: =D24 -> Bldg | Z24: Psychrometric Calculations for DP, RH, V, W, H, TR | AH24: Floor | AI24: ∆PS | AJ24: ∆PW | AK24: ∆P = | AL24: ∆P + | AM24: Leakg Q | AN24: Exfl - | AO24: Leakage | AP24: Q / | AQ24: SHG | AR24: SHG/yr
B25: ID No. | C25: Flr No. | D25: Flr No. | E25: feet | F25: meters | G25: K-Pa | H25: in.Hg | I25: in.H2O | J25: psi | K25: mph | L25: F | M25: F | N25: F | O25: lbs/b | P25: % | Q25: ft3/lb | R25: lbs/ft3 | S25: btu/lb | T25: R | U25: R | X25: =B25 -> ID No. | Y25: =D25 -> Flr No. | Z25: PWSwb | AA25: WSwb | AB25: PWSdb | AC25: VPs | AD25: VPa | AE25: a | AF25: WSdb | AH25: Hght | AI25: in.H2O | AJ25: in.H2O | AK25: ∆PW+∆PS | AL25: PI - PO | AM25: ft3/min | AN25: Infl + | AO25: ft3/min | AP25: Envel-A | AQ25: btuh | AR25: tons
B26: ='Input-Output'!AI13 -> 19 | C26: ='Input-Output'!AJ13 -> 0 | D26: ='Input-Output'!AK13 -> XX | E26: ='Input-Output'!AL13 -> XX | F26: ='Input-Output'!AM13 -> XX | G26: =IF(E26="XX","XX",((101325*(1-2.25577*(10^(-5))*F26)^5.2555)/1000)) -> XX | H26: =IF(E26="XX", "XX", G26*$AB$3) -> XX | I26: =IF(E26="XX", "XX", G26*$AD$3) -> XX | J26: =IF(E26="XX", "XX",G26*$AF$3) -> XX | K26: =IF(E26="XX", "XX", ( $K$65 + $U$4 * (E26-$D$4)/$F$4 ) ) -> XX | L26: =IF(E26="XX", "XX", $L$65 - 0.00356*(E26-$E$65)) -> XX | M26: =IF(E26="XX","XX ", $M$65-0.00356*(E26-$E$65)) -> XX | N26: =IF(E26="XX","XX",100.45+33.193*AE26+2.319*AE26^2+0.17074*AE26^3+1.2063*(AD26*0.4897705)^3) -> XX | O26: =IF(E26="XX","XX ",((1093-0.556*M26)*AA26-0.24*(L26-M26))/(1093+0.444*L26-M26)) -> XX | P26: =IF(E26="XX", "XX", ((O26/AF26)/(1-(1-(O26/AF26))*(AB26/J26)))*100) -> XX | Q26: =IF(E26="XX", "XX", 0.7543*(T26*(1+1.6078*O26))/H26) -> XX | R26: =IF(E26="XX", "XX", 1/Q26) -> XX | S26: =IF(E26="XX", "XX", 0.24*L26+O26*(1061+0.444*L26)) -> XX | T26: =IF(E26="XX", "XX", L26+459.7) -> XX | U26: =IF(E26="XX", "XX", M26+459.7) -> XX | X26: =B26 -> 19 | Y26: =D26 -> XX | Z26: =IF(E26="XX", "XX", EXP((-10440.397/U26)+(-11.29465) + (-0.027022355*U26) + (0.00001289036*U26*U26) + (-0.0000000024780681*U26^3)+(6.5459673*LN(U26))) ) -> XX | AA26: =IF(E26="XX", "XX", 0.62198*Z26/(J26-Z26)) -> XX | AB26: =IF(E26="XX", "XX", EXP((-10440.397/T26)+(-11.29465) + (-0.027022355*T26) + (0.00001289036*T26*T26) + (-0.0000000024780681*T26^3)+(6.5459673*LN(T26))) ) -> XX | AC26: =IF(E26="XX", "XX", AB26*2.041772658 ) -> XX | AD26: =IF(E26="XX", "XX", (H26*O26)/(0.62198+O26)) -> XX | AE26: =IF(E26="XX", "XX", LN(AD26*0.4897705)) -> XX | AF26: =IF(E26="XX", "XX", 0.62198*(AB26/(J26-AB26))) -> XX | AH26: =IF(D26="XX", "XX", E26- $D$4) -> XX | AI26: =IF(D26="XX", "XX", $AN$3 * R26 * (T26-$T$7)/$T$7 * $AP$3 * ($H$4-AH26)) -> XX | AJ26: =IF(D26="XX", "XX", $AR$3 * $AN$4^2 * $AR$4 * R26 * K26^2/2) -> XX | AK26: =IF(D26="XX", "XX", AI26 +AJ26) -> XX | AL26: =IF(D26="XX", "XX", AK26 +$AK$23) -> XX | AM26: =IF(D26="XX", "XX", 60 * ($AP$4 * $AN$23 * (2 * ABS(AL26)/R26)^0.5)) -> XX | AN26: =IF(D26="XX", "XX", IF(AL26<0, "Exfl", "Infl")) -> XX | AO26: =IF(AN26="Infl", -AM26, AM26) -> XX | AP26: =IF(D26="XX", "XX", AO26/$K$10) -> XX | AQ26: =IF(D26="XX", "XX", AO26*1.08*(L26-$L$8)) -> XX | AR26: =IF(D26="XX", "XX", AO26 * 1.08 * 3000/1000) -> XX
B27: ='Input-Output'!AI14 -> 18 | C27: ='Input-Output'!AJ14 -> 25 | D27: ='Input-Output'!AK14 -> 83 | E27: ='Input-Output'!AL14 -> 1589 | F27: ='Input-Output'!AM14 -> 484.3272 | G27: =IF(E27="XX","XX",((101325*(1-2.25577*(10^(-5))*F27)^5.2555)/1000)) -> 95.640776 | H27: =IF(E27="XX", "XX", G27*$AB$3) -> 28.319715 | I27: =IF(E27="XX", "XX", G27*$AD$3) -> 384.33875 | J27: =IF(E27="XX", "XX",G27*$AF$3) -> 13.871516 | K27: =IF(E27="XX", "XX", ( $K$65 + $U$4 * (E27-$D$4)/$F$4 ) ) -> 9.1596639 | L27: =IF(E27="XX", "XX", $L$65 - 0.00356*(E27-$E$65)) -> 91.12316 | M27: =IF(E27="XX","XX ", $M$65-0.00356*(E27-$E$65)) -> 71.12316 | N27: =IF(E27="XX","XX",100.45+33.193*AE27+2.319*AE27^2+0.17074*AE27^3+1.2063*(AD27*0.4897705)^3) -> 61.491453 | O27: =IF(E27="XX","XX ",((1093-0.556*M27)*AA27-0.24*(L27-M27))/(1093+0.444*L27-M27)) -> 0.012751301 | P27: =IF(E27="XX", "XX", ((O27/AF27)/(1-(1-(O27/AF27))*(AB27/J27)))*100) -> 38.460045 | Q27: =IF(E27="XX", "XX", 0.7543*(T27*(1+1.6078*O27))/H27) -> 14.972044 | R27: =IF(E27="XX", "XX", 1/Q27) -> 0.06679115 | S27: =IF(E27="XX", "XX", 0.24*L27+O27*(1061+0.444*L27)) -> 35.914589 | T27: =IF(E27="XX", "XX", L27+459.7) -> 550.82316 | U27: =IF(E27="XX", "XX", M27+459.7) -> 530.82316 | X27: =B27 -> 18 | Y27: =D27 -> 83 | Z27: =IF(E27="XX", "XX", EXP((-10440.397/U27)+(-11.29465) + (-0.027022355*U27) + (0.00001289036*U27*U27) + (-0.0000000024780681*U27^3)+(6.5459673*LN(U27))) ) -> 0.37781876 | AA27: =IF(E27="XX", "XX", 0.62198*Z27/(J27-Z27)) -> 0.01741522 | AB27: =IF(E27="XX", "XX", EXP((-10440.397/T27)+(-11.29465) + (-0.027022355*T27) + (0.00001289036*T27*T27) + (-0.0000000024780681*T27^3)+(6.5459673*LN(T27))) ) -> 0.72456729 | AC27: =IF(E27="XX", "XX", AB27*2.041772658 ) -> 1.4794017 | AD27: =IF(E27="XX", "XX", (H27*O27)/(0.62198+O27)) -> 0.56892295 | AE27: =IF(E27="XX", "XX", LN(AD27*0.4897705)) -> -1.2778286 | AF27: =IF(E27="XX", "XX", 0.62198*(AB27/(J27-AB27))) -> 0.034279159 | AH27: =IF(D27="XX", "XX", E27- $D$4) -> 1089 | AI27: =IF(D27="XX", "XX", $AN$3 * R27 * (T27-$T$7)/$T$7 * $AP$3 * ($H$4-AH27)) -> -0.016834527 | AJ27: =IF(D27="XX", "XX", $AR$3 * $AN$4^2 * $AR$4 * R27 * K27^2/2) -> 0.00037881284 | AK27: =IF(D27="XX", "XX", AI27 +AJ27) -> -0.016455714 | AL27: =IF(D27="XX", "XX", AK27 +$AK$23) -> -0.011455714 | AM27: =IF(D27="XX", "XX", 60 * ($AP$4 * $AN$23 * (2 * ABS(AL27)/R27)^0.5)) -> 447.70022 | AN27: =IF(D27="XX", "XX", IF(AL27<0, "Exfl", "Infl")) -> Exfl | AO27: =IF(AN27="Infl", -AM27, AM27) -> 447.70022 | AP27: =IF(D27="XX", "XX", AO27/$K$10) -> 0.053297645 | AQ27: =IF(D27="XX", "XX", AO27*1.08*(L27-$L$8)) -> 7795.8096 | AR27: =IF(D27="XX", "XX", AO27 * 1.08 * 3000/1000) -> 1450.5487
B28: ='Input-Output'!AI15 -> 17 | C28: ='Input-Output'!AJ15 -> 15 | D28: ='Input-Output'!AK15 -> 73 | E28: ='Input-Output'!AL15 -> 1489 | F28: ='Input-Output'!AM15 -> 453.8472 | G28: =IF(E28="XX","XX",((101325*(1-2.25577*(10^(-5))*F28)^5.2555)/1000)) -> 95.990706 | H28: =IF(E28="XX", "XX", G28*$AB$3) -> 28.423331 | I28: =IF(E28="XX", "XX", G28*$AD$3) -> 385.74496 | J28: =IF(E28="XX", "XX",G28*$AF$3) -> 13.922269 | K28: =IF(E28="XX", "XX", ( $K$65 + $U$4 * (E28-$D$4)/$F$4 ) ) -> 8.7776929 | L28: =IF(E28="XX", "XX", $L$65 - 0.00356*(E28-$E$65)) -> 91.47916 | M28: =IF(E28="XX","XX ", $M$65-0.00356*(E28-$E$65)) -> 71.47916 | N28: =IF(E28="XX","XX",100.45+33.193*AE28+2.319*AE28^2+0.17074*AE28^3+1.2063*(AD28*0.4897705)^3) -> 61.916367 | O28: =IF(E28="XX","XX ",((1093-0.556*M28)*AA28-0.24*(L28-M28))/(1093+0.444*L28-M28)) -> 0.012900681 | P28: =IF(E28="XX", "XX", ((O28/AF28)/(1-(1-(O28/AF28))*(AB28/J28)))*100) -> 38.612588 | Q28: =IF(E28="XX", "XX", 0.7543*(T28*(1+1.6078*O28))/H28) -> 14.930618 | R28: =IF(E28="XX", "XX", 1/Q28) -> 0.066976464 | S28: =IF(E28="XX", "XX", 0.24*L28+O28*(1061+0.444*L28)) -> 36.166605 | T28: =IF(E28="XX", "XX", L28+459.7) -> 551.17916 | U28: =IF(E28="XX", "XX", M28+459.7) -> 531.17916 | X28: =B28 -> 17 | Y28: =D28 -> 73 | Z28: =IF(E28="XX", "XX", EXP((-10440.397/U28)+(-11.29465) + (-0.027022355*U28) + (0.00001289036*U28*U28) + (-0.0000000024780681*U28^3)+(6.5459673*LN(U28))) ) -> 0.38240963 | AA28: =IF(E28="XX", "XX", 0.62198*Z28/(J28-Z28)) -> 0.017566736 | AB28: =IF(E28="XX", "XX", EXP((-10440.397/T28)+(-11.29465) + (-0.027022355*T28) + (0.00001289036*T28*T28) + (-0.0000000024780681*T28^3)+(6.5459673*LN(T28))) ) -> 0.73265859 | AC28: =IF(E28="XX", "XX", AB28*2.041772658 ) -> 1.4959223 | AD28: =IF(E28="XX", "XX", (H28*O28)/(0.62198+O28)) -> 0.57755786 | AE28: =IF(E28="XX", "XX", LN(AD28*0.4897705)) -> -1.262765 | AF28: =IF(E28="XX", "XX", 0.62198*(AB28/(J28-AB28))) -> 0.034549844 | AH28: =IF(D28="XX", "XX", E28- $D$4) -> 989 | AI28: =IF(D28="XX", "XX", $AN$3 * R28 * (T28-$T$7)/$T$7 * $AP$3 * ($H$4-AH28)) -> -0.013282978 | AJ28: =IF(D28="XX", "XX", $AR$3 * $AN$4^2 * $AR$4 * R28 * K28^2/2) -> 0.00034884273 | AK28: =IF(D28="XX", "XX", AI28 +AJ28) -> -0.012934136 | AL28: =IF(D28="XX", "XX", AK28 +$AK$23) -> -0.0079341357 | AM28: =IF(D28="XX", "XX", 60 * ($AP$4 * $AN$23 * (2 * ABS(AL28)/R28)^0.5)) -> 372.06977 | AN28: =IF(D28="XX", "XX", IF(AL28<0, "Exfl", "Infl")) -> Exfl | AO28: =IF(AN28="Infl", -AM28, AM28) -> 372.06977 | AP28: =IF(D28="XX", "XX", AO28/$K$10) -> 0.04429402 | AQ28: =IF(D28="XX", "XX", AO28*1.08*(L28-$L$8)) -> 6621.909 | AR28: =IF(D28="XX", "XX", AO28 * 1.08 * 3000/1000) -> 1205.506
B29: ='Input-Output'!AI16 -> 16 | C29: ='Input-Output'!AJ16 -> 5 | D29: ='Input-Output'!AK16 -> 63 | E29: ='Input-Output'!AL16 -> 1389 | F29: ='Input-Output'!AM16 -> 423.3672 | G29: =IF(E29="XX","XX",((101325*(1-2.25577*(10^(-5))*F29)^5.2555)/1000)) -> 96.341671 | H29: =IF(E29="XX", "XX", G29*$AB$3) -> 28.527254 | I29: =IF(E29="XX", "XX", G29*$AD$3) -> 387.15534 | J29: =IF(E29="XX", "XX",G29*$AF$3) -> 13.973172 | K29: =IF(E29="XX", "XX", ( $K$65 + $U$4 * (E29-$D$4)/$F$4 ) ) -> 8.3957219 | L29: =IF(E29="XX", "XX", $L$65 - 0.00356*(E29-$E$65)) -> 91.83516 | M29: =IF(E29="XX","XX ", $M$65-0.00356*(E29-$E$65)) -> 71.83516 | N29: =IF(E29="XX","XX",100.45+33.193*AE29+2.319*AE29^2+0.17074*AE29^3+1.2063*(AD29*0.4897705)^3) -> 62.340478 | O29: =IF(E29="XX","XX ",((1093-0.556*M29)*AA29-0.24*(L29-M29))/(1093+0.444*L29-M29)) -> 0.013051119 | P29: =IF(E29="XX", "XX", ((O29/AF29)/(1-(1-(O29/AF29))*(AB29/J29)))*100) -> 38.76415 | Q29: =IF(E29="XX", "XX", 0.7543*(T29*(1+1.6078*O29))/H29) -> 14.889363 | R29: =IF(E29="XX", "XX", 1/Q29) -> 0.067162042 | S29: =IF(E29="XX", "XX", 0.24*L29+O29*(1061+0.444*L29)) -> 36.419832 | T29: =IF(E29="XX", "XX", L29+459.7) -> 551.53516 | U29: =IF(E29="XX", "XX", M29+459.7) -> 531.53516 | X29: =B29 -> 16 | Y29: =D29 -> 63 | Z29: =IF(E29="XX", "XX", EXP((-10440.397/U29)+(-11.29465) + (-0.027022355*U29) + (0.00001289036*U29*U29) + (-0.0000000024780681*U29^3)+(6.5459673*LN(U29))) ) -> 0.3870492 | AA29: =IF(E29="XX", "XX", 0.62198*Z29/(J29-Z29)) -> 0.017719319 | AB29: =IF(E29="XX", "XX", EXP((-10440.397/T29)+(-11.29465) + (-0.027022355*T29) + (0.00001289036*T29*T29) + (-0.0000000024780681*T29^3)+(6.5459673*LN(T29))) ) -> 0.74082816 | AC29: =IF(E29="XX", "XX", AB29*2.041772658 ) -> 1.5126027 | AD29: =IF(E29="XX", "XX", (H29*O29)/(0.62198+O29)) -> 0.58629028 | AE29: =IF(E29="XX", "XX", LN(AD29*0.4897705)) -> -1.2477586 | AF29: =IF(E29="XX", "XX", 0.62198*(AB29/(J29-AB29))) -> 0.034822273 | AH29: =IF(D29="XX", "XX", E29- $D$4) -> 889 | AI29: =IF(D29="XX", "XX", $AN$3 * R29 * (T29-$T$7)/$T$7 * $AP$3 * ($H$4-AH29)) -> -0.0095395096 | AJ29: =IF(D29="XX", "XX", $AR$3 * $AN$4^2 * $AR$4 * R29 * K29^2/2) -> 0.00032002704 | AK29: =IF(D29="XX", "XX", AI29 +AJ29) -> -0.0092194825 | AL29: =IF(D29="XX", "XX", AK29 +$AK$23) -> -0.0042194825 | AM29: =IF(D29="XX", "XX", 60 * ($AP$4 * $AN$23 * (2 * ABS(AL29)/R29)^0.5)) -> 270.95884 | AN29: =IF(D29="XX", "XX", IF(AL29<0, "Exfl", "Infl")) -> Exfl | AO29: =IF(AN29="Infl", -AM29, AM29) -> 270.95884 | AP29: =IF(D29="XX", "XX", AO29/$K$10) -> 0.032257005 | AQ29: =IF(D29="XX", "XX", AO29*1.08*(L29-$L$8)) -> 4926.5663 | AR29: =IF(D29="XX", "XX", AO29 * 1.08 * 3000/1000) -> 877.90665
B31: ='Input-Output'!AK17 -> 5 | E31: No. of Flrs | G31: ='Input-Output'!AD22 -> 5 | H31: Envel-Area per Flr (ft2) | K31: ='Input-Output'!AD32 -> 9600 | X31: =B31 -> 5 | Z31: % Envel-Leakg | AB31: ='Input-Output'!AD24 -> 0.3 | AC31: Leakg Flow Cf | AE31: ='Input-Output'!AD25 -> 0.6 | AH31: Inside-Outside (PI-PO) | AK31: ='Input-Output'!AD26 -> 0.005 | AL31: Envel Leakg A | AN31: ='Input-Output'!AD33 -> 28.8 | AO31: Section Infltr (tons/yr) | AR31: =SUM(AR34:AR36)/12 -> 118.34828
B32: Level | C32: Sctn | D32: Bldg | E32: Alt ref Sea-Lvl | G32: Outdoor Std. Atm. Press. @ Altit | K32: Wnd Vel | L32: DB | M32: WB | N32: DP | O32: W | P32: RH | Q32: V | R32: d | S32: H | T32: Tdb | U32: Twb | X32: =B32 -> Level | Y32: =D32 -> Bldg | Z32: Psychrometric Calculations for DP, RH, V, W, H, TR | AH32: Floor | AI32: ∆PS | AJ32: ∆PW | AK32: ∆P = | AL32: ∆P + | AM32: Leakg Q | AN32: Exfl - | AO32: Leakage | AP32: Q / | AQ32: SHG | AR32: SHG/yr
B33: ID No. | C33: Flr No. | D33: Flr No. | E33: feet | F33: meters | G33: K-Pa | H33: in.Hg | I33: in.H2O | J33: psi | K33: mph | L33: F | M33: F | N33: F | O33: lbs/b | P33: % | Q33: ft3/lb | R33: lbs/ft3 | S33: btu/lb | T33: R | U33: R | X33: =B33 -> ID No. | Y33: =D33 -> Flr No. | Z33: PWSwb | AA33: WSwb | AB33: PWSdb | AC33: VPs | AD33: VPa | AE33: a | AF33: WSdb | AH33: Hght | AI33: in.H2O | AJ33: in.H2O | AK33: ∆PW+∆PS | AL33: PI - PO | AM33: ft3/min | AN33: Infl + | AO33: ft3/min | AP33: Envel-A | AQ33: btuh | AR33: tons
B34: ='Input-Output'!AI18 -> 15 | C34: ='Input-Output'!AJ18 -> 5 | D34: ='Input-Output'!AK18 -> 58 | E34: ='Input-Output'!AL18 -> 1339 | F34: ='Input-Output'!AM18 -> 408.1272 | G34: =IF(E34="XX","XX",((101325*(1-2.25577*(10^(-5))*F34)^5.2555)/1000)) -> 96.517543 | H34: =IF(E34="XX", "XX", G34*$AB$3) -> 28.57933 | I34: =IF(E34="XX", "XX", G34*$AD$3) -> 387.86209 | J34: =IF(E34="XX", "XX",G34*$AF$3) -> 13.998681 | K34: =IF(E34="XX", "XX", ( $K$65 + $U$4 * (E34-$D$4)/$F$4 ) ) -> 8.2047364 | L34: =IF(E34="XX", "XX", $L$65 - 0.00356*(E34-$E$65)) -> 92.01316 | M34: =IF(E34="XX","XX ", $M$65-0.00356*(E34-$E$65)) -> 72.01316 | N34: =IF(E34="XX","XX",100.45+33.193*AE34+2.319*AE34^2+0.17074*AE34^3+1.2063*(AD34*0.4897705)^3) -> 62.552237 | O34: =IF(E34="XX","XX ",((1093-0.556*M34)*AA34-0.24*(L34-M34))/(1093+0.444*L34-M34)) -> 0.013126736 | P34: =IF(E34="XX", "XX", ((O34/AF34)/(1-(1-(O34/AF34))*(AB34/J34)))*100) -> 38.839566 | Q34: =IF(E34="XX", "XX", 0.7543*(T34*(1+1.6078*O34))/H34) -> 14.868799 | R34: =IF(E34="XX", "XX", 1/Q34) -> 0.06725493 | S34: =IF(E34="XX", "XX", 0.24*L34+O34*(1061+0.444*L34)) -> 36.546903 | T34: =IF(E34="XX", "XX", L34+459.7) -> 551.71316 | U34: =IF(E34="XX", "XX", M34+459.7) -> 531.71316 | X34: =B34 -> 15 | Y34: =D34 -> 58 | Z34: =IF(E34="XX", "XX", EXP((-10440.397/U34)+(-11.29465) + (-0.027022355*U34) + (0.00001289036*U34*U34) + (-0.0000000024780681*U34^3)+(6.5459673*LN(U34))) ) -> 0.38938737 | AA34: =IF(E34="XX", "XX", 0.62198*Z34/(J34-Z34)) -> 0.017796013 | AB34: =IF(E34="XX", "XX", EXP((-10440.397/T34)+(-11.29465) + (-0.027022355*T34) + (0.00001289036*T34*T34) + (-0.0000000024780681*T34^3)+(6.5459673*LN(T34))) ) -> 0.7449425 | AC34: =IF(E34="XX", "XX", AB34*2.041772658 ) -> 1.5210032 | AD34: =IF(E34="XX", "XX", (H34*O34)/(0.62198+O34)) -> 0.59069333 | AE34: =IF(E34="XX", "XX", LN(AD34*0.4897705)) -> -1.2402767 | AF34: =IF(E34="XX", "XX", 0.62198*(AB34/(J34-AB34))) -> 0.034959144 | AH34: =IF(D34="XX", "XX", E34- $D$4) -> 839 | AI34: =IF(D34="XX", "XX", $AN$3 * R34 * (T34-$T$7)/$T$7 * $AP$3 * ($H$4-AH34)) -> -0.0075953456 | AJ34: =IF(D34="XX", "XX", $AR$3 * $AN$4^2 * $AR$4 * R34 * K34^2/2) -> 0.00030605543 | AK34: =IF(D34="XX", "XX", AI34 +AJ34) -> -0.0072892902 | AL34: =IF(D34="XX", "XX", AK34 +$AK$31) -> -0.0022892902 | AM34: =IF(D34="XX", "XX", 60 * ($AP$4 * $AN$31 * (2 * ABS(AL34)/R34)^0.5)) -> 293.06264 | AN34: =IF(D34="XX", "XX", IF(AL34<0, "Exfl", "Infl")) -> Exfl | AO34: =IF(AN34="Infl", -AM34, AM34) -> 293.06264 | AP34: =IF(D34="XX", "XX", AO34/$K$10) -> 0.034888409 | AQ34: =IF(D34="XX", "XX", AO34*1.08*(L34-$L$8)) -> 5384.7953 | AR34: =IF(D34="XX", "XX", AO34 * 1.08 * 3000/1000) -> 949.52295
B35: ='Input-Output'!AI19 -> 14 | C35: ='Input-Output'!AJ19 -> 3 | D35: ='Input-Output'!AK19 -> 56 | E35: ='Input-Output'!AL19 -> 1309 | F35: ='Input-Output'!AM19 -> 398.9832 | G35: =IF(E35="XX","XX",((101325*(1-2.25577*(10^(-5))*F35)^5.2555)/1000)) -> 96.62319 | H35: =IF(E35="XX", "XX", G35*$AB$3) -> 28.610613 | I35: =IF(E35="XX", "XX", G35*$AD$3) -> 388.28665 | J35: =IF(E35="XX", "XX",G35*$AF$3) -> 14.014003 | K35: =IF(E35="XX", "XX", ( $K$65 + $U$4 * (E35-$D$4)/$F$4 ) ) -> 8.0901451 | L35: =IF(E35="XX", "XX", $L$65 - 0.00356*(E35-$E$65)) -> 92.11996 | M35: =IF(E35="XX","XX ", $M$65-0.00356*(E35-$E$65)) -> 72.11996 | N35: =IF(E35="XX","XX",100.45+33.193*AE35+2.319*AE35^2+0.17074*AE35^3+1.2063*(AD35*0.4897705)^3) -> 62.679199 | O35: =IF(E35="XX","XX ",((1093-0.556*M35)*AA35-0.24*(L35-M35))/(1093+0.444*L35-M35)) -> 0.013172234 | P35: =IF(E35="XX", "XX", ((O35/AF35)/(1-(1-(O35/AF35))*(AB35/J35)))*100) -> 38.8847 | Q35: =IF(E35="XX", "XX", 0.7543*(T35*(1+1.6078*O35))/H35) -> 14.85648 | R35: =IF(E35="XX", "XX", 1/Q35) -> 0.067310694 | S35: =IF(E35="XX", "XX", 0.24*L35+O35*(1061+0.444*L35)) -> 36.623291 | T35: =IF(E35="XX", "XX", L35+459.7) -> 551.81996 | U35: =IF(E35="XX", "XX", M35+459.7) -> 531.81996 | X35: =B35 -> 14 | Y35: =D35 -> 56 | Z35: =IF(E35="XX", "XX", EXP((-10440.397/U35)+(-11.29465) + (-0.027022355*U35) + (0.00001289036*U35*U35) + (-0.0000000024780681*U35^3)+(6.5459673*LN(U35))) ) -> 0.3907962 | AA35: =IF(E35="XX", "XX", 0.62198*Z35/(J35-Z35)) -> 0.017842158 | AB35: =IF(E35="XX", "XX", EXP((-10440.397/T35)+(-11.29465) + (-0.027022355*T35) + (0.00001289036*T35*T35) + (-0.0000000024780681*T35^3)+(6.5459673*LN(T35))) ) -> 0.74742061 | AC35: =IF(E35="XX", "XX", AB35*2.041772658 ) -> 1.526063 | AD35: =IF(E35="XX", "XX", (H35*O35)/(0.62198+O35)) -> 0.59334702 | AE35: =IF(E35="XX", "XX", LN(AD35*0.4897705)) -> -1.2357942 | AF35: =IF(E35="XX", "XX", 0.62198*(AB35/(J35-AB35))) -> 0.035041478 | AH35: =IF(D35="XX", "XX", E35- $D$4) -> 809 | AI35: =IF(D35="XX", "XX", $AN$3 * R35 * (T35-$T$7)/$T$7 * $AP$3 * ($H$4-AH35)) -> -0.0064055637 | AJ35: =IF(D35="XX", "XX", $AR$3 * $AN$4^2 * $AR$4 * R35 * K35^2/2) -> 0.00029781282 | AK35: =IF(D35="XX", "XX", AI35 +AJ35) -> -0.0061077509 | AL35: =IF(D35="XX", "XX", AK35 +$AK$31) -> -0.0011077509 | AM35: =IF(D35="XX", "XX", 60 * ($AP$4 * $AN$31 * (2 * ABS(AL35)/R35)^0.5)) -> 203.7751 | AN35: =IF(D35="XX", "XX", IF(AL35<0, "Exfl", "Infl")) -> Exfl | AO35: =IF(AN35="Infl", -AM35, AM35) -> 203.7751 | AP35: =IF(D35="XX", "XX", AO35/$K$10) -> 0.024258941 | AQ35: =IF(D35="XX", "XX", AO35*1.08*(L35-$L$8)) -> 3767.7113 | AR35: =IF(D35="XX", "XX", AO35 * 1.08 * 3000/1000) -> 660.23133
B36: ='Input-Output'!AI20 -> 13 | C36: ='Input-Output'!AJ20 -> 1 | D36: ='Input-Output'!AK20 -> 54 | E36: ='Input-Output'!AL20 -> 1279 | F36: ='Input-Output'!AM20 -> 389.8392 | G36: =IF(E36="XX","XX",((101325*(1-2.25577*(10^(-5))*F36)^5.2555)/1000)) -> 96.728932 | H36: =IF(E36="XX", "XX", G36*$AB$3) -> 28.641924 | I36: =IF(E36="XX", "XX", G36*$AD$3) -> 388.71157 | J36: =IF(E36="XX", "XX",G36*$AF$3) -> 14.02934 | K36: =IF(E36="XX", "XX", ( $K$65 + $U$4 * (E36-$D$4)/$F$4 ) ) -> 7.9755539 | L36: =IF(E36="XX", "XX", $L$65 - 0.00356*(E36-$E$65)) -> 92.22676 | M36: =IF(E36="XX","XX ", $M$65-0.00356*(E36-$E$65)) -> 72.22676 | N36: =IF(E36="XX","XX",100.45+33.193*AE36+2.319*AE36^2+0.17074*AE36^3+1.2063*(AD36*0.4897705)^3) -> 62.806091 | O36: =IF(E36="XX","XX ",((1093-0.556*M36)*AA36-0.24*(L36-M36))/(1093+0.444*L36-M36)) -> 0.013217828 | P36: =IF(E36="XX", "XX", ((O36/AF36)/(1-(1-(O36/AF36))*(AB36/J36)))*100) -> 38.929747 | Q36: =IF(E36="XX", "XX", 0.7543*(T36*(1+1.6078*O36))/H36) -> 14.844177 | R36: =IF(E36="XX", "XX", 1/Q36) -> 0.067366481 | S36: =IF(E36="XX", "XX", 0.24*L36+O36*(1061+0.444*L36)) -> 36.69979 | T36: =IF(E36="XX", "XX", L36+459.7) -> 551.92676 | U36: =IF(E36="XX", "XX", M36+459.7) -> 531.92676 | X36: =B36 -> 13 | Y36: =D36 -> 54 | Z36: =IF(E36="XX", "XX", EXP((-10440.397/U36)+(-11.29465) + (-0.027022355*U36) + (0.00001289036*U36*U36) + (-0.0000000024780681*U36^3)+(6.5459673*LN(U36))) ) -> 0.39220947 | AA36: =IF(E36="XX", "XX", 0.62198*Z36/(J36-Z36)) -> 0.0178884 | AB36: =IF(E36="XX", "XX", EXP((-10440.397/T36)+(-11.29465) + (-0.027022355*T36) + (0.00001289036*T36*T36) + (-0.0000000024780681*T36^3)+(6.5459673*LN(T36))) ) -> 0.74990586 | AC36: =IF(E36="XX", "XX", AB36*2.041772658 ) -> 1.5311373 | AD36: =IF(E36="XX", "XX", (H36*O36)/(0.62198+O36)) -> 0.59600962 | AE36: =IF(E36="XX", "XX", LN(AD36*0.4897705)) -> -1.2313168 | AF36: =IF(E36="XX", "XX", 0.62198*(AB36/(J36-AB36))) -> 0.03512397 | AH36: =IF(D36="XX", "XX", E36- $D$4) -> 779 | AI36: =IF(D36="XX", "XX", $AN$3 * R36 * (T36-$T$7)/$T$7 * $AP$3 * ($H$4-AH36)) -> -0.0051982706 | AJ36: =IF(D36="XX", "XX", $AR$3 * $AN$4^2 * $AR$4 * R36 * K36^2/2) -> 0.00028967583 | AK36: =IF(D36="XX", "XX", AI36 +AJ36) -> -0.0049085947 | AL36: =IF(D36="XX", "XX", AK36 +$AK$31) -> 9.1405274e-05 | AM36: =IF(D36="XX", "XX", 60 * ($AP$4 * $AN$31 * (2 * ABS(AL36)/R36)^0.5)) -> 58.510766 | AN36: =IF(D36="XX", "XX", IF(AL36<0, "Exfl", "Infl")) -> Infl | AO36: =IF(AN36="Infl", -AM36, AM36) -> -58.510766 | AP36: =IF(D36="XX", "XX", AO36/$K$10) -> -0.0069655674 | AQ36: =IF(D36="XX", "XX", AO36*1.08*(L36-$L$8)) -> -1088.587 | AR36: =IF(D36="XX", "XX", AO36 * 1.08 * 3000/1000) -> -189.57488
B38: ='Input-Output'!AK21 -> 4-k | E38: No. of Flrs | G38: ='Input-Output'!AC22 -> 40 | H38: Envel-Area per Flr (ft2) | K38: ='Input-Output'!AC32 -> 9720 | X38: =B38 -> 4-k | Z38: % Envel-Leakg | AB38: ='Input-Output'!AC24 -> 0.25 | AC38: Leakg Flow Cf | AE38: ='Input-Output'!AC25 -> 0.6 | AH38: Inside-Outside (PI-PO) | AK38: ='Input-Output'!AC26 -> 0.005 | AL38: Envel Leakg A | AN38: ='Input-Output'!AC33 -> 24.3 | AO38: Section Infltr (tons/yr) | AR38: =SUM(AR41:AR45)/12 -> -807.03275
B39: Level | C39: Sctn | D39: Bldg | E39: Alt ref Sea-Lvl | G39: Outdoor Std. Atm. Press. @ Altit | K39: Wnd Vel | L39: DB | M39: WB | N39: DP | O39: W | P39: RH | Q39: V | R39: d | S39: H | T39: Tdb | U39: Twb | X39: =B39 -> Level | Y39: =D39 -> Bldg | Z39: Psychrometric Calculations for DP, RH, V, W, H, TR | AH39: Floor | AI39: ∆PS | AJ39: ∆PW | AK39: ∆P = | AL39: ∆P + | AM39: Leakg Q | AN39: Exfl - | AO39: Leakage | AP39: Q / | AQ39: SHG | AR39: SHG/yr
B40: ID No. | C40: Flr No. | D40: Flr No. | E40: feet | F40: meters | G40: K-Pa | H40: in.Hg | I40: in.H2O | J40: psi | K40: mph | L40: F | M40: F | N40: F | O40: lbs/b | P40: % | Q40: ft3/lb | R40: lbs/ft3 | S40: btu/lb | T40: R | U40: R | X40: =B40 -> ID No. | Y40: =D40 -> Flr No. | Z40: PWSwb | AA40: WSwb | AB40: PWSdb | AC40: VPs | AD40: VPa | AE40: a | AF40: WSdb | AH40: Hght | AI40: in.H2O | AJ40: in.H2O | AK40: ∆PW+∆PS | AL40: PI - PO | AM40: ft3/min | AN40: Infl + | AO40: ft3/min | AP40: Envel-A | AQ40: btuh | AR40: tons
B41: ='Input-Output'!AI22 -> 12 | C41: ='Input-Output'!AJ22 -> 30 | D41: ='Input-Output'!AK22 -> 36 | E41: ='Input-Output'!AL22 -> 1109 | F41: ='Input-Output'!AM22 -> 338.0232 | G41: =IF(E41="XX","XX",((101325*(1-2.25577*(10^(-5))*F41)^5.2555)/1000)) -> 97.329905 | H41: =IF(E41="XX", "XX", G41*$AB$3) -> 28.819875 | I41: =IF(E41="XX", "XX", G41*$AD$3) -> 391.12662 | J41: =IF(E41="XX", "XX",G41*$AF$3) -> 14.116504 | K41: =IF(E41="XX", "XX", ( $K$65 + $U$4 * (E41-$D$4)/$F$4 ) ) -> 7.3262032 | L41: =IF(E41="XX", "XX", $L$65 - 0.00356*(E41-$E$65)) -> 92.83196 | M41: =IF(E41="XX","XX ", $M$65-0.00356*(E41-$E$65)) -> 72.83196 | N41: =IF(E41="XX","XX",100.45+33.193*AE41+2.319*AE41^2+0.17074*AE41^3+1.2063*(AD41*0.4897705)^3) -> 63.52385 | O41: =IF(E41="XX","XX ",((1093-0.556*M41)*AA41-0.24*(L41-M41))/(1093+0.444*L41-M41)) -> 0.013478016 | P41: =IF(E41="XX", "XX", ((O41/AF41)/(1-(1-(O41/AF41))*(AB41/J41)))*100) -> 39.183387 | Q41: =IF(E41="XX", "XX", 0.7543*(T41*(1+1.6078*O41))/H41) -> 14.774747 | R41: =IF(E41="XX", "XX", 1/Q41) -> 0.067683055 | S41: =IF(E41="XX", "XX", 0.24*L41+O41*(1061+0.444*L41)) -> 37.135374 | T41: =IF(E41="XX", "XX", L41+459.7) -> 552.53196 | U41: =IF(E41="XX", "XX", M41+459.7) -> 532.53196 | X41: =B41 -> 12 | Y41: =D41 -> 36 | Z41: =IF(E41="XX", "XX", EXP((-10440.397/U41)+(-11.29465) + (-0.027022355*U41) + (0.00001289036*U41*U41) + (-0.0000000024780681*U41^3)+(6.5459673*LN(U41))) ) -> 0.40030271 | AA41: =IF(E41="XX", "XX", 0.62198*Z41/(J41-Z41)) -> 0.018152277 | AB41: =IF(E41="XX", "XX", EXP((-10440.397/T41)+(-11.29465) + (-0.027022355*T41) + (0.00001289036*T41*T41) + (-0.0000000024780681*T41^3)+(6.5459673*LN(T41))) ) -> 0.76412478 | AC41: =IF(E41="XX", "XX", AB41*2.041772658 ) -> 1.5601691 | AD41: =IF(E41="XX", "XX", (H41*O41)/(0.62198+O41)) -> 0.61126736 | AE41: =IF(E41="XX", "XX", LN(AD41*0.4897705)) -> -1.2060392 | AF41: =IF(E41="XX", "XX", 0.62198*(AB41/(J41-AB41))) -> 0.035594431 | AH41: =IF(D41="XX", "XX", E41- $D$4) -> 609 | AI41: =IF(D41="XX", "XX", $AN$3 * R41 * (T41-$T$7)/$T$7 * $AP$3 * ($H$4-AH41)) -> 0.0019757523 | AJ41: =IF(D41="XX", "XX", $AR$3 * $AN$4^2 * $AR$4 * R41 * K41^2/2) -> 0.00024557524 | AK41: =IF(D41="XX", "XX", AI41 +AJ41) -> 0.0022213275 | AL41: =IF(D41="XX", "XX", AK41 +$AK$38) -> 0.0072213275 | AM41: =IF(D41="XX", "XX", 60 * ($AP$4 * $AN$38 * (2 * ABS(AL41)/R41)^0.5)) -> 437.77849 | AN41: =IF(D41="XX", "XX", IF(AL41<0, "Exfl", "Infl")) -> Infl | AO41: =IF(AN41="Infl", -AM41, AM41) -> -437.77849 | AP41: =IF(D41="XX", "XX", AO41/$K$10) -> -0.052116487 | AQ41: =IF(D41="XX", "XX", AO41*1.08*(L41-$L$8)) -> -8430.9645 | AR41: =IF(D41="XX", "XX", AO41 * 1.08 * 3000/1000) -> -1418.4023
B42: ='Input-Output'!AI23 -> 11 | C42: ='Input-Output'!AJ23 -> 25 | D42: ='Input-Output'!AK23 -> 31 | E42: ='Input-Output'!AL23 -> 1041.5 | F42: ='Input-Output'!AM23 -> 317.4492 | G42: =IF(E42="XX","XX",((101325*(1-2.25577*(10^(-5))*F42)^5.2555)/1000)) -> 97.569363 | H42: =IF(E42="XX", "XX", G42*$AB$3) -> 28.89078 | I42: =IF(E42="XX", "XX", G42*$AD$3) -> 392.0889 | J42: =IF(E42="XX", "XX",G42*$AF$3) -> 14.151234 | K42: =IF(E42="XX", "XX", ( $K$65 + $U$4 * (E42-$D$4)/$F$4 ) ) -> 7.0683728 | L42: =IF(E42="XX", "XX", $L$65 - 0.00356*(E42-$E$65)) -> 93.07226 | M42: =IF(E42="XX","XX ", $M$65-0.00356*(E42-$E$65)) -> 73.07226 | N42: =IF(E42="XX","XX",100.45+33.193*AE42+2.319*AE42^2+0.17074*AE42^3+1.2063*(AD42*0.4897705)^3) -> 63.808244 | O42: =IF(E42="XX","XX ",((1093-0.556*M42)*AA42-0.24*(L42-M42))/(1093+0.444*L42-M42)) -> 0.01358219 | P42: =IF(E42="XX", "XX", ((O42/AF42)/(1-(1-(O42/AF42))*(AB42/J42)))*100) -> 39.283338 | Q42: =IF(E42="XX", "XX", 0.7543*(T42*(1+1.6078*O42))/H42) -> 14.747313 | R42: =IF(E42="XX", "XX", 1/Q42) -> 0.067808963 | S42: =IF(E42="XX", "XX", 0.24*L42+O42*(1061+0.444*L42)) -> 37.309317 | T42: =IF(E42="XX", "XX", L42+459.7) -> 552.77226 | U42: =IF(E42="XX", "XX", M42+459.7) -> 532.77226 | X42: =B42 -> 11 | Y42: =D42 -> 31 | Z42: =IF(E42="XX", "XX", EXP((-10440.397/U42)+(-11.29465) + (-0.027022355*U42) + (0.00001289036*U42*U42) + (-0.0000000024780681*U42^3)+(6.5459673*LN(U42))) ) -> 0.40355645 | AA42: =IF(E42="XX", "XX", 0.62198*Z42/(J42-Z42)) -> 0.018257923 | AB42: =IF(E42="XX", "XX", EXP((-10440.397/T42)+(-11.29465) + (-0.027022355*T42) + (0.00001289036*T42*T42) + (-0.0000000024780681*T42^3)+(6.5459673*LN(T42))) ) -> 0.76983504 | AC42: =IF(E42="XX", "XX", AB42*2.041772658 ) -> 1.5718281 | AD42: =IF(E42="XX", "XX", (H42*O42)/(0.62198+O42)) -> 0.61740622 | AE42: =IF(E42="XX", "XX", LN(AD42*0.4897705)) -> -1.1960465 | AF42: =IF(E42="XX", "XX", 0.62198*(AB42/(J42-AB42))) -> 0.035782656 | AH42: =IF(D42="XX", "XX", E42- $D$4) -> 541.5 | AI42: =IF(D42="XX", "XX", $AN$3 * R42 * (T42-$T$7)/$T$7 * $AP$3 * ($H$4-AH42)) -> 0.0049821875 | AJ42: =IF(D42="XX", "XX", $AR$3 * $AN$4^2 * $AR$4 * R42 * K42^2/2) -> 0.00022901962 | AK42: =IF(D42="XX", "XX", AI42 +AJ42) -> 0.0052112072 | AL42: =IF(D42="XX", "XX", AK42 +$AK$38) -> 0.010211207 | AM42: =IF(D42="XX", "XX", 60 * ($AP$4 * $AN$38 * (2 * ABS(AL42)/R42)^0.5)) -> 520.09284 | AN42: =IF(D42="XX", "XX", IF(AL42<0, "Exfl", "Infl")) -> Infl | AO42: =IF(AN42="Infl", -AM42, AM42) -> -520.09284 | AP42: =IF(D42="XX", "XX", AO42/$K$10) -> -0.061915814 | AQ42: =IF(D42="XX", "XX", AO42*1.08*(L42-$L$8)) -> -10151.193 | AR42: =IF(D42="XX", "XX", AO42 * 1.08 * 3000/1000) -> -1685.1008
B43: ='Input-Output'!AI24 -> 10 | C43: ='Input-Output'!AJ24 -> 20 | D43: ='Input-Output'!AK24 -> 26 | E43: ='Input-Output'!AL24 -> 974 | F43: ='Input-Output'!AM24 -> 296.8752 | G43: =IF(E43="XX","XX",((101325*(1-2.25577*(10^(-5))*F43)^5.2555)/1000)) -> 97.809299 | H43: =IF(E43="XX", "XX", G43*$AB$3) -> 28.961826 | I43: =IF(E43="XX", "XX", G43*$AD$3) -> 393.0531 | J43: =IF(E43="XX", "XX",G43*$AF$3) -> 14.186034 | K43: =IF(E43="XX", "XX", ( $K$65 + $U$4 * (E43-$D$4)/$F$4 ) ) -> 6.8105424 | L43: =IF(E43="XX", "XX", $L$65 - 0.00356*(E43-$E$65)) -> 93.31256 | M43: =IF(E43="XX","XX ", $M$65-0.00356*(E43-$E$65)) -> 73.31256 | N43: =IF(E43="XX","XX",100.45+33.193*AE43+2.319*AE43^2+0.17074*AE43^3+1.2063*(AD43*0.4897705)^3) -> 64.092304 | O43: =IF(E43="XX","XX ",((1093-0.556*M43)*AA43-0.24*(L43-M43))/(1093+0.444*L43-M43)) -> 0.013686856 | P43: =IF(E43="XX", "XX", ((O43/AF43)/(1-(1-(O43/AF43))*(AB43/J43)))*100) -> 39.382861 | Q43: =IF(E43="XX", "XX", 0.7543*(T43*(1+1.6078*O43))/H43) -> 14.719955 | R43: =IF(E43="XX", "XX", 1/Q43) -> 0.067934988 | S43: =IF(E43="XX", "XX", 0.24*L43+O43*(1061+0.444*L43)) -> 37.483826 | T43: =IF(E43="XX", "XX", L43+459.7) -> 553.01256 | U43: =IF(E43="XX", "XX", M43+459.7) -> 533.01256 | X43: =B43 -> 10 | Y43: =D43 -> 26 | Z43: =IF(E43="XX", "XX", EXP((-10440.397/U43)+(-11.29465) + (-0.027022355*U43) + (0.00001289036*U43*U43) + (-0.0000000024780681*U43^3)+(6.5459673*LN(U43))) ) -> 0.40683326 | AA43: =IF(E43="XX", "XX", 0.62198*Z43/(J43-Z43)) -> 0.018364066 | AB43: =IF(E43="XX", "XX", EXP((-10440.397/T43)+(-11.29465) + (-0.027022355*T43) + (0.00001289036*T43*T43) + (-0.0000000024780681*T43^3)+(6.5459673*LN(T43))) ) -> 0.77558225 | AC43: =IF(E43="XX", "XX", AB43*2.041772658 ) -> 1.5835626 | AD43: =IF(E43="XX", "XX", (H43*O43)/(0.62198+O43)) -> 0.62359133 | AE43: =IF(E43="XX", "XX", LN(AD43*0.4897705)) -> -1.1860784 | AF43: =IF(E43="XX", "XX", 0.62198*(AB43/(J43-AB43))) -> 0.035971693 | AH43: =IF(D43="XX", "XX", E43- $D$4) -> 474 | AI43: =IF(D43="XX", "XX", $AN$3 * R43 * (T43-$T$7)/$T$7 * $AP$3 * ($H$4-AH43)) -> 0.0080790786 | AJ43: =IF(D43="XX", "XX", $AR$3 * $AN$4^2 * $AR$4 * R43 * K43^2/2) -> 0.00021301177 | AK43: =IF(D43="XX", "XX", AI43 +AJ43) -> 0.0082920903 | AL43: =IF(D43="XX", "XX", AK43 +$AK$38) -> 0.01329209 | AM43: =IF(D43="XX", "XX", 60 * ($AP$4 * $AN$38 * (2 * ABS(AL43)/R43)^0.5)) -> 592.83764 | AN43: =IF(D43="XX", "XX", IF(AL43<0, "Exfl", "Infl")) -> Infl | AO43: =IF(AN43="Infl", -AM43, AM43) -> -592.83764 | AP43: =IF(D43="XX", "XX", AO43/$K$10) -> -0.070575909 | AQ43: =IF(D43="XX", "XX", AO43*1.08*(L43-$L$8)) -> -11724.885 | AR43: =IF(D43="XX", "XX", AO43 * 1.08 * 3000/1000) -> -1920.7939
B44: ='Input-Output'!AI25 -> 9 | C44: ='Input-Output'!AJ25 -> 15 | D44: ='Input-Output'!AK25 -> 21 | E44: ='Input-Output'!AL25 -> 906.5 | F44: ='Input-Output'!AM25 -> 276.3012 | G44: =IF(E44="XX","XX",((101325*(1-2.25577*(10^(-5))*F44)^5.2555)/1000)) -> 98.049711 | H44: =IF(E44="XX", "XX", G44*$AB$3) -> 29.033013 | I44: =IF(E44="XX", "XX", G44*$AD$3) -> 394.01921 | J44: =IF(E44="XX", "XX",G44*$AF$3) -> 14.220903 | K44: =IF(E44="XX", "XX", ( $K$65 + $U$4 * (E44-$D$4)/$F$4 ) ) -> 6.552712 | L44: =IF(E44="XX", "XX", $L$65 - 0.00356*(E44-$E$65)) -> 93.55286 | M44: =IF(E44="XX","XX ", $M$65-0.00356*(E44-$E$65)) -> 73.55286 | N44: =IF(E44="XX","XX",100.45+33.193*AE44+2.319*AE44^2+0.17074*AE44^3+1.2063*(AD44*0.4897705)^3) -> 64.376036 | O44: =IF(E44="XX","XX ",((1093-0.556*M44)*AA44-0.24*(L44-M44))/(1093+0.444*L44-M44)) -> 0.013792018 | P44: =IF(E44="XX", "XX", ((O44/AF44)/(1-(1-(O44/AF44))*(AB44/J44)))*100) -> 39.48196 | Q44: =IF(E44="XX", "XX", 0.7543*(T44*(1+1.6078*O44))/H44) -> 14.692674 | R44: =IF(E44="XX", "XX", 1/Q44) -> 0.068061131 | S44: =IF(E44="XX", "XX", 0.24*L44+O44*(1061+0.444*L44)) -> 37.658903 | T44: =IF(E44="XX", "XX", L44+459.7) -> 553.25286 | U44: =IF(E44="XX", "XX", M44+459.7) -> 533.25286 | X44: =B44 -> 9 | Y44: =D44 -> 21 | Z44: =IF(E44="XX", "XX", EXP((-10440.397/U44)+(-11.29465) + (-0.027022355*U44) + (0.00001289036*U44*U44) + (-0.0000000024780681*U44^3)+(6.5459673*LN(U44))) ) -> 0.4101333 | AA44: =IF(E44="XX", "XX", 0.62198*Z44/(J44-Z44)) -> 0.018470709 | AB44: =IF(E44="XX", "XX", EXP((-10440.397/T44)+(-11.29465) + (-0.027022355*T44) + (0.00001289036*T44*T44) + (-0.0000000024780681*T44^3)+(6.5459673*LN(T44))) ) -> 0.78136663 | AC44: =IF(E44="XX", "XX", AB44*2.041772658 ) -> 1.595373 | AD44: =IF(E44="XX", "XX", (H44*O44)/(0.62198+O44)) -> 0.62982298 | AE44: =IF(E44="XX", "XX", LN(AD44*0.4897705)) -> -1.1761348 | AF44: =IF(E44="XX", "XX", 0.62198*(AB44/(J44-AB44))) -> 0.036161547 | AH44: =IF(D44="XX", "XX", E44- $D$4) -> 406.5 | AI44: =IF(D44="XX", "XX", $AN$3 * R44 * (T44-$T$7)/$T$7 * $AP$3 * ($H$4-AH44)) -> 0.011266883 | AJ44: =IF(D44="XX", "XX", $AR$3 * $AN$4^2 * $AR$4 * R44 * K44^2/2) -> 0.000197555 | AK44: =IF(D44="XX", "XX", AI44 +AJ44) -> 0.011464438 | AL44: =IF(D44="XX", "XX", AK44 +$AK$38) -> 0.016464438 | AM44: =IF(D44="XX", "XX", 60 * ($AP$4 * $AN$38 * (2 * ABS(AL44)/R44)^0.5)) -> 659.18869 | AN44: =IF(D44="XX", "XX", IF(AL44<0, "Exfl", "Infl")) -> Infl | AO44: =IF(AN44="Infl", -AM44, AM44) -> -659.18869 | AP44: =IF(D44="XX", "XX", AO44/$K$10) -> -0.078474844 | AQ44: =IF(D44="XX", "XX", AO44*1.08*(L44-$L$8)) -> -13208.222 | AR44: =IF(D44="XX", "XX", AO44 * 1.08 * 3000/1000) -> -2135.7714
B45: ='Input-Output'!AI26 -> 8 | C45: ='Input-Output'!AJ26 -> 5 | D45: ='Input-Output'!AK26 -> 17 | E45: ='Input-Output'!AL26 -> 771.5 | F45: ='Input-Output'!AM26 -> 235.1532 | G45: =IF(E45="XX","XX",((101325*(1-2.25577*(10^(-5))*F45)^5.2555)/1000)) -> 98.531973 | H45: =IF(E45="XX", "XX", G45*$AB$3) -> 29.175813 | I45: =IF(E45="XX", "XX", G45*$AD$3) -> 395.95721 | J45: =IF(E45="XX", "XX",G45*$AF$3) -> 14.290849 | K45: =IF(E45="XX", "XX", ( $K$65 + $U$4 * (E45-$D$4)/$F$4 ) ) -> 6.0370512 | L45: =IF(E45="XX", "XX", $L$65 - 0.00356*(E45-$E$65)) -> 94.03346 | M45: =IF(E45="XX","XX ", $M$65-0.00356*(E45-$E$65)) -> 74.03346 | N45: =IF(E45="XX","XX",100.45+33.193*AE45+2.319*AE45^2+0.17074*AE45^3+1.2063*(AD45*0.4897705)^3) -> 64.942534 | O45: =IF(E45="XX","XX ",((1093-0.556*M45)*AA45-0.24*(L45-M45))/(1093+0.444*L45-M45)) -> 0.014003833 | P45: =IF(E45="XX", "XX", ((O45/AF45)/(1-(1-(O45/AF45))*(AB45/J45)))*100) -> 39.678895 | Q45: =IF(E45="XX", "XX", 0.7543*(T45*(1+1.6078*O45))/H45) -> 14.638337 | R45: =IF(E45="XX", "XX", 1/Q45) -> 0.06831377 | S45: =IF(E45="XX", "XX", 0.24*L45+O45*(1061+0.444*L45)) -> 38.010769 | T45: =IF(E45="XX", "XX", L45+459.7) -> 553.73346 | U45: =IF(E45="XX", "XX", M45+459.7) -> 533.73346 | X45: =B45 -> 8 | Y45: =D45 -> 17 | Z45: =IF(E45="XX", "XX", EXP((-10440.397/U45)+(-11.29465) + (-0.027022355*U45) + (0.00001289036*U45*U45) + (-0.0000000024780681*U45^3)+(6.5459673*LN(U45))) ) -> 0.41680358 | AA45: =IF(E45="XX", "XX", 0.62198*Z45/(J45-Z45)) -> 0.018685501 | AB45: =IF(E45="XX", "XX", EXP((-10440.397/T45)+(-11.29465) + (-0.027022355*T45) + (0.00001289036*T45*T45) + (-0.0000000024780681*T45^3)+(6.5459673*LN(T45))) ) -> 0.79304767 | AC45: =IF(E45="XX", "XX", AB45*2.041772658 ) -> 1.619223 | AD45: =IF(E45="XX", "XX", (H45*O45)/(0.62198+O45)) -> 0.64242703 | AE45: =IF(E45="XX", "XX", LN(AD45*0.4897705)) -> -1.1563204 | AF45: =IF(E45="XX", "XX", 0.62198*(AB45/(J45-AB45))) -> 0.036543714 | AH45: =IF(D45="XX", "XX", E45- $D$4) -> 271.5 | AI45: =IF(D45="XX", "XX", $AN$3 * R45 * (T45-$T$7)/$T$7 * $AP$3 * ($H$4-AH45)) -> 0.017917063 | AJ45: =IF(D45="XX", "XX", $AR$3 * $AN$4^2 * $AR$4 * R45 * K45^2/2) -> 0.00016830796 | AK45: =IF(D45="XX", "XX", AI45 +AJ45) -> 0.018085371 | AL45: =IF(D45="XX", "XX", AK45 +$AK$38) -> 0.023085371 | AM45: =IF(D45="XX", "XX", 60 * ($AP$4 * $AN$38 * (2 * ABS(AL45)/R45)^0.5)) -> 779.11252 | AN45: =IF(D45="XX", "XX", IF(AL45<0, "Exfl", "Infl")) -> Infl | AO45: =IF(AN45="Infl", -AM45, AM45) -> -779.11252 | AP45: =IF(D45="XX", "XX", AO45/$K$10) -> -0.092751491 | AQ45: =IF(D45="XX", "XX", AO45*1.08*(L45-$L$8)) -> -16015.544 | AR45: =IF(D45="XX", "XX", AO45 * 1.08 * 3000/1000) -> -2524.3246
B47: ='Input-Output'!AK27 -> 3 | E47: No. of Flrs | G47: ='Input-Output'!AB22 -> 6 | H47: Envel-Area per Flr (ft2) | K47: ='Input-Output'!AB32 -> 12000 | X47: =B47 -> 3 | Z47: % Envel-Leakg | AB47: ='Input-Output'!AB24 -> 0.3 | AC47: Leakg Flow Cf | AE47: ='Input-Output'!AB25 -> 0.6 | AH47: Inside-Outside (PI-PO) | AK47: ='Input-Output'!AB26 -> 0.005 | AL47: Envel Leakg A | AN47: ='Input-Output'!AB33 -> 36 | AO47: Section Infltr (tons/yr) | AR47: =SUM(AR50:AR52)/12 -> -710.12598
B48: Level | C48: Sctn | D48: Bldg | E48: Alt ref Sea-Lvl | G48: Outdoor Std. Atm. Press. @ Altit | K48: Wnd Vel | L48: DB | M48: WB | N48: DP | O48: W | P48: RH | Q48: V | R48: d | S48: H | T48: Tdb | U48: Twb | X48: =B48 -> Level | Y48: =D48 -> Bldg | Z48: Psychrometric Calculations for DP, RH, V, W, H, TR | AH48: Floor | AI48: ∆PS | AJ48: ∆PW | AK48: ∆P = | AL48: ∆P + | AM48: Leakg Q | AN48: Exfl - | AO48: Leakage | AP48: Q / | AQ48: SHG | AR48: SHG/yr
B49: ID No. | C49: Flr No. | D49: Flr No. | E49: feet | F49: meters | G49: K-Pa | H49: in.Hg | I49: in.H2O | J49: psi | K49: mph | L49: F | M49: F | N49: F | O49: lbs/b | P49: % | Q49: ft3/lb | R49: lbs/ft3 | S49: btu/lb | T49: R | U49: R | X49: =B49 -> ID No. | Y49: =D49 -> Flr No. | Z49: PWSwb | AA49: WSwb | AB49: PWSdb | AC49: VPs | AD49: VPa | AE49: a | AF49: WSdb | AH49: Hght | AI49: in.H2O | AJ49: in.H2O | AK49: ∆PW+∆PS | AL49: PI - PO | AM49: ft3/min | AN49: Infl + | AO49: ft3/min | AP49: Envel-A | AQ49: btuh | AR49: tons
B50: ='Input-Output'!AI28 -> 7 | C50: ='Input-Output'!AJ28 -> 0 | D50: ='Input-Output'!AK28 -> XX | E50: ='Input-Output'!AL28 -> XX | F50: ='Input-Output'!AM28 -> XX | G50: =IF(E50="XX","XX",((101325*(1-2.25577*(10^(-5))*F50)^5.2555)/1000)) -> XX | H50: =IF(E50="XX", "XX", G50*$AB$3) -> XX | I50: =IF(E50="XX", "XX", G50*$AD$3) -> XX | J50: =IF(E50="XX", "XX",G50*$AF$3) -> XX | K50: =IF(E50="XX", "XX", ( $K$65 + $U$4 * (E50-$D$4)/$F$4 ) ) -> XX | L50: =IF(E50="XX", "XX", $L$65 - 0.00356*(E50-$E$65)) -> XX | M50: =IF(E50="XX","XX ", $M$65-0.00356*(E50-$E$65)) -> XX | N50: =IF(E50="XX","XX",100.45+33.193*AE50+2.319*AE50^2+0.17074*AE50^3+1.2063*(AD50*0.4897705)^3) -> XX | O50: =IF(E50="XX","XX ",((1093-0.556*M50)*AA50-0.24*(L50-M50))/(1093+0.444*L50-M50)) -> XX | P50: =IF(E50="XX", "XX", ((O50/AF50)/(1-(1-(O50/AF50))*(AB50/J50)))*100) -> XX | Q50: =IF(E50="XX", "XX", 0.7543*(T50*(1+1.6078*O50))/H50) -> XX | R50: =IF(E50="XX", "XX", 1/Q50) -> XX | S50: =IF(E50="XX", "XX", 0.24*L50+O50*(1061+0.444*L50)) -> XX | T50: =IF(E50="XX", "XX", L50+459.7) -> XX | U50: =IF(E50="XX", "XX", M50+459.7) -> XX | X50: =B50 -> 7 | Y50: =D50 -> XX | Z50: =IF(E50="XX", "XX", EXP((-10440.397/U50)+(-11.29465) + (-0.027022355*U50) + (0.00001289036*U50*U50) + (-0.0000000024780681*U50^3)+(6.5459673*LN(U50))) ) -> XX | AA50: =IF(E50="XX", "XX", 0.62198*Z50/(J50-Z50)) -> XX | AB50: =IF(E50="XX", "XX", EXP((-10440.397/T50)+(-11.29465) + (-0.027022355*T50) + (0.00001289036*T50*T50) + (-0.0000000024780681*T50^3)+(6.5459673*LN(T50))) ) -> XX | AC50: =IF(E50="XX", "XX", AB50*2.041772658 ) -> XX | AD50: =IF(E50="XX", "XX", (H50*O50)/(0.62198+O50)) -> XX | AE50: =IF(E50="XX", "XX", LN(AD50*0.4897705)) -> XX | AF50: =IF(E50="XX", "XX", 0.62198*(AB50/(J50-AB50))) -> XX | AH50: =IF(D50="XX", "XX", E50- $D$4) -> XX | AI50: =IF(D50="XX", "XX", $AN$3 * R50 * (T50-$T$7)/$T$7 * $AP$3 * ($H$4-AH50)) -> XX | AJ50: =IF(D50="XX", "XX", $AR$3 * $AN$4^2 * $AR$4 * R50 * K50^2/2) -> XX | AK50: =IF(D50="XX", "XX", AI50 +AJ50) -> XX | AL50: =IF(D50="XX", "XX", AK50 +$AK$47) -> XX | AM50: =IF(D50="XX", "XX", 60 * ($AP$4 * $AN$47 * (2 * ABS(AL50)/R50)^0.5)) -> XX | AN50: =IF(D50="XX", "XX", IF(AL50<0, "Exfl", "Infl")) -> XX | AO50: =IF(AN50="Infl", -AM50, AM50) -> XX | AP50: =IF(D50="XX", "XX", AO50/$K$10) -> XX | AQ50: =IF(D50="XX", "XX", AO50*1.08*(L50-$L$8)) -> XX | AR50: =IF(D50="XX", "XX", AO50 * 1.08 * 3000/1000) -> XX
B51: ='Input-Output'!AI29 -> 6 | C51: ='Input-Output'!AJ29 -> 2 | D51: ='Input-Output'!AK29 -> 8 | E51: ='Input-Output'!AL29 -> 644 | F51: ='Input-Output'!AM29 -> 196.2912 | G51: =IF(E51="XX","XX",((101325*(1-2.25577*(10^(-5))*F51)^5.2555)/1000)) -> 98.989203 | H51: =IF(E51="XX", "XX", G51*$AB$3) -> 29.311201 | I51: =IF(E51="XX", "XX", G51*$AD$3) -> 397.79462 | J51: =IF(E51="XX", "XX",G51*$AF$3) -> 14.357164 | K51: =IF(E51="XX", "XX", ( $K$65 + $U$4 * (E51-$D$4)/$F$4 ) ) -> 5.5500382 | L51: =IF(E51="XX", "XX", $L$65 - 0.00356*(E51-$E$65)) -> 94.48736 | M51: =IF(E51="XX","XX ", $M$65-0.00356*(E51-$E$65)) -> 74.48736 | N51: =IF(E51="XX","XX",100.45+33.193*AE51+2.319*AE51^2+0.17074*AE51^3+1.2063*(AD51*0.4897705)^3) -> 65.476406 | O51: =IF(E51="XX","XX ",((1093-0.556*M51)*AA51-0.24*(L51-M51))/(1093+0.444*L51-M51)) -> 0.014205718 | P51: =IF(E51="XX", "XX", ((O51/AF51)/(1-(1-(O51/AF51))*(AB51/J51)))*100) -> 39.863361 | Q51: =IF(E51="XX", "XX", 0.7543*(T51*(1+1.6078*O51))/H51) -> 14.587296 | R51: =IF(E51="XX", "XX", 1/Q51) -> 0.068552802 | S51: =IF(E51="XX", "XX", 0.24*L51+O51*(1061+0.444*L51)) -> 38.345197 | T51: =IF(E51="XX", "XX", L51+459.7) -> 554.18736 | U51: =IF(E51="XX", "XX", M51+459.7) -> 534.18736 | X51: =B51 -> 6 | Y51: =D51 -> 8 | Z51: =IF(E51="XX", "XX", EXP((-10440.397/U51)+(-11.29465) + (-0.027022355*U51) + (0.00001289036*U51*U51) + (-0.0000000024780681*U51^3)+(6.5459673*LN(U51))) ) -> 0.42319008 | AA51: =IF(E51="XX", "XX", 0.62198*Z51/(J51-Z51)) -> 0.018890215 | AB51: =IF(E51="XX", "XX", EXP((-10440.397/T51)+(-11.29465) + (-0.027022355*T51) + (0.00001289036*T51*T51) + (-0.0000000024780681*T51^3)+(6.5459673*LN(T51))) ) -> 0.80421844 | AC51: =IF(E51="XX", "XX", AB51*2.041772658 ) -> 1.6420312 | AD51: =IF(E51="XX", "XX", (H51*O51)/(0.62198+O51)) -> 0.65450487 | AE51: =IF(E51="XX", "XX", LN(AD51*0.4897705)) -> -1.1376946 | AF51: =IF(E51="XX", "XX", 0.62198*(AB51/(J51-AB51))) -> 0.036907679 | AH51: =IF(D51="XX", "XX", E51- $D$4) -> 144 | AI51: =IF(D51="XX", "XX", $AN$3 * R51 * (T51-$T$7)/$T$7 * $AP$3 * ($H$4-AH51)) -> 0.024536693 | AJ51: =IF(D51="XX", "XX", $AR$3 * $AN$4^2 * $AR$4 * R51 * K51^2/2) -> 0.00014274597 | AK51: =IF(D51="XX", "XX", AI51 +AJ51) -> 0.024679439 | AL51: =IF(D51="XX", "XX", AK51 +$AK$47) -> 0.029679439 | AM51: =IF(D51="XX", "XX", 60 * ($AP$4 * $AN$47 * (2 * ABS(AL51)/R51)^0.5)) -> 1306.4637 | AN51: =IF(D51="XX", "XX", IF(AL51<0, "Exfl", "Infl")) -> Infl | AO51: =IF(AN51="Infl", -AM51, AM51) -> -1306.4637 | AP51: =IF(D51="XX", "XX", AO51/$K$10) -> -0.15553139 | AQ51: =IF(D51="XX", "XX", AO51*1.08*(L51-$L$8)) -> -27496.29 | AR51: =IF(D51="XX", "XX", AO51 * 1.08 * 3000/1000) -> -4232.9423
B52: ='Input-Output'!AI30 -> 5 | C52: ='Input-Output'!AJ30 -> 1 | D52: ='Input-Output'!AK30 -> 7 | E52: ='Input-Output'!AL30 -> 629 | F52: ='Input-Output'!AM30 -> 191.7192 | G52: =IF(E52="XX","XX",((101325*(1-2.25577*(10^(-5))*F52)^5.2555)/1000)) -> 99.043108 | H52: =IF(E52="XX", "XX", G52*$AB$3) -> 29.327163 | I52: =IF(E52="XX", "XX", G52*$AD$3) -> 398.01124 | J52: =IF(E52="XX", "XX",G52*$AF$3) -> 14.364983 | K52: =IF(E52="XX", "XX", ( $K$65 + $U$4 * (E52-$D$4)/$F$4 ) ) -> 5.4927426 | L52: =IF(E52="XX", "XX", $L$65 - 0.00356*(E52-$E$65)) -> 94.54076 | M52: =IF(E52="XX","XX ", $M$65-0.00356*(E52-$E$65)) -> 74.54076 | N52: =IF(E52="XX","XX",100.45+33.193*AE52+2.319*AE52^2+0.17074*AE52^3+1.2063*(AD52*0.4897705)^3) -> 65.539142 | O52: =IF(E52="XX","XX ",((1093-0.556*M52)*AA52-0.24*(L52-M52))/(1093+0.444*L52-M52)) -> 0.014229587 | P52: =IF(E52="XX", "XX", ((O52/AF52)/(1-(1-(O52/AF52))*(AB52/J52)))*100) -> 39.884967 | Q52: =IF(E52="XX", "XX", 0.7543*(T52*(1+1.6078*O52))/H52) -> 14.581308 | R52: =IF(E52="XX", "XX", 1/Q52) -> 0.068580951 | S52: =IF(E52="XX", "XX", 0.24*L52+O52*(1061+0.444*L52)) -> 38.384677 | T52: =IF(E52="XX", "XX", L52+459.7) -> 554.24076 | U52: =IF(E52="XX", "XX", M52+459.7) -> 534.24076 | X52: =B52 -> 5 | Y52: =D52 -> 7 | Z52: =IF(E52="XX", "XX", EXP((-10440.397/U52)+(-11.29465) + (-0.027022355*U52) + (0.00001289036*U52*U52) + (-0.0000000024780681*U52^3)+(6.5459673*LN(U52))) ) -> 0.42394702 | AA52: =IF(E52="XX", "XX", 0.62198*Z52/(J52-Z52)) -> 0.018914417 | AB52: =IF(E52="XX", "XX", EXP((-10440.397/T52)+(-11.29465) + (-0.027022355*T52) + (0.00001289036*T52*T52) + (-0.0000000024780681*T52^3)+(6.5459673*LN(T52))) ) -> 0.80554157 | AC52: =IF(E52="XX", "XX", AB52*2.041772658 ) -> 1.6447327 | AD52: =IF(E52="XX", "XX", (H52*O52)/(0.62198+O52)) -> 0.655937 | AE52: =IF(E52="XX", "XX", LN(AD52*0.4897705)) -> -1.1355089 | AF52: =IF(E52="XX", "XX", 0.62198*(AB52/(J52-AB52))) -> 0.036950693 | AH52: =IF(D52="XX", "XX", E52- $D$4) -> 129 | AI52: =IF(D52="XX", "XX", $AN$3 * R52 * (T52-$T$7)/$T$7 * $AP$3 * ($H$4-AH52)) -> 0.025337265 | AJ52: =IF(D52="XX", "XX", $AR$3 * $AN$4^2 * $AR$4 * R52 * K52^2/2) -> 0.00013987132 | AK52: =IF(D52="XX", "XX", AI52 +AJ52) -> 0.025477136 | AL52: =IF(D52="XX", "XX", AK52 +$AK$47) -> 0.030477136 | AM52: =IF(D52="XX", "XX", 60 * ($AP$4 * $AN$47 * (2 * ABS(AL52)/R52)^0.5)) -> 1323.6325 | AN52: =IF(D52="XX", "XX", IF(AL52<0, "Exfl", "Infl")) -> Infl | AO52: =IF(AN52="Infl", -AM52, AM52) -> -1323.6325 | AP52: =IF(D52="XX", "XX", AO52/$K$10) -> -0.1575753 | AQ52: =IF(D52="XX", "XX", AO52*1.08*(L52-$L$8)) -> -27933.969 | AR52: =IF(D52="XX", "XX", AO52 * 1.08 * 3000/1000) -> -4288.5694
B54: ='Input-Output'!AK31 -> 2-A | E54: No. of Flrs | G54: ='Input-Output'!AA22 -> 3 | H54: Envel-Area per Flr (ft2) | K54: ='Input-Output'!AA32 -> 17280 | X54: =B54 -> 2-A | Z54: % Envel-Leakg | AB54: ='Input-Output'!AA24 -> 0.35 | AC54: Leakg Flow Cf | AE54: ='Input-Output'!AA25 -> 0.6 | AH54: Inside-Outside (PI-PO) | AK54: ='Input-Output'!AA26 -> 0.005 | AL54: Envel Leakg A | AN54: ='Input-Output'!AA33 -> 60.48 | AO54: Section Infltr (tons/yr) | AR54: =SUM(AR57:AR59)/12 -> -1263.9152
B55: Level | C55: Sctn | D55: Bldg | E55: Alt ref Sea-Lvl | G55: Outdoor Std. Atm. Press. @ Altit | K55: Wnd Vel | L55: DB | M55: WB | N55: DP | O55: W | P55: RH | Q55: V | R55: d | S55: H | T55: Tdb | U55: Twb | X55: =B55 -> Level | Y55: =D55 -> Bldg | Z55: Psychrometric Calculations for DP, RH, V, W, H, TR | AH55: Floor | AI55: ∆PS | AJ55: ∆PW | AK55: ∆P = | AL55: ∆P + | AM55: Leakg Q | AN55: Exfl - | AO55: Leakage | AP55: Q / | AQ55: SHG | AR55: SHG/yr
B56: ID No. | C56: Flr No. | D56: Flr No. | E56: feet | F56: meters | G56: K-Pa | H56: in.Hg | I56: in.H2O | J56: psi | K56: mph | L56: F | M56: F | N56: F | O56: lbs/b | P56: % | Q56: ft3/lb | R56: lbs/ft3 | S56: btu/lb | T56: R | U56: R | X56: =B56 -> ID No. | Y56: =D56 -> Flr No. | Z56: PWSwb | AA56: WSwb | AB56: PWSdb | AC56: VPs | AD56: VPa | AE56: a | AF56: WSdb | AH56: Hght | AI56: in.H2O | AJ56: in.H2O | AK56: ∆PW+∆PS | AL56: PI - PO | AM56: ft3/min | AN56: Infl + | AO56: ft3/min | AP56: Envel-A | AQ56: btuh | AR56: tons
B57: ='Input-Output'!AI32 -> 4 | C57: ='Input-Output'!AJ32 -> 0 | D57: ='Input-Output'!AK32 -> XX | E57: ='Input-Output'!AL32 -> XX | F57: ='Input-Output'!AM32 -> XX | G57: =IF(E57="XX","XX",((101325*(1-2.25577*(10^(-5))*F57)^5.2555)/1000)) -> XX | H57: =IF(E57="XX", "XX", G57*$AB$3) -> XX | I57: =IF(E57="XX", "XX", G57*$AD$3) -> XX | J57: =IF(E57="XX", "XX",G57*$AF$3) -> XX | K57: =IF(E57="XX", "XX", ( $K$65 + $U$4 * (E57-$D$4)/$F$4 ) ) -> XX | L57: =IF(E57="XX", "XX", $L$65 - 0.00356*(E57-$E$65)) -> XX | M57: =IF(E57="XX","XX ", $M$65-0.00356*(E57-$E$65)) -> XX | N57: =IF(E57="XX","XX",100.45+33.193*AE57+2.319*AE57^2+0.17074*AE57^3+1.2063*(AD57*0.4897705)^3) -> XX | O57: =IF(E57="XX","XX ",((1093-0.556*M57)*AA57-0.24*(L57-M57))/(1093+0.444*L57-M57)) -> XX | P57: =IF(E57="XX", "XX", ((O57/AF57)/(1-(1-(O57/AF57))*(AB57/J57)))*100) -> XX | Q57: =IF(E57="XX", "XX", 0.7543*(T57*(1+1.6078*O57))/H57) -> XX | R57: =IF(E57="XX", "XX", 1/Q57) -> XX | S57: =IF(E57="XX", "XX", 0.24*L57+O57*(1061+0.444*L57)) -> XX | T57: =IF(E57="XX", "XX", L57+459.7) -> XX | U57: =IF(E57="XX", "XX", M57+459.7) -> XX | X57: =B57 -> 4 | Y57: =D57 -> XX | Z57: =IF(E57="XX", "XX", EXP((-10440.397/U57)+(-11.29465) + (-0.027022355*U57) + (0.00001289036*U57*U57) + (-0.0000000024780681*U57^3)+(6.5459673*LN(U57))) ) -> XX | AA57: =IF(E57="XX", "XX", 0.62198*Z57/(J57-Z57)) -> XX | AB57: =IF(E57="XX", "XX", EXP((-10440.397/T57)+(-11.29465) + (-0.027022355*T57) + (0.00001289036*T57*T57) + (-0.0000000024780681*T57^3)+(6.5459673*LN(T57))) ) -> XX | AC57: =IF(E57="XX", "XX", AB57*2.041772658 ) -> XX | AD57: =IF(E57="XX", "XX", (H57*O57)/(0.62198+O57)) -> XX | AE57: =IF(E57="XX", "XX", LN(AD57*0.4897705)) -> XX | AF57: =IF(E57="XX", "XX", 0.62198*(AB57/(J57-AB57))) -> XX | AH57: =IF(D57="XX", "XX", E57- $D$4) -> XX | AI57: =IF(D57="XX", "XX", $AN$3 * R57 * (T57-$T$7)/$T$7 * $AP$3 * ($H$4-AH57)) -> XX | AJ57: =IF(D57="XX", "XX", $AR$3 * $AN$4^2 * $AR$4 * R57 * K57^2/2) -> XX | AK57: =IF(D57="XX", "XX", AI57 +AJ57) -> XX | AL57: =IF(D57="XX", "XX", AK57 +$AK$54) -> XX | AM57: =IF(D57="XX", "XX", 60 * ($AP$4 * $AN$54 * (2 * ABS(AL57)/R57)^0.5)) -> XX | AN57: =IF(D57="XX", "XX", IF(AL57<0, "Exfl", "Infl")) -> XX | AO57: =IF(AN57="Infl", -AM57, AM57) -> XX | AP57: =IF(D57="XX", "XX", AO57/$K$10) -> XX | AQ57: =IF(D57="XX", "XX", AO57*1.08*(L57-$L$8)) -> XX | AR57: =IF(D57="XX", "XX", AO57 * 1.08 * 3000/1000) -> XX
B58: ='Input-Output'!AI33 -> 3 | C58: ='Input-Output'!AJ33 -> 2 | D58: ='Input-Output'!AK33 -> 4 | E58: ='Input-Output'!AL33 -> 576 | F58: ='Input-Output'!AM33 -> 175.5648 | G58: =IF(E58="XX","XX",((101325*(1-2.25577*(10^(-5))*F58)^5.2555)/1000)) -> 99.233761 | H58: =IF(E58="XX", "XX", G58*$AB$3) -> 29.383616 | I58: =IF(E58="XX", "XX", G58*$AD$3) -> 398.7774 | J58: =IF(E58="XX", "XX",G58*$AF$3) -> 14.392635 | K58: =IF(E58="XX", "XX", ( $K$65 + $U$4 * (E58-$D$4)/$F$4 ) ) -> 5.2902979 | L58: =IF(E58="XX", "XX", $L$65 - 0.00356*(E58-$E$65)) -> 94.72944 | M58: =IF(E58="XX","XX ", $M$65-0.00356*(E58-$E$65)) -> 74.72944 | N58: =IF(E58="XX","XX",100.45+33.193*AE58+2.319*AE58^2+0.17074*AE58^3+1.2063*(AD58*0.4897705)^3) -> 65.76069 | O58: =IF(E58="XX","XX ",((1093-0.556*M58)*AA58-0.24*(L58-M58))/(1093+0.444*L58-M58)) -> 0.014314124 | P58: =IF(E58="XX", "XX", ((O58/AF58)/(1-(1-(O58/AF58))*(AB58/J58)))*100) -> 39.961143 | Q58: =IF(E58="XX", "XX", 0.7543*(T58*(1+1.6078*O58))/H58) -> 14.560183 | R58: =IF(E58="XX", "XX", 1/Q58) -> 0.068680456 | S58: =IF(E58="XX", "XX", 0.24*L58+O58*(1061+0.444*L58)) -> 38.524401 | T58: =IF(E58="XX", "XX", L58+459.7) -> 554.42944 | U58: =IF(E58="XX", "XX", M58+459.7) -> 534.42944 | X58: =B58 -> 3 | Y58: =D58 -> 4 | Z58: =IF(E58="XX", "XX", EXP((-10440.397/U58)+(-11.29465) + (-0.027022355*U58) + (0.00001289036*U58*U58) + (-0.0000000024780681*U58^3)+(6.5459673*LN(U58))) ) -> 0.42663102 | AA58: =IF(E58="XX", "XX", 0.62198*Z58/(J58-Z58)) -> 0.019000136 | AB58: =IF(E58="XX", "XX", EXP((-10440.397/T58)+(-11.29465) + (-0.027022355*T58) + (0.00001289036*T58*T58) + (-0.0000000024780681*T58^3)+(6.5459673*LN(T58))) ) -> 0.81023174 | AC58: =IF(E58="XX", "XX", AB58*2.041772658 ) -> 1.654309 | AD58: =IF(E58="XX", "XX", (H58*O58)/(0.62198+O58)) -> 0.66101619 | AE58: =IF(E58="XX", "XX", LN(AD58*0.4897705)) -> -1.1277953 | AF58: =IF(E58="XX", "XX", 0.62198*(AB58/(J58-AB58))) -> 0.037103003 | AH58: =IF(D58="XX", "XX", E58- $D$4) -> 76 | AI58: =IF(D58="XX", "XX", $AN$3 * R58 * (T58-$T$7)/$T$7 * $AP$3 * ($H$4-AH58)) -> 0.028202873 | AJ58: =IF(D58="XX", "XX", $AR$3 * $AN$4^2 * $AR$4 * R58 * K58^2/2) -> 0.00012993918 | AK58: =IF(D58="XX", "XX", AI58 +AJ58) -> 0.028332812 | AL58: =IF(D58="XX", "XX", AK58 +$AK$54) -> 0.033332812 | AM58: =IF(D58="XX", "XX", 60 * ($AP$4 * $AN$54 * (2 * AL58/R58)^0.5)) -> 2323.8644 | AN58: =IF(D58="XX", "XX", IF(AL58<0, "Exfl", "Infl")) -> Infl | AO58: =IF(AN58="Infl", -AM58, AM58) -> -2323.8644 | AP58: =IF(D58="XX", "XX", AO58/$K$10) -> -0.27665052 | AQ58: =IF(D58="XX", "XX", AO58*1.08*(L58-$L$8)) -> -49516.426 | AR58: =IF(D58="XX", "XX", AO58 * 1.08 * 3000/1000) -> -7529.3206
B59: ='Input-Output'!AI34 -> 2 | C59: ='Input-Output'!AJ34 -> 1 | D59: ='Input-Output'!AK34 -> 3 | E59: ='Input-Output'!AL34 -> 558 | F59: ='Input-Output'!AM34 -> 170.0784 | G59: =IF(E59="XX","XX",((101325*(1-2.25577*(10^(-5))*F59)^5.2555)/1000)) -> 99.298579 | H59: =IF(E59="XX", "XX", G59*$AB$3) -> 29.402809 | I59: =IF(E59="XX", "XX", G59*$AD$3) -> 399.03787 | J59: =IF(E59="XX", "XX",G59*$AF$3) -> 14.402036 | K59: =IF(E59="XX", "XX", ( $K$65 + $U$4 * (E59-$D$4)/$F$4 ) ) -> 5.2215432 | L59: =IF(E59="XX", "XX", $L$65 - 0.00356*(E59-$E$65)) -> 94.79352 | M59: =IF(E59="XX","XX ", $M$65-0.00356*(E59-$E$65)) -> 74.79352 | N59: =IF(E59="XX","XX",100.45+33.193*AE59+2.319*AE59^2+0.17074*AE59^3+1.2063*(AD59*0.4897705)^3) -> 65.83589 | O59: =IF(E59="XX","XX ",((1093-0.556*M59)*AA59-0.24*(L59-M59))/(1093+0.444*L59-M59)) -> 0.014342905 | P59: =IF(E59="XX", "XX", ((O59/AF59)/(1-(1-(O59/AF59))*(AB59/J59)))*100) -> 39.986957 | Q59: =IF(E59="XX", "XX", 0.7543*(T59*(1+1.6078*O59))/H59) -> 14.553019 | R59: =IF(E59="XX", "XX", 1/Q59) -> 0.068714267 | S59: =IF(E59="XX", "XX", 0.24*L59+O59*(1061+0.444*L59)) -> 38.571936 | T59: =IF(E59="XX", "XX", L59+459.7) -> 554.49352 | U59: =IF(E59="XX", "XX", M59+459.7) -> 534.49352 | X59: =B59 -> 2 | Y59: =D59 -> 3 | Z59: =IF(E59="XX", "XX", EXP((-10440.397/U59)+(-11.29465) + (-0.027022355*U59) + (0.00001289036*U59*U59) + (-0.0000000024780681*U59^3)+(6.5459673*LN(U59))) ) -> 0.42754594 | AA59: =IF(E59="XX", "XX", 0.62198*Z59/(J59-Z59)) -> 0.019029319 | AB59: =IF(E59="XX", "XX", EXP((-10440.397/T59)+(-11.29465) + (-0.027022355*T59) + (0.00001289036*T59*T59) + (-0.0000000024780681*T59^3)+(6.5459673*LN(T59))) ) -> 0.81183001 | AC59: =IF(E59="XX", "XX", AB59*2.041772658 ) -> 1.6575723 | AD59: =IF(E59="XX", "XX", (H59*O59)/(0.62198+O59)) -> 0.66274796 | AE59: =IF(E59="XX", "XX", LN(AD59*0.4897705)) -> -1.1251789 | AF59: =IF(E59="XX", "XX", 0.62198*(AB59/(J59-AB59))) -> 0.037154848 | AH59: =IF(D59="XX", "XX", E59- $D$4) -> 58 | AI59: =IF(D59="XX", "XX", $AN$3 * R59 * (T59-$T$7)/$T$7 * $AP$3 * ($H$4-AH59)) -> 0.029189218 | AJ59: =IF(D59="XX", "XX", $AR$3 * $AN$4^2 * $AR$4 * R59 * K59^2/2) -> 0.00012664596 | AK59: =IF(D59="XX", "XX", AI59 +AJ59) -> 0.029315864 | AL59: =IF(D59="XX", "XX", AK59 +$AK$54) -> 0.034315864 | AM59: =IF(D59="XX", "XX", 60 * ($AP$4 * $AN$54 * (2 * AL59/R59)^0.5)) -> 2357.3029 | AN59: =IF(D59="XX", "XX", IF(AL59<0, "Exfl", "Infl")) -> Infl | AO59: =IF(AN59="Infl", -AM59, AM59) -> -2357.3029 | AP59: =IF(D59="XX", "XX", AO59/$K$10) -> -0.2806313 | AQ59: =IF(D59="XX", "XX", AO59*1.08*(L59-$L$8)) -> -50392.069 | AR59: =IF(D59="XX", "XX", AO59 * 1.08 * 3000/1000) -> -7637.6615
B61: ='Input-Output'!AK35 -> 1 | E61: No. of Flrs | G61: ='Input-Output'!Z22 -> 2 | H61: Envel-Area per Flr (ft2) | K61: ='Input-Output'!Z32 -> 22400 | X61: =B61 -> 1 | Z61: % Envel-Leakg | AB61: ='Input-Output'!Z24 -> 0.4 | AC61: Leakg Flow Cf | AE61: ='Input-Output'!Z25 -> 0.6 | AH61: Inside-Outside (PI-PO) | AK61: ='Input-Output'!Z26 -> 0 | AL61: Envel Leakg A | AN61: ='Input-Output'!Z33 -> 89.6 | AO61: Section Infltr (tons/yr) | AR61: =SUM(AR64:AR65)/12 -> -1819.0113
B62: Level | C62: Sctn | D62: Bldg | E62: Alt ref Sea-Lvl | G62: Outdoor Std. Atm. Press. @ Altit | K62: Wnd Vel | L62: DB | M62: WB | N62: DP | O62: W | P62: RH | Q62: V | R62: d | S62: H | T62: Tdb | U62: Twb | X62: =B62 -> Level | Y62: =D62 -> Bldg | Z62: Psychrometric Calculations for DP, RH, V, W, H, TR | AH62: Floor | AI62: ∆PS | AJ62: ∆PW | AK62: ∆P = | AL62: ∆P + | AM62: Leakg Q | AN62: Exfl - | AO62: Leakage | AP62: Q / | AQ62: SHG | AR62: SHG/yr
B63: ID No. | C63: Flr No. | D63: Flr No. | E63: feet | F63: meters | G63: K-Pa | H63: in.Hg | I63: in.H2O | J63: psi | K63: mph | L63: F | M63: F | N63: F | O63: lbs/b | P63: % | Q63: ft3/lb | R63: lbs/ft3 | S63: btu/lb | T63: R | U63: R | X63: =B63 -> ID No. | Y63: =D63 -> Flr No. | Z63: PWSwb | AA63: WSwb | AB63: PWSdb | AC63: VPs | AD63: VPa | AE63: a | AF63: WSdb | AH63: Hght | AI63: in.H2O | AJ63: in.H2O | AK63: ∆PW+∆PS | AL63: PI - PO | AM63: ft3/min | AN63: Infl + | AO63: ft3/min | AP63: Envel-A | AQ63: btuh | AR63: tons
B64: ='Input-Output'!AI36 -> 2 | C64: ='Input-Output'!AJ36 -> 2 | D64: ='Input-Output'!AK36 -> 2 | E64: ='Input-Output'!AL36 -> 520 | F64: ='Input-Output'!AM36 -> 158.496 | G64: =IF(E64="XX","XX",((101325*(1-2.25577*(10^(-5))*F64)^5.2555)/1000)) -> 99.435529 | H64: =IF(E64="XX", "XX", G64*$AB$3) -> 29.443361 | I64: =IF(E64="XX", "XX", G64*$AD$3) -> 399.58821 | J64: =IF(E64="XX", "XX",G64*$AF$3) -> 14.421899 | K64: =IF(E64="XX", "XX", ( $K$65 + $U$4 * (E64-$D$4)/$F$4 ) ) -> 5.0763942 | L64: =IF(E64="XX", "XX", $L$65 - 0.00356*(E64-$E$65)) -> 94.9288 | M64: =IF(E64="XX","XX ", $M$65-0.00356*(E64-$E$65)) -> 74.9288 | N64: =IF(E64="XX","XX",100.45+33.193*AE64+2.319*AE64^2+0.17074*AE64^3+1.2063*(AD64*0.4897705)^3) -> 65.994576 | O64: =IF(E64="XX","XX ",((1093-0.556*M64)*AA64-0.24*(L64-M64))/(1093+0.444*L64-M64)) -> 0.014403784 | P64: =IF(E64="XX", "XX", ((O64/AF64)/(1-(1-(O64/AF64))*(AB64/J64)))*100) -> 40.041358 | Q64: =IF(E64="XX", "XX", 0.7543*(T64*(1+1.6078*O64))/H64) -> 14.537911 | R64: =IF(E64="XX", "XX", 1/Q64) -> 0.068785671 | S64: =IF(E64="XX", "XX", 0.24*L64+O64*(1061+0.444*L64)) -> 38.672424 | T64: =IF(E64="XX", "XX", L64+459.7) -> 554.6288 | U64: =IF(E64="XX", "XX", M64+459.7) -> 534.6288 | X64: =B64 -> 2 | Y64: =D64 -> 2 | Z64: =IF(E64="XX", "XX", EXP((-10440.397/U64)+(-11.29465) + (-0.027022355*U64) + (0.00001289036*U64*U64) + (-0.0000000024780681*U64^3)+(6.5459673*LN(U64))) ) -> 0.42948306 | AA64: =IF(E64="XX", "XX", 0.62198*Z64/(J64-Z64)) -> 0.019091048 | AB64: =IF(E64="XX", "XX", EXP((-10440.397/T64)+(-11.29465) + (-0.027022355*T64) + (0.00001289036*T64*T64) + (-0.0000000024780681*T64^3)+(6.5459673*LN(T64))) ) -> 0.81521309 | AC64: =IF(E64="XX", "XX", AB64*2.041772658 ) -> 1.6644798 | AD64: =IF(E64="XX", "XX", (H64*O64)/(0.62198+O64)) -> 0.66641519 | AE64: =IF(E64="XX", "XX", LN(AD64*0.4897705)) -> -1.1196608 | AF64: =IF(E64="XX", "XX", 0.62198*(AB64/(J64-AB64))) -> 0.037264493 | AH64: =IF(D64="XX", "XX", E64- $D$4) -> 20 | AI64: =IF(D64="XX", "XX", $AN$3 * R64 * (T64-$T$7)/$T$7 * $AP$3 * ($H$4-AH64)) -> 0.031293405 | AJ64: =IF(D64="XX", "XX", $AR$3 * $AN$4^2 * $AR$4 * R64 * K64^2/2) -> 0.00011982718 | AK64: =IF(D64="XX", "XX", AI64 +AJ64) -> 0.031413232 | AL64: =IF(D64="XX", "XX", AK64 +$AK$61) -> 0.031413232 | AM64: =IF(D64="XX", "XX", 60 * ($AP$4 * $AN$61 * (2 * ABS(AL64)/R64)^0.5)) -> 3339.6037 | AN64: =IF(D64="XX", "XX", IF(AL64<0, "Exfl", "Infl")) -> Infl | AO64: =IF(AN64="Infl", -AM64, AM64) -> -3339.6037 | AP64: =IF(D64="XX", "XX", AO64/$K$10) -> -0.39757187 | AQ64: =IF(D64="XX", "XX", AO64*1.08*(L64-$L$8)) -> -71878.638 | AR64: =IF(D64="XX", "XX", AO64 * 1.08 * 3000/1000) -> -10820.316
B65: ='Input-Output'!AI37 -> 1 | C65: ='Input-Output'!AJ37 -> 1 | D65: ='Input-Output'!AK37 -> 1 | E65: ='Input-Output'!AL37 -> 500 | F65: ='Input-Output'!AM37 -> 152.4 | G65: =IF(E65="XX","XX",((101325*(1-2.25577*(10^(-5))*F65)^5.2555)/1000)) -> 99.50767 | H65: =IF(E65="XX", "XX", G65*$AB$3) -> 29.464722 | I65: =IF(E65="XX", "XX", G65*$AD$3) -> 399.87811 | J65: =IF(E65="XX", "XX",G65*$AF$3) -> 14.432362 | K65: =IF(E65="XX", "XX", 'Input-Output'!AF6) -> 5 | L65: ='Input-Output'!AF8 -> 95 | M65: ='Input-Output'!AF9 -> 75 | N65: =100.45+33.193*AE65+2.319*AE65^2+0.17074*AE65^3+1.2063*(AD65*0.4897705)^3 -> 66.078058 | O65: =((1093-0.556*M65)*AA65 - 0.24*(L65-M65))/(1093 + 0.444*L65-M65) -> 0.014435891 | P65: =((O65/AF65)/(1-(1-(O65/AF65))*(AB65/J65)))*100 -> 40.069938 | Q65: =0.7543*(T65*(1+1.6078*O65))/H65 -> 14.52997 | R65: =1/Q65 -> 0.068823267 | S65: =0.24*L65+O65*(1061+0.444*L65) -> 38.725386 | T65: =L65+459.7 -> 554.7 | U65: =M65+459.7 -> 534.7 | X65: =B65 -> 1 | Y65: =D65 -> 1 | Z65: =EXP((-10440.397/U65)+(-11.29465) + (-0.027022355*U65) + (0.00001289036*U65*U65) + (-0.0000000024780681*U65^3)+(6.5459673*LN(U65))) -> 0.43050567 | AA65: =0.62198*Z65/(J65-Z65) -> 0.019123602 | AB65: =EXP((-10440.397/T65)+(-11.29465) + (-0.027022355*T65) + (0.00001289036*T65*T65) + (-0.0000000024780681*T65^3)+(6.5459673*LN(T65))) -> 0.81699856 | AC65: =AB65*2.041772658 -> 1.6681253 | AD65: =(H65*O65)/(0.62198+O65) -> 0.66835148 | AE65: =LN(AD65*0.4897705) -> -1.1167594 | AF65: =0.62198*(AB65/(J65-AB65)) -> 0.037322308 | AH65: =IF(D65="XX", "XX", E65- $D$4) -> 0 | AI65: =IF(D65="XX", "XX", $AN$3 * R65 * (T65-$T$7)/$T$7 * $AP$3 * ($H$4-AH65)) -> 0.032412833 | AJ65: =IF(D65="XX", "XX", $AR$3 * $AN$4^2 * $AR$4 * R65 * K65^2/2) -> 0.00011631132 | AK65: =IF(D65="XX", "XX", AI65 +AJ65) -> 0.032529144 | AL65: =IF(D65="XX", "XX", AK65 +$AK$61) -> 0.032529144 | AM65: =IF(D65="XX", "XX", 60 * ($AP$4 * $AN$61 * (2 * ABS(AL65)/R65)^0.5)) -> 3397.4752 | AN65: =IF(D65="XX", "XX", IF(AL65<0, "Exfl", "Infl")) -> Infl | AO65: =IF(AN65="Infl", -AM65, AM65) -> -3397.4752 | AP65: =IF(D65="XX", "XX", AO65/$K$10) -> -0.40446133 | AQ65: =IF(D65="XX", "XX", AO65*1.08*(L65-$L$8)) -> -73385.464 | AR65: =IF(D65="XX", "XX", AO65 * 1.08 * 3000/1000) -> -11007.82

Sheet WNTR-Calcs
B2: Bldg Pressurization - Stack Effect & Wind Press Infltr-Exfiltr | L2: Summer Calcs
X3: Convert K-Pa to | AA3: In.Hg | AB3: 0.29610503 | AC3: In.H2O | AD3: 4.0185658 | AE3: PSI | AF3: 0.14503768 | AH3: ∆PS = C1*ρO* [ (TO - TI) / TI ] * g * (HNPL - H) | AM3: C1 = | AN3: 0.000598 | AO3: g = | AP3: 32.17 | AQ3: C2 = | AR3: 0.013
B4: Site Altit | D4: ='Input-Output'!Z11 -> 500 | E4: Bldg-H | F4: ='Input-Output'!X15 -> 1309 | G4: NPL-H | H4: ='Input-Output'!Y15 -> 654.5 | J4: Total Bldg Area | K4: ='Input-Output'!AA15 -> 2782800 | M4: Total Envel Area | O4: ='Input-Output'!AC15 -> 584440 | Q4: Leakg-A | R4: ='Input-Output'!AE15 -> 1633.42 | S4: Wnd-Vel Diff | U4: ='Input-Output'!AG7 - 'Input-Output'!AG6 -> 5 | X4: Convert in.H20 to | AA4: In.Hg | AB4: 0.073684257 | AC4: K-Pa | AD4: 0.248845 | AE4: PSI | AF4: 0.036091902 | AH4: ∆PW = C2 * s2 * CP * ρO * (UH)2 / 2 | AM4: s = | AN4: 0.4 | AO4: CF = | AP4: 0.65 | AQ4: CP = | AR4: 0.065
E5: Alt ref Sea-Lvl | G5: Outdoor Std. Atm. Press. @ Altit | K5: Wnd Vel | L5: DB | M5: WB | N5: DP | O5: W | P5: RH | Q5: V | R5: d | S5: H | T5: Tdb | U5: Twb | X5: Location | Z5: Psychrometric Calculations for DP, RH, V, W, H, TR | AH5: Q = Cd * A * ( 2 * ∆P/d )0.5 | AK5: Coolg-DD | AM5: ='Input-Output'!$AG$10 -> 7981 | AN5: TO (OR) | AO5: Ti (OR) | AP5: ρO = OA dens | AR5: A = Leakg-A
E6: feet | F6: meters | G6: K-Pa | H6: in.Hg | I6: in.H2O | J6: psi | K6: mph | L6: F | M6: F | N6: F | O6: lbs/b | P6: % | Q6: ft3/lb | R6: lbs/ft3 | S6: btu/lb | T6: R | U6: R | X6: Description | Z6: PWSwb | AA6: WSwb | AB6: PWSdb | AC6: VPs | AD6: VPa | AE6: a | AF6: WSdb | AH6: ∆PS = | AI6: Stack Effect Press Diff (in.wg) | AM6: UH = mph | AO6: Sp.Ht of Air = | AQ6: 0.24
B7: Sea-Level Conditions | E7: 0 | F7: 0 | G7: =( 101325*(1-2.25577*(10^(-5))*F7)^5.2555 ) /1000 -> 101.325 | H7: =G7*0.2953 -> 29.921273 | I7: =J7*27.7070465550844 -> 406.03448 | J7: =H7/2.041772658 -> 14.654556 | K7: =('Input-Output'!AF6+'Input-Output'!AF7)/2 -> 7.5 | L7: ='Input-Output'!AF11 -> 75 | M7: ='Input-Output'!AF12 -> 62 | N7: =100.45+33.193*AE7+2.319*AE7^2+0.17074*AE7^3+1.2063*(AD7*0.4897705)^3 -> 53.291934 | O7: =((1093-0.556*M7)*AA7 - 0.24*(L7-M7))/(1093 + 0.444*L7-M7) -> 0.0089200822 | P7: =((O7/AF7)/(1-(1-(O7/AF7))*(AB7/J7)))*100 -> 48.128472 | Q7: =0.7543*(T7*(1+1.6078*O7))/H7 -> 13.672833 | R7: =1/Q7 -> 0.073137731 | S7: =0.24*L7+O7*(1061+0.444*L7) -> 27.761246 | T7: =L7+459.7 -> 534.7 | U7: =M7+459.7 -> 521.7 | X7: Out | Y7: Sea-Lvl | Z7: =EXP((-10440.397/U7)+(-11.29465) + (-0.027022355*U7) + (0.00001289036*U7*U7) + (-0.0000000024780681*U7^3)+(6.5459673*LN(U7))) -> 0.27548168 | AA7: =0.62198*Z7/(J7-Z7) -> 0.011916211 | AB7: =EXP((-10440.397/T7)+(-11.29465) + (-0.027022355*T7) + (0.00001289036*T7*T7) + (-0.0000000024780681*T7^3)+(6.5459673*LN(T7))) -> 0.43050567 | AC7: =AB7*2.041772658 -> 0.8789947 | AD7: =(H7*O7)/(0.62198+O7) -> 0.42304672 | AE7: =LN(AD7*0.4897705) -> -1.574091 | AF7: =0.62198*(AB7/(J7-AB7)) -> 0.018824871 | AH7: ∆PW = | AI7: Wind Press (in.wg) | AL7: Iniltr SHG/hr = CFM * 1.08 (To-Ti)) | AP7: Cooling/ year = CFM * 1.08 * CDD
B8: Indoor Conditions | E8: =E65 -> 500 | F8: =F65 -> 152.4 | G8: =( 101325*(1-2.25577*(10^(-5))*F8)^5.2555 ) /1000 -> 99.50767 | H8: =G8*0.2953 -> 29.384615 | I8: =J8*27.7070465550844 -> 398.75198 | J8: =H8/2.041772658 -> 14.391717 | K8: =K65 -> 15 | L8: ='Input-Output'!$AG$11 -> 72 | M8: ='Input-Output'!$AG$12 -> 55 | N8: =N65 -> -19.672745 | O8: =O65 -> 0.00043572797 | P8: =P65 -> 100 | Q8: =Q65 -> 11.366725 | R8: =R65 -> 0.087976092 | S8: =S65 -> -3.380788 | T8: =T65 -> 443.7 | U8: =U65 -> 443.7 | X8: In | Y8: Room | Z8: =IF(E8="XX", "XX", EXP((-10440.397/U8)+(-11.29465) + (-0.027022355*U8) + (0.00001289036*U8*U8) + (-0.0000000024780681*U8^3)+(6.5459673*LN(U8))) ) -> 0.01010351 | AA8: =IF(E8="XX", "XX", 0.62198*Z8/(J8-Z8)) -> 0.0004369594 | AB8: =IF(E8="XX", "XX", EXP((-10440.397/T8)+(-11.29465) + (-0.027022355*T8) + (0.00001289036*T8*T8) + (-0.0000000024780681*T8^3)+(6.5459673*LN(T8))) ) -> 0.01010351 | AC8: =IF(E8="XX", "XX", AB8*2.041772658 ) -> 0.020629071 | AD8: =IF(E8="XX", "XX", (H8*O8)/(0.62198+O8)) -> 0.020570975 | AE8: =IF(E8="XX", "XX", LN(AD8*0.4897705)) -> -4.5976925 | AF8: =IF(E8="XX", "XX", 0.62198*(AB8/(J8-AB8))) -> 0.0004369594 | AH8: Q = | AI8: Airflow Rate (ft3/sec) | AL8: PI - PO | AM8: Bldg Pressurization (Inside Press - Outside Press)
B10: ='Input-Output'!AK5 -> 8 | E10: No. of Flrs | G10: ='Input-Output'!AG22 -> 2 | H10: Envel-Area per Flr (ft2) | K10: ='Input-Output'!AG32 -> 8400 | X10: =B10 -> 8 | Z10: % Envel-Leakg | AB10: ='Input-Output'!AG24 -> 0.3 | AC10: Leakg Flow Cf | AE10: ='Input-Output'!AG25 -> 0.6 | AH10: Inside-Outside (PI-PO) | AK10: ='Input-Output'!AG26 -> 0.005 | AL10: Envel Leakg A | AN10: ='Input-Output'!AG33 -> 25.2 | AO10: Section Infltr (K-btu/yr) | AR10: =SUM(AR13:AR14) -> -24743.594
B11: Level | C11: Sctn | D11: Bldg | E11: Alt ref Sea-Lvl | G11: Outdoor Std. Atm. Press. @ Altit | K11: Wnd Vel | L11: DB | M11: WB | N11: DP | O11: W | P11: RH | Q11: V | R11: d | S11: H | T11: Tdb | U11: Twb | X11: =B11 -> Level | Y11: =D11 -> Bldg | Z11: Psychrometric Calculations for DP, RH, V, W, H, TR | AH11: Floor | AI11: ∆PS | AJ11: ∆PW | AK11: ∆P = | AL11: ∆P + | AM11: Leakg Q | AN11: Exfl - | AO11: Leakage | AP11: Q / | AQ11: SHL | AR11: SHL/yr
B12: ID No. | C12: Flr No. | D12: Flr No. | E12: feet | F12: meters | G12: K-Pa | H12: in.Hg | I12: in.H2O | J12: psi | K12: mph | L12: F | M12: F | N12: F | O12: lbs/b | P12: % | Q12: ft3/lb | R12: lbs/ft3 | S12: btu/lb | T12: R | U12: R | X12: =B12 -> ID No. | Y12: =D12 -> Flr No. | Z12: PWSwb | AA12: WSwb | AB12: PWSdb | AC12: VPs | AD12: VPa | AE12: a | AF12: WSdb | AH12: Hght | AI12: in.H2O | AJ12: in.H2O | AK12: ∆PW+∆PS | AL12: PI - PO | AM12: ft3/min | AN12: Infl + | AO12: ft3/min | AP12: Envel-A | AQ12: btuh | AR12: K-btu
B13: ='Input-Output'!AI6 -> 24 | C13: ='Input-Output'!AJ6 -> 2 | D13: ='Input-Output'!AK6 -> 101 | E13: ='Input-Output'!AL6 -> 1789 | F13: ='Input-Output'!AM6 -> 545.2872 | G13: =IF(E13="XX","XX",((101325*(1-2.25577*(10^(-5))*F13)^5.2555)/1000)) -> 94.944017 | H13: =IF(E13="XX", "XX", G13*$AB$3) -> 28.113401 | I13: =IF(E13="XX", "XX", G13*$AD$3) -> 381.53878 | J13: =IF(E13="XX", "XX",G13*$AF$3) -> 13.77046 | K13: =IF(E13="XX", "XX", ( $K$65 + $U$4 * (E13-$D$4)/$F$4 ) ) -> 19.923606 | L13: =IF(E13="XX", "XX", $L$65 - 0.00356*(E13-$E$65)) -> -20.58884 | M13: =IF(E13="XX","XX ", $M$65-0.00356*(E13-$E$65)) -> -20.58884 | N13: =IF(E13="XX","XX",100.45+33.193*AE13+2.319*AE13^2+0.17074*AE13^3+1.2063*(AD13*0.4897705)^3) -> -25.022417 | O13: =IF(E13="XX","XX ",((1093-0.556*M13)*AA13-0.24*(L13-M13))/(1093+0.444*L13-M13)) -> 0.00036079951 | P13: =IF(E13="XX", "XX", ((O13/AF13)/(1-(1-(O13/AF13))*(AB13/J13)))*100) -> 100 | Q13: =IF(E13="XX", "XX", 0.7543*(T13*(1+1.6078*O13))/H13) -> 11.788459 | R13: =IF(E13="XX", "XX", 1/Q13) -> 0.084828727 | S13: =IF(E13="XX", "XX", 0.24*L13+O13*(1061+0.444*L13)) -> -4.5618116 | T13: =IF(E13="XX", "XX", L13+459.7) -> 439.11116 | U13: =IF(E13="XX", "XX", M13+459.7) -> 439.11116 | X13: =B13 -> 24 | Y13: =D13 -> 101 | Z13: =IF(E13="XX", "XX", EXP((-10440.397/U13)+(-11.29465) + (-0.027022355*U13) + (0.00001289036*U13*U13) + (-0.0000000024780681*U13^3)+(6.5459673*LN(U13))) ) -> 0.0079833672 | AA13: =IF(E13="XX", "XX", 0.62198*Z13/(J13-Z13)) -> 0.00036079951 | AB13: =IF(E13="XX", "XX", EXP((-10440.397/T13)+(-11.29465) + (-0.027022355*T13) + (0.00001289036*T13*T13) + (-0.0000000024780681*T13^3)+(6.5459673*LN(T13))) ) -> 0.0079833672 | AC13: =IF(E13="XX", "XX", AB13*2.041772658 ) -> 0.016300221 | AD13: =IF(E13="XX", "XX", (H13*O13)/(0.62198+O13)) -> 0.016298628 | AE13: =IF(E13="XX", "XX", LN(AD13*0.4897705)) -> -4.8304927 | AF13: =IF(E13="XX", "XX", 0.62198*(AB13/(J13-AB13))) -> 0.00036079951 | AH13: =IF(D13="XX", "XX", E13- $D$4) -> 1289 | AI13: =IF(D13="XX", "XX", $AN$3 * R13 * (T13-$T$7)/$T$7 * $AP$3 * ($H$4-AH13)) -> 0.18510742 | AJ13: =IF(D13="XX", "XX", $AR$3 * $AN$4^2 * $AR$4 * R13 * K13^2/2) -> 0.0022762792 | AK13: =IF(D13="XX", "XX", AI13 +AJ13) -> 0.1873837 | AL13: =IF(D13="XX", "XX", AK13 +$AK$10) -> 0.1923837 | AM13: =IF(D13="XX", "XX", 60 * ($AP$4 * $AN$10 * (2 * ABS(AL13)/R13)^0.5)) -> 2093.1136 | AN13: =IF(D13="XX", "XX", IF(AL13<0, "Exfl", "Infl")) -> Infl | AO13: =IF(AN13="Infl", -AM13, AM13) -> -2093.1136 | AP13: =IF(D13="XX", "XX", AO13/$K$10) -> -0.24918019 | AQ13: =IF(D13="XX", "XX", AO13*1.08*(L13-$L$8)) -> 209302.88 | AR13: =IF(D13="XX", "XX", AO13 * 1.08 * $AM$5/1000) -> -18041.551
B14: ='Input-Output'!AI7 -> 23 | C14: ='Input-Output'!AJ7 -> 1 | D14: ='Input-Output'!AK7 -> 100 | E14: ='Input-Output'!AL7 -> 1774 | F14: ='Input-Output'!AM7 -> 540.7152 | G14: =IF(E14="XX","XX",((101325*(1-2.25577*(10^(-5))*F14)^5.2555)/1000)) -> 94.996131 | H14: =IF(E14="XX", "XX", G14*$AB$3) -> 28.128832 | I14: =IF(E14="XX", "XX", G14*$AD$3) -> 381.7482 | J14: =IF(E14="XX", "XX",G14*$AF$3) -> 13.778018 | K14: =IF(E14="XX", "XX", ( $K$65 + $U$4 * (E14-$D$4)/$F$4 ) ) -> 19.86631 | L14: =IF(E14="XX", "XX", $L$65 - 0.00356*(E14-$E$65)) -> -20.53544 | M14: =IF(E14="XX","XX ", $M$65-0.00356*(E14-$E$65)) -> -20.53544 | N14: =IF(E14="XX","XX",100.45+33.193*AE14+2.319*AE14^2+0.17074*AE14^3+1.2063*(AD14*0.4897705)^3) -> -24.959378 | O14: =IF(E14="XX","XX ",((1093-0.556*M14)*AA14-0.24*(L14-M14))/(1093+0.444*L14-M14)) -> 0.00036160304 | P14: =IF(E14="XX", "XX", ((O14/AF14)/(1-(1-(O14/AF14))*(AB14/J14)))*100) -> 100 | Q14: =IF(E14="XX", "XX", 0.7543*(T14*(1+1.6078*O14))/H14) -> 11.78344 | R14: =IF(E14="XX", "XX", 1/Q14) -> 0.084864859 | S14: =IF(E14="XX", "XX", 0.24*L14+O14*(1061+0.444*L14)) -> -4.5481418 | T14: =IF(E14="XX", "XX", L14+459.7) -> 439.16456 | U14: =IF(E14="XX", "XX", M14+459.7) -> 439.16456 | X14: =B14 -> 23 | Y14: =D14 -> 100 | Z14: =IF(E14="XX", "XX", EXP((-10440.397/U14)+(-11.29465) + (-0.027022355*U14) + (0.00001289036*U14*U14) + (-0.0000000024780681*U14^3)+(6.5459673*LN(U14))) ) -> 0.0080055283 | AA14: =IF(E14="XX", "XX", 0.62198*Z14/(J14-Z14)) -> 0.00036160304 | AB14: =IF(E14="XX", "XX", EXP((-10440.397/T14)+(-11.29465) + (-0.027022355*T14) + (0.00001289036*T14*T14) + (-0.0000000024780681*T14^3)+(6.5459673*LN(T14))) ) -> 0.0080055283 | AC14: =IF(E14="XX", "XX", AB14*2.041772658 ) -> 0.016345469 | AD14: =IF(E14="XX", "XX", (H14*O14)/(0.62198+O14)) -> 0.016343872 | AE14: =IF(E14="XX", "XX", LN(AD14*0.4897705)) -> -4.8277206 | AF14: =IF(E14="XX", "XX", 0.62198*(AB14/(J14-AB14))) -> 0.00036160304 | AH14: =IF(D14="XX", "XX", E14- $D$4) -> 1274 | AI14: =IF(D14="XX", "XX", $AN$3 * R14 * (T14-$T$7)/$T$7 * $AP$3 * ($H$4-AH14)) -> 0.18070733 | AJ14: =IF(D14="XX", "XX", $AR$3 * $AN$4^2 * $AR$4 * R14 * K14^2/2) -> 0.0022641699 | AK14: =IF(D14="XX", "XX", AI14 +AJ14) -> 0.1829715 | AL14: =IF(D14="XX", "XX", AK14 +$AK$10) -> 0.1879715 | AM14: =IF(D14="XX", "XX", 60 * ($AP$4 * $AN$10 * (2 * ABS(AL14)/R14)^0.5)) -> 2068.5318 | AN14: =IF(D14="XX", "XX", IF(AL14<0, "Exfl", "Infl")) -> Infl | AO14: =IF(AN14="Infl", -AM14, AM14) -> -2068.5318 | AP14: =IF(D14="XX", "XX", AO14/$K$10) -> -0.24625379 | AQ14: =IF(D14="XX", "XX", AO14*1.08*(L14-$L$8)) -> 206725.5 | AR14: =IF(D14="XX", "XX", AO14 * 1.08 * 3000/1000) -> -6702.0431
B16: ='Input-Output'!AK8 -> 7 | E16: No. of Flrs | G16: ='Input-Output'!AF22 -> 15 | H16: Envel-Area per Flr (ft2) | K16: ='Input-Output'!AF32 -> 5600 | L16: % Envel-Leakg | N16: ='Input-Output'!AF24 -> 0.4 | O16: Leakg Flow Cf | Q16: ='Input-Output'!AF25 -> 0.6 | R16: Inside-Outside (PI-PO) | U16: ='Input-Output'!AF26 -> 0.005 | X16: =B16 -> 7 | Z16: % Envel-Leakg | AB16: ='Input-Output'!AF24 -> 0.4 | AC16: Leakg Flow Cf | AE16: ='Input-Output'!AF25 -> 0.6 | AH16: Inside-Outside (PI-PO) | AK16: ='Input-Output'!AF26 -> 0.005 | AL16: Envel Leakg A | AN16: ='Input-Output'!AF33 -> 22.4 | AO16: Section Infltr (K-btu/yr) | AR16: =SUM(AR19:AR21) -> -10822.332
B17: Level | C17: Sctn | D17: Bldg | E17: Alt ref Sea-Lvl | G17: Outdoor Std. Atm. Press. @ Altit | K17: Wnd Vel | L17: DB | M17: WB | N17: DP | O17: W | P17: RH | Q17: V | R17: d | S17: H | T17: Tdb | U17: Twb | X17: =B17 -> Level | Y17: =D17 -> Bldg | Z17: Psychrometric Calculations for DP, RH, V, W, H, TR | AH17: Floor | AI17: ∆PS | AJ17: ∆PW | AK17: ∆P = | AL17: ∆P + | AM17: Leakg Q | AN17: Exfl - | AO17: Leakage | AP17: Q / | AQ17: SHL | AR17: SHL/yr
B18: ID No. | C18: Flr No. | D18: Flr No. | E18: feet | F18: meters | G18: K-Pa | H18: in.Hg | I18: in.H2O | J18: psi | K18: mph | L18: F | M18: F | N18: F | O18: lbs/b | P18: % | Q18: ft3/lb | R18: lbs/ft3 | S18: btu/lb | T18: R | U18: R | X18: =B18 -> ID No. | Y18: =D18 -> Flr No. | Z18: PWSwb | AA18: WSwb | AB18: PWSdb | AC18: VPs | AD18: VPa | AE18: a | AF18: WSdb | AH18: Hght | AI18: in.H2O | AJ18: in.H2O | AK18: ∆PW+∆PS | AL18: PI - PO | AM18: ft3/min | AN18: Infl + | AO18: ft3/min | AP18: Envel-A | AQ18: btuh | AR18: K-btu
B19: ='Input-Output'!AI9 -> 22 | C19: ='Input-Output'!AJ9 -> 0 | D19: ='Input-Output'!AK9 -> XX | E19: ='Input-Output'!AL9 -> XX | F19: ='Input-Output'!AM9 -> XX | G19: =IF(E19="XX","XX",((101325*(1-2.25577*(10^(-5))*F19)^5.2555)/1000)) -> XX | H19: =IF(E19="XX", "XX", G19*$AB$3) -> XX | I19: =IF(E19="XX", "XX", G19*$AD$3) -> XX | J19: =IF(E19="XX", "XX",G19*$AF$3) -> XX | K19: =IF(E19="XX", "XX", ( $K$65 + $U$4 * (E19-$D$4)/$F$4 ) ) -> XX | L19: =IF(E19="XX", "XX", $L$65 - 0.00356*(E19-$E$65)) -> XX | M19: =IF(E19="XX","XX ", $M$65-0.00356*(E19-$E$65)) -> XX | N19: =IF(E19="XX","XX",100.45+33.193*AE19+2.319*AE19^2+0.17074*AE19^3+1.2063*(AD19*0.4897705)^3) -> XX | O19: =IF(E19="XX","XX ",((1093-0.556*M19)*AA19-0.24*(L19-M19))/(1093+0.444*L19-M19)) -> XX | P19: =IF(E19="XX", "XX", ((O19/AF19)/(1-(1-(O19/AF19))*(AB19/J19)))*100) -> XX | Q19: =IF(E19="XX", "XX", 0.7543*(T19*(1+1.6078*O19))/H19) -> XX | R19: =IF(E19="XX", "XX", 1/Q19) -> XX | S19: =IF(E19="XX", "XX", 0.24*L19+O19*(1061+0.444*L19)) -> XX | T19: =IF(E19="XX", "XX", L19+459.7) -> XX | U19: =IF(E19="XX", "XX", M19+459.7) -> XX | X19: =B19 -> 22 | Y19: =D19 -> XX | Z19: =IF(E19="XX", "XX", EXP((-10440.397/U19)+(-11.29465) + (-0.027022355*U19) + (0.00001289036*U19*U19) + (-0.0000000024780681*U19^3)+(6.5459673*LN(U19))) ) -> XX | AA19: =IF(E19="XX", "XX", 0.62198*Z19/(J19-Z19)) -> XX | AB19: =IF(E19="XX", "XX", EXP((-10440.397/T19)+(-11.29465) + (-0.027022355*T19) + (0.00001289036*T19*T19) + (-0.0000000024780681*T19^3)+(6.5459673*LN(T19))) ) -> XX | AC19: =IF(E19="XX", "XX", AB19*2.041772658 ) -> XX | AD19: =IF(E19="XX", "XX", (H19*O19)/(0.62198+O19)) -> XX | AE19: =IF(E19="XX", "XX", LN(AD19*0.4897705)) -> XX | AF19: =IF(E19="XX", "XX", 0.62198*(AB19/(J19-AB19))) -> XX | AH19: =IF(D19="XX", "XX", E19- $D$4) -> XX | AI19: =IF(D19="XX", "XX", $AN$3 * R19 * (T19-$T$7)/$T$7 * $AP$3 * ($H$4-AH19)) -> XX | AJ19: =IF(D19="XX", "XX", $AR$3 * $AN$4^2 * $AR$4 * R19 * K19^2/2) -> XX | AK19: =IF(D19="XX", "XX", AI19 +AJ19) -> XX | AL19: =IF(D19="XX", "XX", AK19 +$AK$16) -> XX | AM19: =IF(D19="XX", "XX", 60 * ($AP$4 * $AN$16 * (2 * ABS(AL19)/R19)^0.5)) -> XX | AN19: =IF(D19="XX", "XX", IF(AL19<0, "Exfl", "Infl")) -> XX | AO19: =IF(AN19="Infl", -AM19, AM19) -> XX | AP19: =IF(D19="XX", "XX", AO19/$K$10) -> XX | AQ19: =IF(D19="XX", "XX", AO19*1.08*(L19-$L$8)) -> XX | AR19: =IF(D19="XX", "XX", AO19 * 1.08 * 3000/1000) -> XX
B20: ='Input-Output'!AI10 -> 21 | C20: ='Input-Output'!AJ10 -> 10 | D20: ='Input-Output'!AK10 -> 93 | E20: ='Input-Output'!AL10 -> 1689 | F20: ='Input-Output'!AM10 -> 514.8072 | G20: =IF(E20="XX","XX",((101325*(1-2.25577*(10^(-5))*F20)^5.2555)/1000)) -> 95.291881 | H20: =IF(E20="XX", "XX", G20*$AB$3) -> 28.216406 | I20: =IF(E20="XX", "XX", G20*$AD$3) -> 382.93669 | J20: =IF(E20="XX", "XX",G20*$AF$3) -> 13.820913 | K20: =IF(E20="XX", "XX", ( $K$65 + $U$4 * (E20-$D$4)/$F$4 ) ) -> 19.541635 | L20: =IF(E20="XX", "XX", $L$65 - 0.00356*(E20-$E$65)) -> -20.23284 | M20: =IF(E20="XX","XX ", $M$65-0.00356*(E20-$E$65)) -> -20.23284 | N20: =IF(E20="XX","XX",100.45+33.193*AE20+2.319*AE20^2+0.17074*AE20^3+1.2063*(AD20*0.4897705)^3) -> -24.602522 | O20: =IF(E20="XX","XX ",((1093-0.556*M20)*AA20-0.24*(L20-M20))/(1093+0.444*L20-M20)) -> 0.00036618558 | P20: =IF(E20="XX", "XX", ((O20/AF20)/(1-(1-(O20/AF20))*(AB20/J20)))*100) -> 100 | Q20: =IF(E20="XX", "XX", 0.7543*(T20*(1+1.6078*O20))/H20) -> 11.755049 | R20: =IF(E20="XX", "XX", 1/Q20) -> 0.085069825 | S20: =IF(E20="XX", "XX", 0.24*L20+O20*(1061+0.444*L20)) -> -4.4706483 | T20: =IF(E20="XX", "XX", L20+459.7) -> 439.46716 | U20: =IF(E20="XX", "XX", M20+459.7) -> 439.46716 | X20: =B20 -> 21 | Y20: =D20 -> 93 | Z20: =IF(E20="XX", "XX", EXP((-10440.397/U20)+(-11.29465) + (-0.027022355*U20) + (0.00001289036*U20*U20) + (-0.0000000024780681*U20^3)+(6.5459673*LN(U20))) ) -> 0.0081321607 | AA20: =IF(E20="XX", "XX", 0.62198*Z20/(J20-Z20)) -> 0.00036618558 | AB20: =IF(E20="XX", "XX", EXP((-10440.397/T20)+(-11.29465) + (-0.027022355*T20) + (0.00001289036*T20*T20) + (-0.0000000024780681*T20^3)+(6.5459673*LN(T20))) ) -> 0.0081321607 | AC20: =IF(E20="XX", "XX", AB20*2.041772658 ) -> 0.016604023 | AD20: =IF(E20="XX", "XX", (H20*O20)/(0.62198+O20)) -> 0.016602401 | AE20: =IF(E20="XX", "XX", LN(AD20*0.4897705)) -> -4.8120263 | AF20: =IF(E20="XX", "XX", 0.62198*(AB20/(J20-AB20))) -> 0.00036618558 | AH20: =IF(D20="XX", "XX", E20- $D$4) -> 1189 | AI20: =IF(D20="XX", "XX", $AN$3 * R20 * (T20-$T$7)/$T$7 * $AP$3 * ($H$4-AH20)) -> 0.15579447 | AJ20: =IF(D20="XX", "XX", $AR$3 * $AN$4^2 * $AR$4 * R20 * K20^2/2) -> 0.0021960591 | AK20: =IF(D20="XX", "XX", AI20 +AJ20) -> 0.15799053 | AL20: =IF(D20="XX", "XX", AK20 +$AK$16) -> 0.16299053 | AM20: =IF(D20="XX", "XX", 60 * ($AP$4 * $AN$16 * (2 * ABS(AL20)/R20)^0.5)) -> 1710.0982 | AN20: =IF(D20="XX", "XX", IF(AL20<0, "Exfl", "Infl")) -> Infl | AO20: =IF(AN20="Infl", -AM20, AM20) -> -1710.0982 | AP20: =IF(D20="XX", "XX", AO20/$K$10) -> -0.20358312 | AQ20: =IF(D20="XX", "XX", AO20*1.08*(L20-$L$8)) -> 170345.39 | AR20: =IF(D20="XX", "XX", AO20 * 1.08 * 3000/1000) -> -5540.7181
B21: ='Input-Output'!AI11 -> 20 | C21: ='Input-Output'!AJ11 -> 5 | D21: ='Input-Output'!AK11 -> 88 | E21: ='Input-Output'!AL11 -> 1639 | F21: ='Input-Output'!AM11 -> 499.5672 | G21: =IF(E21="XX","XX",((101325*(1-2.25577*(10^(-5))*F21)^5.2555)/1000)) -> 95.4662 | H21: =IF(E21="XX", "XX", G21*$AB$3) -> 28.268022 | I21: =IF(E21="XX", "XX", G21*$AD$3) -> 383.6372 | J21: =IF(E21="XX", "XX",G21*$AF$3) -> 13.846196 | K21: =IF(E21="XX", "XX", ( $K$65 + $U$4 * (E21-$D$4)/$F$4 ) ) -> 19.350649 | L21: =IF(E21="XX", "XX", $L$65 - 0.00356*(E21-$E$65)) -> -20.05484 | M21: =IF(E21="XX","XX ", $M$65-0.00356*(E21-$E$65)) -> -20.05484 | N21: =IF(E21="XX","XX",100.45+33.193*AE21+2.319*AE21^2+0.17074*AE21^3+1.2063*(AD21*0.4897705)^3) -> -24.392894 | O21: =IF(E21="XX","XX ",((1093-0.556*M21)*AA21-0.24*(L21-M21))/(1093+0.444*L21-M21)) -> 0.00036890449 | P21: =IF(E21="XX", "XX", ((O21/AF21)/(1-(1-(O21/AF21))*(AB21/J21)))*100) -> 100 | Q21: =IF(E21="XX", "XX", 0.7543*(T21*(1+1.6078*O21))/H21) -> 11.738389 | R21: =IF(E21="XX", "XX", 1/Q21) -> 0.085190567 | S21: =IF(E21="XX", "XX", 0.24*L21+O21*(1061+0.444*L21)) -> -4.4250388 | T21: =IF(E21="XX", "XX", L21+459.7) -> 439.64516 | U21: =IF(E21="XX", "XX", M21+459.7) -> 439.64516 | X21: =B21 -> 20 | Y21: =D21 -> 88 | Z21: =IF(E21="XX", "XX", EXP((-10440.397/U21)+(-11.29465) + (-0.027022355*U21) + (0.00001289036*U21*U21) + (-0.0000000024780681*U21^3)+(6.5459673*LN(U21))) ) -> 0.0082074925 | AA21: =IF(E21="XX", "XX", 0.62198*Z21/(J21-Z21)) -> 0.00036890449 | AB21: =IF(E21="XX", "XX", EXP((-10440.397/T21)+(-11.29465) + (-0.027022355*T21) + (0.00001289036*T21*T21) + (-0.0000000024780681*T21^3)+(6.5459673*LN(T21))) ) -> 0.0082074925 | AC21: =IF(E21="XX", "XX", AB21*2.041772658 ) -> 0.016757834 | AD21: =IF(E21="XX", "XX", (H21*O21)/(0.62198+O21)) -> 0.016756196 | AE21: =IF(E21="XX", "XX", LN(AD21*0.4897705)) -> -4.8028055 | AF21: =IF(E21="XX", "XX", 0.62198*(AB21/(J21-AB21))) -> 0.00036890449 | AH21: =IF(D21="XX", "XX", E21- $D$4) -> 1139 | AI21: =IF(D21="XX", "XX", $AN$3 * R21 * (T21-$T$7)/$T$7 * $AP$3 * ($H$4-AH21)) -> 0.14115673 | AJ21: =IF(D21="XX", "XX", $AR$3 * $AN$4^2 * $AR$4 * R21 * K21^2/2) -> 0.0021563998 | AK21: =IF(D21="XX", "XX", AI21 +AJ21) -> 0.14331313 | AL21: =IF(D21="XX", "XX", AK21 +$AK$16) -> 0.14831313 | AM21: =IF(D21="XX", "XX", 60 * ($AP$4 * $AN$16 * (2 * ABS(AL21)/R21)^0.5)) -> 1630.1279 | AN21: =IF(D21="XX", "XX", IF(AL21<0, "Exfl", "Infl")) -> Infl | AO21: =IF(AN21="Infl", -AM21, AM21) -> -1630.1279 | AP21: =IF(D21="XX", "XX", AO21/$K$10) -> -0.19406284 | AQ21: =IF(D21="XX", "XX", AO21*1.08*(L21-$L$8)) -> 162066.05 | AR21: =IF(D21="XX", "XX", AO21 * 1.08 * 3000/1000) -> -5281.6142
B23: ='Input-Output'!AK12 -> 6 (x) | E23: No. of Flrs | G23: ='Input-Output'!AE22 -> 25 | H23: Envel-Area per Flr (ft2) | K23: ='Input-Output'!AE32 -> 5600 | X23: =B23 -> 6 (x) | Z23: % Envel-Leakg | AB23: ='Input-Output'!AE24 -> 0.35 | AC23: Leakg Flow Cf | AE23: =-'Input-Output'!AE25 -> -0.6 | AH23: Inside-Outside (PI-PO) | AK23: ='Input-Output'!AE26 -> 0.005 | AL23: Envel Leakg A | AN23: ='Input-Output'!AE33 -> 19.6 | AO23: Section Infltr (K-btu/yr) | AR23: =SUM(AR26:AR29) -> -11529.72
B24: Level | C24: Sctn | D24: Bldg | E24: Alt ref Sea-Lvl | G24: Outdoor Std. Atm. Press. @ Altit | K24: Wnd Vel | L24: DB | M24: WB | N24: DP | O24: W | P24: RH | Q24: V | R24: d | S24: H | T24: Tdb | U24: Twb | X24: =B24 -> Level | Y24: =D24 -> Bldg | Z24: Psychrometric Calculations for DP, RH, V, W, H, TR | AH24: Floor | AI24: ∆PS | AJ24: ∆PW | AK24: ∆P = | AL24: ∆P + | AM24: Leakg Q | AN24: Exfl - | AO24: Leakage | AP24: Q / | AQ24: SHL | AR24: SHL/yr
B25: ID No. | C25: Flr No. | D25: Flr No. | E25: feet | F25: meters | G25: K-Pa | H25: in.Hg | I25: in.H2O | J25: psi | K25: mph | L25: F | M25: F | N25: F | O25: lbs/b | P25: % | Q25: ft3/lb | R25: lbs/ft3 | S25: btu/lb | T25: R | U25: R | X25: =B25 -> ID No. | Y25: =D25 -> Flr No. | Z25: PWSwb | AA25: WSwb | AB25: PWSdb | AC25: VPs | AD25: VPa | AE25: a | AF25: WSdb | AH25: Hght | AI25: in.H2O | AJ25: in.H2O | AK25: ∆PW+∆PS | AL25: PI - PO | AM25: ft3/min | AN25: Infl + | AO25: ft3/min | AP25: Envel-A | AQ25: btuh | AR25: K-btu
B26: ='Input-Output'!AI13 -> 19 | C26: ='Input-Output'!AJ13 -> 0 | D26: ='Input-Output'!AK13 -> XX | E26: ='Input-Output'!AL13 -> XX | F26: ='Input-Output'!AM13 -> XX | G26: =IF(E26="XX","XX",((101325*(1-2.25577*(10^(-5))*F26)^5.2555)/1000)) -> XX | H26: =IF(E26="XX", "XX", G26*$AB$3) -> XX | I26: =IF(E26="XX", "XX", G26*$AD$3) -> XX | J26: =IF(E26="XX", "XX",G26*$AF$3) -> XX | K26: =IF(E26="XX", "XX", ( $K$65 + $U$4 * (E26-$D$4)/$F$4 ) ) -> XX | L26: =IF(E26="XX", "XX", $L$65 - 0.00356*(E26-$E$65)) -> XX | M26: =IF(E26="XX","XX ", $M$65-0.00356*(E26-$E$65)) -> XX | N26: =IF(E26="XX","XX",100.45+33.193*AE26+2.319*AE26^2+0.17074*AE26^3+1.2063*(AD26*0.4897705)^3) -> XX | O26: =IF(E26="XX","XX ",((1093-0.556*M26)*AA26-0.24*(L26-M26))/(1093+0.444*L26-M26)) -> XX | P26: =IF(E26="XX", "XX", ((O26/AF26)/(1-(1-(O26/AF26))*(AB26/J26)))*100) -> XX | Q26: =IF(E26="XX", "XX", 0.7543*(T26*(1+1.6078*O26))/H26) -> XX | R26: =IF(E26="XX", "XX", 1/Q26) -> XX | S26: =IF(E26="XX", "XX", 0.24*L26+O26*(1061+0.444*L26)) -> XX | T26: =IF(E26="XX", "XX", L26+459.7) -> XX | U26: =IF(E26="XX", "XX", M26+459.7) -> XX | X26: =B26 -> 19 | Y26: =D26 -> XX | Z26: =IF(E26="XX", "XX", EXP((-10440.397/U26)+(-11.29465) + (-0.027022355*U26) + (0.00001289036*U26*U26) + (-0.0000000024780681*U26^3)+(6.5459673*LN(U26))) ) -> XX | AA26: =IF(E26="XX", "XX", 0.62198*Z26/(J26-Z26)) -> XX | AB26: =IF(E26="XX", "XX", EXP((-10440.397/T26)+(-11.29465) + (-0.027022355*T26) + (0.00001289036*T26*T26) + (-0.0000000024780681*T26^3)+(6.5459673*LN(T26))) ) -> XX | AC26: =IF(E26="XX", "XX", AB26*2.041772658 ) -> XX | AD26: =IF(E26="XX", "XX", (H26*O26)/(0.62198+O26)) -> XX | AE26: =IF(E26="XX", "XX", LN(AD26*0.4897705)) -> XX | AF26: =IF(E26="XX", "XX", 0.62198*(AB26/(J26-AB26))) -> XX | AH26: =IF(D26="XX", "XX", E26- $D$4) -> XX | AI26: =IF(D26="XX", "XX", $AN$3 * R26 * (T26-$T$7)/$T$7 * $AP$3 * ($H$4-AH26)) -> XX | AJ26: =IF(D26="XX", "XX", $AR$3 * $AN$4^2 * $AR$4 * R26 * K26^2/2) -> XX | AK26: =IF(D26="XX", "XX", AI26 +AJ26) -> XX | AL26: =IF(D26="XX", "XX", AK26 +$AK$23) -> XX | AM26: =IF(D26="XX", "XX", 60 * ($AP$4 * $AN$23 * (2 * ABS(AL26)/R26)^0.5)) -> XX | AN26: =IF(D26="XX", "XX", IF(AL26<0, "Exfl", "Infl")) -> XX | AO26: =IF(AN26="Infl", -AM26, AM26) -> XX | AP26: =IF(D26="XX", "XX", AO26/$K$10) -> XX | AQ26: =IF(D26="XX", "XX", AO26*1.08*(L26-$L$8)) -> XX | AR26: =IF(D26="XX", "XX", AO26 * 1.08 * 3000/1000) -> XX
B27: ='Input-Output'!AI14 -> 18 | C27: ='Input-Output'!AJ14 -> 25 | D27: ='Input-Output'!AK14 -> 83 | E27: ='Input-Output'!AL14 -> 1589 | F27: ='Input-Output'!AM14 -> 484.3272 | G27: =IF(E27="XX","XX",((101325*(1-2.25577*(10^(-5))*F27)^5.2555)/1000)) -> 95.640776 | H27: =IF(E27="XX", "XX", G27*$AB$3) -> 28.319715 | I27: =IF(E27="XX", "XX", G27*$AD$3) -> 384.33875 | J27: =IF(E27="XX", "XX",G27*$AF$3) -> 13.871516 | K27: =IF(E27="XX", "XX", ( $K$65 + $U$4 * (E27-$D$4)/$F$4 ) ) -> 19.159664 | L27: =IF(E27="XX", "XX", $L$65 - 0.00356*(E27-$E$65)) -> -19.87684 | M27: =IF(E27="XX","XX ", $M$65-0.00356*(E27-$E$65)) -> -19.87684 | N27: =IF(E27="XX","XX",100.45+33.193*AE27+2.319*AE27^2+0.17074*AE27^3+1.2063*(AD27*0.4897705)^3) -> -24.183478 | O27: =IF(E27="XX","XX ",((1093-0.556*M27)*AA27-0.24*(L27-M27))/(1093+0.444*L27-M27)) -> 0.00037164077 | P27: =IF(E27="XX", "XX", ((O27/AF27)/(1-(1-(O27/AF27))*(AB27/J27)))*100) -> 100 | Q27: =IF(E27="XX", "XX", 0.7543*(T27*(1+1.6078*O27))/H27) -> 11.721758 | R27: =IF(E27="XX", "XX", 1/Q27) -> 0.085311437 | S27: =IF(E27="XX", "XX", 0.24*L27+O27*(1061+0.444*L27)) -> -4.3794106 | T27: =IF(E27="XX", "XX", L27+459.7) -> 439.82316 | U27: =IF(E27="XX", "XX", M27+459.7) -> 439.82316 | X27: =B27 -> 18 | Y27: =D27 -> 83 | Z27: =IF(E27="XX", "XX", EXP((-10440.397/U27)+(-11.29465) + (-0.027022355*U27) + (0.00001289036*U27*U27) + (-0.0000000024780681*U27^3)+(6.5459673*LN(U27))) ) -> 0.0082834537 | AA27: =IF(E27="XX", "XX", 0.62198*Z27/(J27-Z27)) -> 0.00037164077 | AB27: =IF(E27="XX", "XX", EXP((-10440.397/T27)+(-11.29465) + (-0.027022355*T27) + (0.00001289036*T27*T27) + (-0.0000000024780681*T27^3)+(6.5459673*LN(T27))) ) -> 0.0082834537 | AC27: =IF(E27="XX", "XX", AB27*2.041772658 ) -> 0.016912929 | AD27: =IF(E27="XX", "XX", (H27*O27)/(0.62198+O27)) -> 0.016911277 | AE27: =IF(E27="XX", "XX", LN(AD27*0.4897705)) -> -4.793593 | AF27: =IF(E27="XX", "XX", 0.62198*(AB27/(J27-AB27))) -> 0.00037164077 | AH27: =IF(D27="XX", "XX", E27- $D$4) -> 1089 | AI27: =IF(D27="XX", "XX", $AN$3 * R27 * (T27-$T$7)/$T$7 * $AP$3 * ($H$4-AH27)) -> 0.12653169 | AJ27: =IF(D27="XX", "XX", $AR$3 * $AN$4^2 * $AR$4 * R27 * K27^2/2) -> 0.0021170432 | AK27: =IF(D27="XX", "XX", AI27 +AJ27) -> 0.12864873 | AL27: =IF(D27="XX", "XX", AK27 +$AK$23) -> 0.13364873 | AM27: =IF(D27="XX", "XX", 60 * ($AP$4 * $AN$23 * (2 * ABS(AL27)/R27)^0.5)) -> 1353.052 | AN27: =IF(D27="XX", "XX", IF(AL27<0, "Exfl", "Infl")) -> Infl | AO27: =IF(AN27="Infl", -AM27, AM27) -> -1353.052 | AP27: =IF(D27="XX", "XX", AO27/$K$10) -> -0.16107761 | AQ27: =IF(D27="XX", "XX", AO27*1.08*(L27-$L$8)) -> 134259.27 | AR27: =IF(D27="XX", "XX", AO27 * 1.08 * 3000/1000) -> -4383.8883
B28: ='Input-Output'!AI15 -> 17 | C28: ='Input-Output'!AJ15 -> 15 | D28: ='Input-Output'!AK15 -> 73 | E28: ='Input-Output'!AL15 -> 1489 | F28: ='Input-Output'!AM15 -> 453.8472 | G28: =IF(E28="XX","XX",((101325*(1-2.25577*(10^(-5))*F28)^5.2555)/1000)) -> 95.990706 | H28: =IF(E28="XX", "XX", G28*$AB$3) -> 28.423331 | I28: =IF(E28="XX", "XX", G28*$AD$3) -> 385.74496 | J28: =IF(E28="XX", "XX",G28*$AF$3) -> 13.922269 | K28: =IF(E28="XX", "XX", ( $K$65 + $U$4 * (E28-$D$4)/$F$4 ) ) -> 18.777693 | L28: =IF(E28="XX", "XX", $L$65 - 0.00356*(E28-$E$65)) -> -19.52084 | M28: =IF(E28="XX","XX ", $M$65-0.00356*(E28-$E$65)) -> -19.52084 | N28: =IF(E28="XX","XX",100.45+33.193*AE28+2.319*AE28^2+0.17074*AE28^3+1.2063*(AD28*0.4897705)^3) -> -23.765275 | O28: =IF(E28="XX","XX ",((1093-0.556*M28)*AA28-0.24*(L28-M28))/(1093+0.444*L28-M28)) -> 0.00037716579 | P28: =IF(E28="XX", "XX", ((O28/AF28)/(1-(1-(O28/AF28))*(AB28/J28)))*100) -> 100 | Q28: =IF(E28="XX", "XX", 0.7543*(T28*(1+1.6078*O28))/H28) -> 11.688584 | R28: =IF(E28="XX", "XX", 1/Q28) -> 0.085553565 | S28: =IF(E28="XX", "XX", 0.24*L28+O28*(1061+0.444*L28)) -> -4.2880977 | T28: =IF(E28="XX", "XX", L28+459.7) -> 440.17916 | U28: =IF(E28="XX", "XX", M28+459.7) -> 440.17916 | X28: =B28 -> 17 | Y28: =D28 -> 73 | Z28: =IF(E28="XX", "XX", EXP((-10440.397/U28)+(-11.29465) + (-0.027022355*U28) + (0.00001289036*U28*U28) + (-0.0000000024780681*U28^3)+(6.5459673*LN(U28))) ) -> 0.0084372834 | AA28: =IF(E28="XX", "XX", 0.62198*Z28/(J28-Z28)) -> 0.00037716579 | AB28: =IF(E28="XX", "XX", EXP((-10440.397/T28)+(-11.29465) + (-0.027022355*T28) + (0.00001289036*T28*T28) + (-0.0000000024780681*T28^3)+(6.5459673*LN(T28))) ) -> 0.0084372834 | AC28: =IF(E28="XX", "XX", AB28*2.041772658 ) -> 0.017227015 | AD28: =IF(E28="XX", "XX", (H28*O28)/(0.62198+O28)) -> 0.017225331 | AE28: =IF(E28="XX", "XX", LN(AD28*0.4897705)) -> -4.7751926 | AF28: =IF(E28="XX", "XX", 0.62198*(AB28/(J28-AB28))) -> 0.00037716579 | AH28: =IF(D28="XX", "XX", E28- $D$4) -> 989 | AI28: =IF(D28="XX", "XX", $AN$3 * R28 * (T28-$T$7)/$T$7 * $AP$3 * ($H$4-AH28)) -> 0.097320396 | AJ28: =IF(D28="XX", "XX", $AR$3 * $AN$4^2 * $AR$4 * R28 * K28^2/2) -> 0.0020392444 | AK28: =IF(D28="XX", "XX", AI28 +AJ28) -> 0.09935964 | AL28: =IF(D28="XX", "XX", AK28 +$AK$23) -> 0.10435964 | AM28: =IF(D28="XX", "XX", 60 * ($AP$4 * $AN$23 * (2 * ABS(AL28)/R28)^0.5)) -> 1193.9411 | AN28: =IF(D28="XX", "XX", IF(AL28<0, "Exfl", "Infl")) -> Infl | AO28: =IF(AN28="Infl", -AM28, AM28) -> -1193.9411 | AP28: =IF(D28="XX", "XX", AO28/$K$10) -> -0.14213585 | AQ28: =IF(D28="XX", "XX", AO28*1.08*(L28-$L$8)) -> 118012.13 | AR28: =IF(D28="XX", "XX", AO28 * 1.08 * 3000/1000) -> -3868.3692
B29: ='Input-Output'!AI16 -> 16 | C29: ='Input-Output'!AJ16 -> 5 | D29: ='Input-Output'!AK16 -> 63 | E29: ='Input-Output'!AL16 -> 1389 | F29: ='Input-Output'!AM16 -> 423.3672 | G29: =IF(E29="XX","XX",((101325*(1-2.25577*(10^(-5))*F29)^5.2555)/1000)) -> 96.341671 | H29: =IF(E29="XX", "XX", G29*$AB$3) -> 28.527254 | I29: =IF(E29="XX", "XX", G29*$AD$3) -> 387.15534 | J29: =IF(E29="XX", "XX",G29*$AF$3) -> 13.973172 | K29: =IF(E29="XX", "XX", ( $K$65 + $U$4 * (E29-$D$4)/$F$4 ) ) -> 18.395722 | L29: =IF(E29="XX", "XX", $L$65 - 0.00356*(E29-$E$65)) -> -19.16484 | M29: =IF(E29="XX","XX ", $M$65-0.00356*(E29-$E$65)) -> -19.16484 | N29: =IF(E29="XX","XX",100.45+33.193*AE29+2.319*AE29^2+0.17074*AE29^3+1.2063*(AD29*0.4897705)^3) -> -23.347905 | O29: =IF(E29="XX","XX ",((1093-0.556*M29)*AA29-0.24*(L29-M29))/(1093+0.444*L29-M29)) -> 0.00038276139 | P29: =IF(E29="XX", "XX", ((O29/AF29)/(1-(1-(O29/AF29))*(AB29/J29)))*100) -> 100 | Q29: =IF(E29="XX", "XX", 0.7543*(T29*(1+1.6078*O29))/H29) -> 11.655527 | R29: =IF(E29="XX", "XX", 1/Q29) -> 0.085796209 | S29: =IF(E29="XX", "XX", 0.24*L29+O29*(1061+0.444*L29)) -> -4.1967088 | T29: =IF(E29="XX", "XX", L29+459.7) -> 440.53516 | U29: =IF(E29="XX", "XX", M29+459.7) -> 440.53516 | X29: =B29 -> 16 | Y29: =D29 -> 63 | Z29: =IF(E29="XX", "XX", EXP((-10440.397/U29)+(-11.29465) + (-0.027022355*U29) + (0.00001289036*U29*U29) + (-0.0000000024780681*U29^3)+(6.5459673*LN(U29))) ) -> 0.0085936873 | AA29: =IF(E29="XX", "XX", 0.62198*Z29/(J29-Z29)) -> 0.00038276139 | AB29: =IF(E29="XX", "XX", EXP((-10440.397/T29)+(-11.29465) + (-0.027022355*T29) + (0.00001289036*T29*T29) + (-0.0000000024780681*T29^3)+(6.5459673*LN(T29))) ) -> 0.0085936873 | AC29: =IF(E29="XX", "XX", AB29*2.041772658 ) -> 0.017546356 | AD29: =IF(E29="XX", "XX", (H29*O29)/(0.62198+O29)) -> 0.017544641 | AE29: =IF(E29="XX", "XX", LN(AD29*0.4897705)) -> -4.7568251 | AF29: =IF(E29="XX", "XX", 0.62198*(AB29/(J29-AB29))) -> 0.00038276139 | AH29: =IF(D29="XX", "XX", E29- $D$4) -> 889 | AI29: =IF(D29="XX", "XX", $AN$3 * R29 * (T29-$T$7)/$T$7 * $AP$3 * ($H$4-AH29)) -> 0.068161914 | AJ29: =IF(D29="XX", "XX", $AR$3 * $AN$4^2 * $AR$4 * R29 * K29^2/2) -> 0.0019626753 | AK29: =IF(D29="XX", "XX", AI29 +AJ29) -> 0.070124589 | AL29: =IF(D29="XX", "XX", AK29 +$AK$23) -> 0.075124589 | AM29: =IF(D29="XX", "XX", 60 * ($AP$4 * $AN$23 * (2 * ABS(AL29)/R29)^0.5)) -> 1011.5624 | AN29: =IF(D29="XX", "XX", IF(AL29<0, "Exfl", "Infl")) -> Infl | AO29: =IF(AN29="Infl", -AM29, AM29) -> -1011.5624 | AP29: =IF(D29="XX", "XX", AO29/$K$10) -> -0.1204241 | AQ29: =IF(D29="XX", "XX", AO29*1.08*(L29-$L$8)) -> 99596.44 | AR29: =IF(D29="XX", "XX", AO29 * 1.08 * 3000/1000) -> -3277.4622
B31: ='Input-Output'!AK17 -> 5 | E31: No. of Flrs | G31: ='Input-Output'!AD22 -> 5 | H31: Envel-Area per Flr (ft2) | K31: ='Input-Output'!AD32 -> 9600 | X31: =B31 -> 5 | Z31: % Envel-Leakg | AB31: ='Input-Output'!AD24 -> 0.3 | AC31: Leakg Flow Cf | AE31: ='Input-Output'!AD25 -> 0.6 | AH31: Inside-Outside (PI-PO) | AK31: ='Input-Output'!AD26 -> 0.005 | AL31: Envel Leakg A | AN31: ='Input-Output'!AD33 -> 28.8 | AO31: Section Infltr (K-btu/yr) | AR31: =SUM(AR34:AR36) -> -11952.318
B32: Level | C32: Sctn | D32: Bldg | E32: Alt ref Sea-Lvl | G32: Outdoor Std. Atm. Press. @ Altit | K32: Wnd Vel | L32: DB | M32: WB | N32: DP | O32: W | P32: RH | Q32: V | R32: d | S32: H | T32: Tdb | U32: Twb | X32: =B32 -> Level | Y32: =D32 -> Bldg | Z32: Psychrometric Calculations for DP, RH, V, W, H, TR | AH32: Floor | AI32: ∆PS | AJ32: ∆PW | AK32: ∆P = | AL32: ∆P + | AM32: Leakg Q | AN32: Exfl - | AO32: Leakage | AP32: Q / | AQ32: SHL | AR32: SHL/yr
B33: ID No. | C33: Flr No. | D33: Flr No. | E33: feet | F33: meters | G33: K-Pa | H33: in.Hg | I33: in.H2O | J33: psi | K33: mph | L33: F | M33: F | N33: F | O33: lbs/b | P33: % | Q33: ft3/lb | R33: lbs/ft3 | S33: btu/lb | T33: R | U33: R | X33: =B33 -> ID No. | Y33: =D33 -> Flr No. | Z33: PWSwb | AA33: WSwb | AB33: PWSdb | AC33: VPs | AD33: VPa | AE33: a | AF33: WSdb | AH33: Hght | AI33: in.H2O | AJ33: in.H2O | AK33: ∆PW+∆PS | AL33: PI - PO | AM33: ft3/min | AN33: Infl + | AO33: ft3/min | AP33: Envel-A | AQ33: btuh | AR33: K-btu
B34: ='Input-Output'!AI18 -> 15 | C34: ='Input-Output'!AJ18 -> 5 | D34: ='Input-Output'!AK18 -> 58 | E34: ='Input-Output'!AL18 -> 1339 | F34: ='Input-Output'!AM18 -> 408.1272 | G34: =IF(E34="XX","XX",((101325*(1-2.25577*(10^(-5))*F34)^5.2555)/1000)) -> 96.517543 | H34: =IF(E34="XX", "XX", G34*$AB$3) -> 28.57933 | I34: =IF(E34="XX", "XX", G34*$AD$3) -> 387.86209 | J34: =IF(E34="XX", "XX",G34*$AF$3) -> 13.998681 | K34: =IF(E34="XX", "XX", ( $K$65 + $U$4 * (E34-$D$4)/$F$4 ) ) -> 18.204736 | L34: =IF(E34="XX", "XX", $L$65 - 0.00356*(E34-$E$65)) -> -18.98684 | M34: =IF(E34="XX","XX ", $M$65-0.00356*(E34-$E$65)) -> -18.98684 | N34: =IF(E34="XX","XX",100.45+33.193*AE34+2.319*AE34^2+0.17074*AE34^3+1.2063*(AD34*0.4897705)^3) -> -23.13953 | O34: =IF(E34="XX","XX ",((1093-0.556*M34)*AA34-0.24*(L34-M34))/(1093+0.444*L34-M34)) -> 0.00038558588 | P34: =IF(E34="XX", "XX", ((O34/AF34)/(1-(1-(O34/AF34))*(AB34/J34)))*100) -> 100 | Q34: =IF(E34="XX", "XX", 0.7543*(T34*(1+1.6078*O34))/H34) -> 11.639042 | R34: =IF(E34="XX", "XX", 1/Q34) -> 0.085917724 | S34: =IF(E34="XX", "XX", 0.24*L34+O34*(1061+0.444*L34)) -> -4.1509855 | T34: =IF(E34="XX", "XX", L34+459.7) -> 440.71316 | U34: =IF(E34="XX", "XX", M34+459.7) -> 440.71316 | X34: =B34 -> 15 | Y34: =D34 -> 58 | Z34: =IF(E34="XX", "XX", EXP((-10440.397/U34)+(-11.29465) + (-0.027022355*U34) + (0.00001289036*U34*U34) + (-0.0000000024780681*U34^3)+(6.5459673*LN(U34))) ) -> 0.0086728664 | AA34: =IF(E34="XX", "XX", 0.62198*Z34/(J34-Z34)) -> 0.00038558588 | AB34: =IF(E34="XX", "XX", EXP((-10440.397/T34)+(-11.29465) + (-0.027022355*T34) + (0.00001289036*T34*T34) + (-0.0000000024780681*T34^3)+(6.5459673*LN(T34))) ) -> 0.0086728664 | AC34: =IF(E34="XX", "XX", AB34*2.041772658 ) -> 0.017708022 | AD34: =IF(E34="XX", "XX", (H34*O34)/(0.62198+O34)) -> 0.017706291 | AE34: =IF(E34="XX", "XX", LN(AD34*0.4897705)) -> -4.7476536 | AF34: =IF(E34="XX", "XX", 0.62198*(AB34/(J34-AB34))) -> 0.00038558588 | AH34: =IF(D34="XX", "XX", E34- $D$4) -> 839 | AI34: =IF(D34="XX", "XX", $AN$3 * R34 * (T34-$T$7)/$T$7 * $AP$3 * ($H$4-AH34)) -> 0.053602895 | AJ34: =IF(D34="XX", "XX", $AR$3 * $AN$4^2 * $AR$4 * R34 * K34^2/2) -> 0.001924856 | AK34: =IF(D34="XX", "XX", AI34 +AJ34) -> 0.055527751 | AL34: =IF(D34="XX", "XX", AK34 +$AK$31) -> 0.060527751 | AM34: =IF(D34="XX", "XX", 60 * ($AP$4 * $AN$31 * (2 * ABS(AL34)/R34)^0.5)) -> 1333.2389 | AN34: =IF(D34="XX", "XX", IF(AL34<0, "Exfl", "Infl")) -> Infl | AO34: =IF(AN34="Infl", -AM34, AM34) -> -1333.2389 | AP34: =IF(D34="XX", "XX", AO34/$K$10) -> -0.15871892 | AQ34: =IF(D34="XX", "XX", AO34*1.08*(L34-$L$8)) -> 131011.77 | AR34: =IF(D34="XX", "XX", AO34 * 1.08 * 3000/1000) -> -4319.6941
B35: ='Input-Output'!AI19 -> 14 | C35: ='Input-Output'!AJ19 -> 3 | D35: ='Input-Output'!AK19 -> 56 | E35: ='Input-Output'!AL19 -> 1309 | F35: ='Input-Output'!AM19 -> 398.9832 | G35: =IF(E35="XX","XX",((101325*(1-2.25577*(10^(-5))*F35)^5.2555)/1000)) -> 96.62319 | H35: =IF(E35="XX", "XX", G35*$AB$3) -> 28.610613 | I35: =IF(E35="XX", "XX", G35*$AD$3) -> 388.28665 | J35: =IF(E35="XX", "XX",G35*$AF$3) -> 14.014003 | K35: =IF(E35="XX", "XX", ( $K$65 + $U$4 * (E35-$D$4)/$F$4 ) ) -> 18.090145 | L35: =IF(E35="XX", "XX", $L$65 - 0.00356*(E35-$E$65)) -> -18.88004 | M35: =IF(E35="XX","XX ", $M$65-0.00356*(E35-$E$65)) -> -18.88004 | N35: =IF(E35="XX","XX",100.45+33.193*AE35+2.319*AE35^2+0.17074*AE35^3+1.2063*(AD35*0.4897705)^3) -> -23.014603 | O35: =IF(E35="XX","XX ",((1093-0.556*M35)*AA35-0.24*(L35-M35))/(1093+0.444*L35-M35)) -> 0.00038728917 | P35: =IF(E35="XX", "XX", ((O35/AF35)/(1-(1-(O35/AF35))*(AB35/J35)))*100) -> 100 | Q35: =IF(E35="XX", "XX", 0.7543*(T35*(1+1.6078*O35))/H35) -> 11.629165 | R35: =IF(E35="XX", "XX", 1/Q35) -> 0.085990696 | S35: =IF(E35="XX", "XX", 0.24*L35+O35*(1061+0.444*L35)) -> -4.1235423 | T35: =IF(E35="XX", "XX", L35+459.7) -> 440.81996 | U35: =IF(E35="XX", "XX", M35+459.7) -> 440.81996 | X35: =B35 -> 14 | Y35: =D35 -> 56 | Z35: =IF(E35="XX", "XX", EXP((-10440.397/U35)+(-11.29465) + (-0.027022355*U35) + (0.00001289036*U35*U35) + (-0.0000000024780681*U35^3)+(6.5459673*LN(U35))) ) -> 0.0087206894 | AA35: =IF(E35="XX", "XX", 0.62198*Z35/(J35-Z35)) -> 0.00038728917 | AB35: =IF(E35="XX", "XX", EXP((-10440.397/T35)+(-11.29465) + (-0.027022355*T35) + (0.00001289036*T35*T35) + (-0.0000000024780681*T35^3)+(6.5459673*LN(T35))) ) -> 0.0087206894 | AC35: =IF(E35="XX", "XX", AB35*2.041772658 ) -> 0.017805665 | AD35: =IF(E35="XX", "XX", (H35*O35)/(0.62198+O35)) -> 0.017803925 | AE35: =IF(E35="XX", "XX", LN(AD35*0.4897705)) -> -4.7421547 | AF35: =IF(E35="XX", "XX", 0.62198*(AB35/(J35-AB35))) -> 0.00038728917 | AH35: =IF(D35="XX", "XX", E35- $D$4) -> 809 | AI35: =IF(D35="XX", "XX", $AN$3 * R35 * (T35-$T$7)/$T$7 * $AP$3 * ($H$4-AH35)) -> 0.044874051 | AJ35: =IF(D35="XX", "XX", $AR$3 * $AN$4^2 * $AR$4 * R35 * K35^2/2) -> 0.0019023143 | AK35: =IF(D35="XX", "XX", AI35 +AJ35) -> 0.046776365 | AL35: =IF(D35="XX", "XX", AK35 +$AK$31) -> 0.051776365 | AM35: =IF(D35="XX", "XX", 60 * ($AP$4 * $AN$31 * (2 * ABS(AL35)/R35)^0.5)) -> 1232.5716 | AN35: =IF(D35="XX", "XX", IF(AL35<0, "Exfl", "Infl")) -> Infl | AO35: =IF(AN35="Infl", -AM35, AM35) -> -1232.5716 | AP35: =IF(D35="XX", "XX", AO35/$K$10) -> -0.14673471 | AQ35: =IF(D35="XX", "XX", AO35*1.08*(L35-$L$8)) -> 120977.44 | AR35: =IF(D35="XX", "XX", AO35 * 1.08 * 3000/1000) -> -3993.5318
B36: ='Input-Output'!AI20 -> 13 | C36: ='Input-Output'!AJ20 -> 1 | D36: ='Input-Output'!AK20 -> 54 | E36: ='Input-Output'!AL20 -> 1279 | F36: ='Input-Output'!AM20 -> 389.8392 | G36: =IF(E36="XX","XX",((101325*(1-2.25577*(10^(-5))*F36)^5.2555)/1000)) -> 96.728932 | H36: =IF(E36="XX", "XX", G36*$AB$3) -> 28.641924 | I36: =IF(E36="XX", "XX", G36*$AD$3) -> 388.71157 | J36: =IF(E36="XX", "XX",G36*$AF$3) -> 14.02934 | K36: =IF(E36="XX", "XX", ( $K$65 + $U$4 * (E36-$D$4)/$F$4 ) ) -> 17.975554 | L36: =IF(E36="XX", "XX", $L$65 - 0.00356*(E36-$E$65)) -> -18.77324 | M36: =IF(E36="XX","XX ", $M$65-0.00356*(E36-$E$65)) -> -18.77324 | N36: =IF(E36="XX","XX",100.45+33.193*AE36+2.319*AE36^2+0.17074*AE36^3+1.2063*(AD36*0.4897705)^3) -> -22.88975 | O36: =IF(E36="XX","XX ",((1093-0.556*M36)*AA36-0.24*(L36-M36))/(1093+0.444*L36-M36)) -> 0.00038899894 | P36: =IF(E36="XX", "XX", ((O36/AF36)/(1-(1-(O36/AF36))*(AB36/J36)))*100) -> 100 | Q36: =IF(E36="XX", "XX", 0.7543*(T36*(1+1.6078*O36))/H36) -> 11.619299 | R36: =IF(E36="XX", "XX", 1/Q36) -> 0.086063714 | S36: =IF(E36="XX", "XX", 0.24*L36+O36*(1061+0.444*L36)) -> -4.0960922 | T36: =IF(E36="XX", "XX", L36+459.7) -> 440.92676 | U36: =IF(E36="XX", "XX", M36+459.7) -> 440.92676 | X36: =B36 -> 13 | Y36: =D36 -> 54 | Z36: =IF(E36="XX", "XX", EXP((-10440.397/U36)+(-11.29465) + (-0.027022355*U36) + (0.00001289036*U36*U36) + (-0.0000000024780681*U36^3)+(6.5459673*LN(U36))) ) -> 0.0087687502 | AA36: =IF(E36="XX", "XX", 0.62198*Z36/(J36-Z36)) -> 0.00038899894 | AB36: =IF(E36="XX", "XX", EXP((-10440.397/T36)+(-11.29465) + (-0.027022355*T36) + (0.00001289036*T36*T36) + (-0.0000000024780681*T36^3)+(6.5459673*LN(T36))) ) -> 0.0087687502 | AC36: =IF(E36="XX", "XX", AB36*2.041772658 ) -> 0.017903794 | AD36: =IF(E36="XX", "XX", (H36*O36)/(0.62198+O36)) -> 0.017902045 | AE36: =IF(E36="XX", "XX", LN(AD36*0.4897705)) -> -4.7366587 | AF36: =IF(E36="XX", "XX", 0.62198*(AB36/(J36-AB36))) -> 0.00038899894 | AH36: =IF(D36="XX", "XX", E36- $D$4) -> 779 | AI36: =IF(D36="XX", "XX", $AN$3 * R36 * (T36-$T$7)/$T$7 * $AP$3 * ($H$4-AH36)) -> 0.036150176 | AJ36: =IF(D36="XX", "XX", $AR$3 * $AN$4^2 * $AR$4 * R36 * K36^2/2) -> 0.0018798852 | AK36: =IF(D36="XX", "XX", AI36 +AJ36) -> 0.038030061 | AL36: =IF(D36="XX", "XX", AK36 +$AK$31) -> 0.043030061 | AM36: =IF(D36="XX", "XX", 60 * ($AP$4 * $AN$31 * (2 * ABS(AL36)/R36)^0.5)) -> 1123.1766 | AN36: =IF(D36="XX", "XX", IF(AL36<0, "Exfl", "Infl")) -> Infl | AO36: =IF(AN36="Infl", -AM36, AM36) -> -1123.1766 | AP36: =IF(D36="XX", "XX", AO36/$K$10) -> -0.1337115 | AQ36: =IF(D36="XX", "XX", AO36*1.08*(L36-$L$8)) -> 110110.73 | AR36: =IF(D36="XX", "XX", AO36 * 1.08 * 3000/1000) -> -3639.0921
B38: ='Input-Output'!AK21 -> 4-k | E38: No. of Flrs | G38: ='Input-Output'!AC22 -> 40 | H38: Envel-Area per Flr (ft2) | K38: ='Input-Output'!AC32 -> 9720 | X38: =B38 -> 4-k | Z38: % Envel-Leakg | AB38: ='Input-Output'!AC24 -> 0.25 | AC38: Leakg Flow Cf | AE38: ='Input-Output'!AC25 -> 0.6 | AH38: Inside-Outside (PI-PO) | AK38: ='Input-Output'!AC26 -> 0.005 | AL38: Envel Leakg A | AN38: ='Input-Output'!AC33 -> 24.3 | AO38: Section Infltr (K-btu/yr) | AR38: =SUM(AR41:AR45) -> 15211.575
B39: Level | C39: Sctn | D39: Bldg | E39: Alt ref Sea-Lvl | G39: Outdoor Std. Atm. Press. @ Altit | K39: Wnd Vel | L39: DB | M39: WB | N39: DP | O39: W | P39: RH | Q39: V | R39: d | S39: H | T39: Tdb | U39: Twb | X39: =B39 -> Level | Y39: =D39 -> Bldg | Z39: Psychrometric Calculations for DP, RH, V, W, H, TR | AH39: Floor | AI39: ∆PS | AJ39: ∆PW | AK39: ∆P = | AL39: ∆P + | AM39: Leakg Q | AN39: Exfl - | AO39: Leakage | AP39: Q / | AQ39: SHL | AR39: SHL/yr
B40: ID No. | C40: Flr No. | D40: Flr No. | E40: feet | F40: meters | G40: K-Pa | H40: in.Hg | I40: in.H2O | J40: psi | K40: mph | L40: F | M40: F | N40: F | O40: lbs/b | P40: % | Q40: ft3/lb | R40: lbs/ft3 | S40: btu/lb | T40: R | U40: R | X40: =B40 -> ID No. | Y40: =D40 -> Flr No. | Z40: PWSwb | AA40: WSwb | AB40: PWSdb | AC40: VPs | AD40: VPa | AE40: a | AF40: WSdb | AH40: Hght | AI40: in.H2O | AJ40: in.H2O | AK40: ∆PW+∆PS | AL40: PI - PO | AM40: ft3/min | AN40: Infl + | AO40: ft3/min | AP40: Envel-A | AQ40: btuh | AR40: K-btu
B41: ='Input-Output'!AI22 -> 12 | C41: ='Input-Output'!AJ22 -> 30 | D41: ='Input-Output'!AK22 -> 36 | E41: ='Input-Output'!AL22 -> 1109 | F41: ='Input-Output'!AM22 -> 338.0232 | G41: =IF(E41="XX","XX",((101325*(1-2.25577*(10^(-5))*F41)^5.2555)/1000)) -> 97.329905 | H41: =IF(E41="XX", "XX", G41*$AB$3) -> 28.819875 | I41: =IF(E41="XX", "XX", G41*$AD$3) -> 391.12662 | J41: =IF(E41="XX", "XX",G41*$AF$3) -> 14.116504 | K41: =IF(E41="XX", "XX", ( $K$65 + $U$4 * (E41-$D$4)/$F$4 ) ) -> 17.326203 | L41: =IF(E41="XX", "XX", $L$65 - 0.00356*(E41-$E$65)) -> -18.16804 | M41: =IF(E41="XX","XX ", $M$65-0.00356*(E41-$E$65)) -> -18.16804 | N41: =IF(E41="XX","XX",100.45+33.193*AE41+2.319*AE41^2+0.17074*AE41^3+1.2063*(AD41*0.4897705)^3) -> -22.183627 | O41: =IF(E41="XX","XX ",((1093-0.556*M41)*AA41-0.24*(L41-M41))/(1093+0.444*L41-M41)) -> 0.00039881079 | P41: =IF(E41="XX", "XX", ((O41/AF41)/(1-(1-(O41/AF41))*(AB41/J41)))*100) -> 100 | Q41: =IF(E41="XX", "XX", 0.7543*(T41*(1+1.6078*O41))/H41) -> 11.563586 | R41: =IF(E41="XX", "XX", 1/Q41) -> 0.086478362 | S41: =IF(E41="XX", "XX", 0.24*L41+O41*(1061+0.444*L41)) -> -3.9404084 | T41: =IF(E41="XX", "XX", L41+459.7) -> 441.53196 | U41: =IF(E41="XX", "XX", M41+459.7) -> 441.53196 | X41: =B41 -> 12 | Y41: =D41 -> 36 | Z41: =IF(E41="XX", "XX", EXP((-10440.397/U41)+(-11.29465) + (-0.027022355*U41) + (0.00001289036*U41*U41) + (-0.0000000024780681*U41^3)+(6.5459673*LN(U41))) ) -> 0.0090456388 | AA41: =IF(E41="XX", "XX", 0.62198*Z41/(J41-Z41)) -> 0.00039881079 | AB41: =IF(E41="XX", "XX", EXP((-10440.397/T41)+(-11.29465) + (-0.027022355*T41) + (0.00001289036*T41*T41) + (-0.0000000024780681*T41^3)+(6.5459673*LN(T41))) ) -> 0.0090456388 | AC41: =IF(E41="XX", "XX", AB41*2.041772658 ) -> 0.018469138 | AD41: =IF(E41="XX", "XX", (H41*O41)/(0.62198+O41)) -> 0.018467333 | AE41: =IF(E41="XX", "XX", LN(AD41*0.4897705)) -> -4.7055702 | AF41: =IF(E41="XX", "XX", 0.62198*(AB41/(J41-AB41))) -> 0.00039881079 | AH41: =IF(D41="XX", "XX", E41- $D$4) -> 609 | AI41: =IF(D41="XX", "XX", $AN$3 * R41 * (T41-$T$7)/$T$7 * $AP$3 * ($H$4-AH41)) -> -0.013189486 | AJ41: =IF(D41="XX", "XX", $AR$3 * $AN$4^2 * $AR$4 * R41 * K41^2/2) -> 0.0017549347 | AK41: =IF(D41="XX", "XX", AI41 +AJ41) -> -0.011434551 | AL41: =IF(D41="XX", "XX", AK41 +$AK$38) -> -0.0064345513 | AM41: =IF(D41="XX", "XX", 60 * ($AP$4 * $AN$38 * (2 * ABS(AL41)/R41)^0.5)) -> 365.58746 | AN41: =IF(D41="XX", "XX", IF(AL41<0, "Exfl", "Infl")) -> Exfl | AO41: =IF(AN41="Infl", -AM41, AM41) -> 365.58746 | AP41: =IF(D41="XX", "XX", AO41/$K$10) -> 0.043522316 | AQ41: =IF(D41="XX", "XX", AO41*1.08*(L41-$L$8)) -> -35601.449 | AR41: =IF(D41="XX", "XX", AO41 * 1.08 * 3000/1000) -> 1184.5034
B42: ='Input-Output'!AI23 -> 11 | C42: ='Input-Output'!AJ23 -> 25 | D42: ='Input-Output'!AK23 -> 31 | E42: ='Input-Output'!AL23 -> 1041.5 | F42: ='Input-Output'!AM23 -> 317.4492 | G42: =IF(E42="XX","XX",((101325*(1-2.25577*(10^(-5))*F42)^5.2555)/1000)) -> 97.569363 | H42: =IF(E42="XX", "XX", G42*$AB$3) -> 28.89078 | I42: =IF(E42="XX", "XX", G42*$AD$3) -> 392.0889 | J42: =IF(E42="XX", "XX",G42*$AF$3) -> 14.151234 | K42: =IF(E42="XX", "XX", ( $K$65 + $U$4 * (E42-$D$4)/$F$4 ) ) -> 17.068373 | L42: =IF(E42="XX", "XX", $L$65 - 0.00356*(E42-$E$65)) -> -17.92774 | M42: =IF(E42="XX","XX ", $M$65-0.00356*(E42-$E$65)) -> -17.92774 | N42: =IF(E42="XX","XX",100.45+33.193*AE42+2.319*AE42^2+0.17074*AE42^3+1.2063*(AD42*0.4897705)^3) -> -21.903899 | O42: =IF(E42="XX","XX ",((1093-0.556*M42)*AA42-0.24*(L42-M42))/(1093+0.444*L42-M42)) -> 0.0004027653 | P42: =IF(E42="XX", "XX", ((O42/AF42)/(1-(1-(O42/AF42))*(AB42/J42)))*100) -> 100 | Q42: =IF(E42="XX", "XX", 0.7543*(T42*(1+1.6078*O42))/H42) -> 11.541558 | R42: =IF(E42="XX", "XX", 1/Q42) -> 0.086643416 | S42: =IF(E42="XX", "XX", 0.24*L42+O42*(1061+0.444*L42)) -> -3.8785296 | T42: =IF(E42="XX", "XX", L42+459.7) -> 441.77226 | U42: =IF(E42="XX", "XX", M42+459.7) -> 441.77226 | X42: =B42 -> 11 | Y42: =D42 -> 31 | Z42: =IF(E42="XX", "XX", EXP((-10440.397/U42)+(-11.29465) + (-0.027022355*U42) + (0.00001289036*U42*U42) + (-0.0000000024780681*U42^3)+(6.5459673*LN(U42))) ) -> 0.0091577505 | AA42: =IF(E42="XX", "XX", 0.62198*Z42/(J42-Z42)) -> 0.0004027653 | AB42: =IF(E42="XX", "XX", EXP((-10440.397/T42)+(-11.29465) + (-0.027022355*T42) + (0.00001289036*T42*T42) + (-0.0000000024780681*T42^3)+(6.5459673*LN(T42))) ) -> 0.0091577505 | AC42: =IF(E42="XX", "XX", AB42*2.041772658 ) -> 0.018698045 | AD42: =IF(E42="XX", "XX", (H42*O42)/(0.62198+O42)) -> 0.018696217 | AE42: =IF(E42="XX", "XX", LN(AD42*0.4897705)) -> -4.6932524 | AF42: =IF(E42="XX", "XX", 0.62198*(AB42/(J42-AB42))) -> 0.0004027653 | AH42: =IF(D42="XX", "XX", E42- $D$4) -> 541.5 | AI42: =IF(D42="XX", "XX", $AN$3 * R42 * (T42-$T$7)/$T$7 * $AP$3 * ($H$4-AH42)) -> -0.032734179 | AJ42: =IF(D42="XX", "XX", $AR$3 * $AN$4^2 * $AR$4 * R42 * K42^2/2) -> 0.0017063437 | AK42: =IF(D42="XX", "XX", AI42 +AJ42) -> -0.031027835 | AL42: =IF(D42="XX", "XX", AK42 +$AK$38) -> -0.026027835 | AM42: =IF(D42="XX", "XX", 60 * ($AP$4 * $AN$38 * (2 * ABS(AL42)/R42)^0.5)) -> 734.57665 | AN42: =IF(D42="XX", "XX", IF(AL42<0, "Exfl", "Infl")) -> Exfl | AO42: =IF(AN42="Infl", -AM42, AM42) -> 734.57665 | AP42: =IF(D42="XX", "XX", AO42/$K$10) -> 0.087449601 | AQ42: =IF(D42="XX", "XX", AO42*1.08*(L42-$L$8)) -> -71343.523 | AR42: =IF(D42="XX", "XX", AO42 * 1.08 * 3000/1000) -> 2380.0283
